{"text_format":"1","workbook":"xlsx","n_sheets":7,"sheets":["Inputs","Account Setup","Monthly Values","Overall Networth","Comparatives","Print and Complete","Formulas"],"not_rendered":{"charts":2,"images":2,"macros":1,"external_links":0,"defined_names":5,"comments":0,"pivot_tables":0},"unopened":[],"bounds":{"document_bytes":16777216,"sheet_cells":100000,"rows_first":2000,"rows_last":500,"rows_between":2000,"halvings":0,"cell_chars":16384,"cell_head_chars":4096},"cells_cut":0,"cells_raw":0,"read":"whole","date_system":"1900"}

{"sheet":"Inputs","index":0,"n_rows":19,"n_cols":8,"rows_kept":19,"cut":false,"hidden":false,"merged":[[1,1,3,12],[18,1,19,3],[18,4,19,9],[5,10,7,12],[10,7,12,9],[10,10,12,12],[14,1,15,3],[14,4,15,9],[5,1,7,3],[5,4,7,6],[10,1,12,3],[10,4,12,6],[5,7,7,9],[34,2,34,6],[26,2,26,6],[30,2,30,6],[28,2,28,6],[24,2,24,6],[32,2,32,6]]}
[]
[null,"STEP 1: Fill in the Name(s) of yourself and your spouse if applicable. Then from the client name drop down select the combination of names you would like to filter throughout the calculator."]
[]
[]
[]
[null,"First Name:",null,null,null,null,null,"Last Name:"]
[]
[]
[]
[]
[null,"First Name:",null,null,null,null,null,"Last Name:"]
[]
[]
[]
[null,"Client Names",null,null,"Select From Dropdown"]
[]
[]
[]
[null,"Start Date:",null,null,"Select From Dropdown"]

{"sheet":"Account Setup","index":1,"n_rows":30,"n_cols":6,"rows_kept":30,"cut":false,"hidden":false,"merged":[[18,4,18,5],[1,1,3,5],[13,4,13,5],[5,1,5,2],[5,4,5,5],[16,1,16,2]]}
[]
[null,"STEP 2: Input any account you hold under the applicable header and select the Account Type from the drop down, if you'd like, give it a more personal title under \"Account Name\"."]
[]
[]
[]
[null,"Banking",null,null,"Real Estate"]
[null,"Account Type","Account Name/Details",null,"Type","Account Name/Details"]
[null,"Select From Dropdown",null,null,"Select From Dropdown"]
[null,"Select From Dropdown",null,null,"Select From Dropdown"]
[null,"Select From Dropdown",null,null,"Select From Dropdown"]
[null,"Select From Dropdown",null,null,"Select From Dropdown"]
[null,"Select From Dropdown",null,null,"Select From Dropdown"]
[null,"Select From Dropdown"]
[null,"Select From Dropdown",null,null,"Corporate Assets"]
[null,"Select From Dropdown",null,null,"Account Type","Account Name/Details"]
[null,null,null,null,"Select From Dropdown"]
[null,"Investments",null,null,"Select From Dropdown"]
[null,"Account Type","Account Name/Details"]
[null,"Select From Dropdown",null,null,"Liabilities"]
[null,"Select From Dropdown",null,null,"Type","Account Name/Details"]
[null,"Select From Dropdown",null,null,"Select From Dropdown"]
[null,"Select From Dropdown",null,null,"Select From Dropdown"]
[null,"Select From Dropdown",null,null,"Select From Dropdown"]
[null,"Select From Dropdown",null,null,"Select From Dropdown"]
[null,"Select From Dropdown",null,null,"Select From Dropdown"]
[null,"Select From Dropdown",null,null,"Select From Dropdown"]
[null,"Select From Dropdown",null,null,"Select From Dropdown"]
[null,"Select From Dropdown",null,null,"Select From Dropdown"]
[null,null,null,null,"Select From Dropdown"]
[null,null,null,null,"Select From Dropdown"]

{"sheet":"Monthly Values","index":2,"n_rows":78,"n_cols":123,"rows_kept":78,"cut":false,"hidden":false,"merged":[[36,99,36,110],[36,111,36,122],[6,99,6,110],[6,111,6,122],[6,75,6,86],[6,87,6,98],[20,75,20,86],[20,87,20,98],[36,75,36,86],[36,87,36,98],[20,99,20,110],[20,111,20,122],[58,99,58,110],[58,111,58,122],[47,99,47,110],[47,111,47,122],[58,75,58,86],[58,87,58,98],[47,75,47,86],[47,87,47,98],[6,51,6,62],[6,63,6,74],[58,15,58,26],[58,27,58,38],[58,39,58,50],[6,27,6,38],[6,39,6,50],[6,15,6,26],[58,51,58,62],[58,63,58,74],[47,51,47,62],[47,63,47,74],[20,51,20,62],[20,63,20,74],[36,51,36,62],[36,63,36,74],[20,15,20,26],[36,15,36,26],[47,27,47,38],[47,39,47,50],[20,27,20,38],[20,39,20,50],[36,27,36,38],[36,39,36,50],[47,15,47,26],[58,3,58,14],[20,3,20,14],[36,3,36,14],[6,3,6,14],[47,3,47,14]]}
[]
[null,null,"STEP 3: Enter any Account or Real Estate values beside the corresponding account or property for any and all possible months. You do not need to go into the past if you don't want to, this is to be used going forward for any months you choose to fill out!"]
[]
[null,null,"Assets"]
[]
[null,null,"Banking","Banking",null,null,null,null,null,null,null,null,null,null,null,"Banking",null,null,null,null,null,null,null,null,null,null,null,"Banking",null,null,null,null,null,null,null,null,null,null,null,"Banking",null,null,null,null,null,null,null,null,null,null,null,"Banking",null,null,null,null,null,null,null,null,null,null,null,"Banking",null,null,null,null,null,null,null,null,null,null,null,"Banking",null,null,null,null,null,null,null,null,null,null,null,"Banking",null,null,null,null,null,null,null,null,null,null,null,"Banking",null,null,null,null,null,null,null,null,null,null,null,"Banking"]
[null,null,null,"Account Values",null,null,null,null,null,null,null,null,null,null,null,"Account Values",null,null,null,null,null,null,null,null,null,null,null,"Account Values",null,null,null,null,null,null,null,null,null,null,null,"Account Values",null,null,null,null,null,null,null,null,null,null,null,"Account Values",null,null,null,null,null,null,null,null,null,null,null,"Account Values",null,null,null,null,null,null,null,null,null,null,null,"Account Values",null,null,null,null,null,null,null,null,null,null,null,"Account Values",null,null,null,null,null,null,null,null,null,null,null,"Account Values",null,null,null,null,null,null,null,null,null,null,null,"Account Values"]
[null,null,"Account Type","2020-01-01","2020-02-01","2020-03-01","2020-04-01","2020-05-01","2020-06-01","2020-07-01","2020-08-01","2020-09-01","2020-10-01","2020-11-01","2020-12-01","2021-01-01","2021-02-01","2021-03-01","2021-04-01","2021-05-01","2021-06-01","2021-07-01","2021-08-01","2021-09-01","2021-10-01","2021-11-01","2021-12-01","2022-01-01","2022-02-01","2022-03-01","2022-04-01","2022-05-01","2022-06-01","2022-07-01","2022-08-01","2022-09-01","2022-10-01","2022-11-01","2022-12-01","2023-01-01","2023-02-01","2023-03-01","2023-04-01","2023-05-01","2023-06-01","2023-07-01","2023-08-01","2023-09-01","2023-10-01","2023-11-01","2023-12-01","2024-01-01","2024-02-01","2024-03-01","2024-04-01","2024-05-01","2024-06-01","2024-07-01","2024-08-01","2024-09-01","2024-10-01","2024-11-01","2024-12-01","2025-01-01","2025-02-01","2025-03-01","2025-04-01","2025-05-01","2025-06-01","2025-07-01","2025-08-01","2025-09-01","2025-10-01","2025-11-01","2025-12-01","2026-01-01","2026-02-01","2026-03-01","2026-04-01","2026-05-01","2026-06-01","2026-07-01","2026-08-01","2026-09-01","2026-10-01","2026-11-01","2026-12-01","2027-01-01","2027-02-01","2027-03-01","2027-04-01","2027-05-01","2027-06-01","2027-07-01","2027-08-01","2027-09-01","2027-10-01","2027-11-01","2027-12-01","2028-01-01","2028-02-01","2028-03-01","2028-04-01","2028-05-01","2028-06-01","2028-07-01","2028-08-01","2028-09-01","2028-10-01","2028-11-01","2028-12-01","2029-01-01","2029-02-01","2029-03-01","2029-04-01","2029-05-01","2029-06-01","2029-07-01","2029-08-01","2029-09-01","2029-10-01","2029-11-01","2029-12-01"]
[null,null,{"$f":"IF(Formulas!Q18<>\"\",Formulas!Q18,Formulas!O18)","v":""}]
[null,null,{"$f":"IF(Formulas!Q19<>\"\",Formulas!Q19,Formulas!O19)","v":""}]
[null,null,{"$f":"IF(Formulas!Q20<>\"\",Formulas!Q20,Formulas!O20)","v":""}]
[null,null,{"$f":"IF(Formulas!Q21<>\"\",Formulas!Q21,Formulas!O21)","v":""}]
[null,null,{"$f":"IF(Formulas!Q22<>\"\",Formulas!Q22,Formulas!O22)","v":""}]
[null,null,{"$f":"IF(Formulas!Q23<>\"\",Formulas!Q23,Formulas!O23)","v":""}]
[null,null,{"$f":"IF(Formulas!Q24<>\"\",Formulas!Q24,Formulas!O24)","v":""}]
[null,null,{"$f":"IF(Formulas!Q25<>\"\",Formulas!Q25,Formulas!O25)","v":""}]
[null,null,"Total Banking",{"$f":"SUM(D9:D16)","v":0},{"$f":"SUM(E9:E16)","v":0},0,0,0,0,0,0,0,0,0,0,0,0,0,0,0,0,0,0,0,0,0,0,0,0,0,0,0,0,0,0,0,0,0,0,0,0,0,0,0,0,0,0,0,0,0,0,0,0,0,0,0,0,0,0,0,0,0,0,0,0,0,0,0,{"$f":"SUM(BQ9:BQ16)","v":0},0,0,0,0,0,0,0,0,0,0,0,0,0,0,0,0,0,0,0,0,0,0,0,0,0,0,0,0,0,0,0,0,0,0,0,0,0,0,0,0,0,0,0,0,0,0,0,0,0,0,0,0,0,0]
[]
[]
[null,null,"Investments","Investments",null,null,null,null,null,null,null,null,null,null,null,"Investments",null,null,null,null,null,null,null,null,null,null,null,"Investments",null,null,null,null,null,null,null,null,null,null,null,"Investments",null,null,null,null,null,null,null,null,null,null,null,"Investments",null,null,null,null,null,null,null,null,null,null,null,"Investments",null,null,null,null,null,null,null,null,null,null,null,"Investments",null,null,null,null,null,null,null,null,null,null,null,"Investments",null,null,null,null,null,null,null,null,null,null,null,"Investments",null,null,null,null,null,null,null,null,null,null,null,"Investments"]
[null,null,null,"Account Values",null,null,null,null,null,null,null,null,null,null,null,"Account Values",null,null,null,null,null,null,null,null,null,null,null,"Account Values",null,null,null,null,null,null,null,null,null,null,null,"Account Values",null,null,null,null,null,null,null,null,null,null,null,"Account Values",null,null,null,null,null,null,null,null,null,null,null,"Account Values",null,null,null,null,null,null,null,null,null,null,null,"Account Values",null,null,null,null,null,null,null,null,null,null,null,"Account Values",null,null,null,null,null,null,null,null,null,null,null,"Account Values",null,null,null,null,null,null,null,null,null,null,null,"Account Values"]
[null,null,"Account Type","2020-01-01","2020-02-01","2020-03-01","2020-04-01","2020-05-01","2020-06-01","2020-07-01","2020-08-01","2020-09-01","2020-10-01","2020-11-01","2020-12-01","2021-01-01","2021-02-01","2021-03-01","2021-04-01","2021-05-01","2021-06-01","2021-07-01","2021-08-01","2021-09-01","2021-10-01","2021-11-01","2021-12-01","2022-01-01","2022-02-01","2022-03-01","2022-04-01","2022-05-01","2022-06-01","2022-07-01","2022-08-01","2022-09-01","2022-10-01","2022-11-01","2022-12-01","2023-01-01","2023-02-01","2023-03-01","2023-04-01","2023-05-01","2023-06-01","2023-07-01","2023-08-01","2023-09-01","2023-10-01","2023-11-01","2023-12-01","2024-01-01","2024-02-01","2024-03-01","2024-04-01","2024-05-01","2024-06-01","2024-07-01","2024-08-01","2024-09-01","2024-10-01","2024-11-01","2024-12-01","2025-01-01","2025-02-01","2025-03-01","2025-04-01","2025-05-01","2025-06-01","2025-07-01","2025-08-01","2025-09-01","2025-10-01","2025-11-01","2025-12-01","2026-01-01","2026-02-01","2026-03-01","2026-04-01","2026-05-01","2026-06-01","2026-07-01","2026-08-01","2026-09-01","2026-10-01","2026-11-01","2026-12-01","2027-01-01","2027-02-01","2027-03-01","2027-04-01","2027-05-01","2027-06-01","2027-07-01","2027-08-01","2027-09-01","2027-10-01","2027-11-01","2027-12-01","2028-01-01","2028-02-01","2028-03-01","2028-04-01","2028-05-01","2028-06-01","2028-07-01","2028-08-01","2028-09-01","2028-10-01","2028-11-01","2028-12-01","2029-01-01","2029-02-01","2029-03-01","2029-04-01","2029-05-01","2029-06-01","2029-07-01","2029-08-01","2029-09-01","2029-10-01","2029-11-01","2029-12-01"]
[null,null,{"$f":"IF(Formulas!Q27<>\"\",Formulas!Q27,Formulas!O27)","v":""}]
[null,null,{"$f":"IF(Formulas!Q28<>\"\",Formulas!Q28,Formulas!O28)","v":""}]
[null,null,{"$f":"IF(Formulas!Q29<>\"\",Formulas!Q29,Formulas!O29)","v":""}]
[null,null,{"$f":"IF(Formulas!Q30<>\"\",Formulas!Q30,Formulas!O30)","v":""}]
[null,null,{"$f":"IF(Formulas!Q31<>\"\",Formulas!Q31,Formulas!O31)","v":""}]
[null,null,{"$f":"IF(Formulas!Q32<>\"\",Formulas!Q32,Formulas!O32)","v":""}]
[null,null,{"$f":"IF(Formulas!Q33<>\"\",Formulas!Q33,Formulas!O33)","v":""}]
[null,null,{"$f":"IF(Formulas!Q34<>\"\",Formulas!Q34,Formulas!O34)","v":""}]
[null,null,{"$f":"IF(Formulas!Q35<>\"\",Formulas!Q35,Formulas!O35)","v":""}]
[null,null,{"$f":"IF(Formulas!Q36<>\"\",Formulas!Q36,Formulas!O36)","v":""}]
[null,null,"Total Investments",{"$f":"SUM(D23:D32)","v":0},{"$f":"SUM(E23:E32)","v":0},0,0,0,0,0,0,0,0,0,0,0,0,0,0,0,0,0,0,0,0,0,0,0,0,0,0,0,0,0,0,0,0,0,0,0,0,0,0,0,0,0,0,0,0,0,0,0,0,0,0,0,0,0,0,0,0,0,0,0,0,0,0,0,{"$f":"SUM(BQ23:BQ32)","v":0},0,0,0,0,0,0,0,0,0,0,0,0,0,0,0,0,0,0,0,0,0,0,0,0,0,0,0,0,0,0,0,0,0,0,0,0,0,0,0,0,0,0,0,0,0,0,0,0,0,0,0,0,0,0]
[]
[]
[null,null,"Real Estate","Real Estate",null,null,null,null,null,null,null,null,null,null,null,"Real Estate",null,null,null,null,null,null,null,null,null,null,null,"Real Estate",null,null,null,null,null,null,null,null,null,null,null,"Real Estate",null,null,null,null,null,null,null,null,null,null,null,"Real Estate",null,null,null,null,null,null,null,null,null,null,null,"Real Estate",null,null,null,null,null,null,null,null,null,null,null,"Real Estate",null,null,null,null,null,null,null,null,null,null,null,"Real Estate",null,null,null,null,null,null,null,null,null,null,null,"Real Estate",null,null,null,null,null,null,null,null,null,null,null,"Real Estate"]
[null,null,null,"Values",null,null,null,null,null,null,null,null,null,null,null,"Values",null,null,null,null,null,null,null,null,null,null,null,"Values",null,null,null,null,null,null,null,null,null,null,null,"Values",null,null,null,null,null,null,null,null,null,null,null,"Values",null,null,null,null,null,null,null,null,null,null,null,"Values",null,null,null,null,null,null,null,null,null,null,null,"Values",null,null,null,null,null,null,null,null,null,null,null,"Values",null,null,null,null,null,null,null,null,null,null,null,"Values",null,null,null,null,null,null,null,null,null,null,null,"Values"]
[null,null,"Account Type","2020-01-01","2020-02-01","2020-03-01","2020-04-01","2020-05-01","2020-06-01","2020-07-01","2020-08-01","2020-09-01","2020-10-01","2020-11-01","2020-12-01","2021-01-01","2021-02-01","2021-03-01","2021-04-01","2021-05-01","2021-06-01","2021-07-01","2021-08-01","2021-09-01","2021-10-01","2021-11-01","2021-12-01","2022-01-01","2022-02-01","2022-03-01","2022-04-01","2022-05-01","2022-06-01","2022-07-01","2022-08-01","2022-09-01","2022-10-01","2022-11-01","2022-12-01","2023-01-01","2023-02-01","2023-03-01","2023-04-01","2023-05-01","2023-06-01","2023-07-01","2023-08-01","2023-09-01","2023-10-01","2023-11-01","2023-12-01","2024-01-01","2024-02-01","2024-03-01","2024-04-01","2024-05-01","2024-06-01","2024-07-01","2024-08-01","2024-09-01","2024-10-01","2024-11-01","2024-12-01","2025-01-01","2025-02-01","2025-03-01","2025-04-01","2025-05-01","2025-06-01","2025-07-01","2025-08-01","2025-09-01","2025-10-01","2025-11-01","2025-12-01","2026-01-01","2026-02-01","2026-03-01","2026-04-01","2026-05-01","2026-06-01","2026-07-01","2026-08-01","2026-09-01","2026-10-01","2026-11-01","2026-12-01","2027-01-01","2027-02-01","2027-03-01","2027-04-01","2027-05-01","2027-06-01","2027-07-01","2027-08-01","2027-09-01","2027-10-01","2027-11-01","2027-12-01","2028-01-01","2028-02-01","2028-03-01","2028-04-01","2028-05-01","2028-06-01","2028-07-01","2028-08-01","2028-09-01","2028-10-01","2028-11-01","2028-12-01","2029-01-01","2029-02-01","2029-03-01","2029-04-01","2029-05-01","2029-06-01","2029-07-01","2029-08-01","2029-09-01","2029-10-01","2029-11-01","2029-12-01"]
[null,null,{"$f":"IF(Formulas!Q38<>\"\",Formulas!Q38,Formulas!O38)","v":""}]
[null,null,{"$f":"IF(Formulas!Q39<>\"\",Formulas!Q39,Formulas!O39)","v":""}]
[null,null,{"$f":"IF(Formulas!Q40<>\"\",Formulas!Q40,Formulas!O40)","v":""}]
[null,null,{"$f":"IF(Formulas!Q41<>\"\",Formulas!Q41,Formulas!O41)","v":""}]
[null,null,{"$f":"IF(Formulas!Q42<>\"\",Formulas!Q42,Formulas!O42)","v":""}]
[null,null,"Total Real Estate",{"$f":"SUM(D39:D43)","v":0},{"$f":"SUM(E39:E43)","v":0},0,0,0,0,0,0,0,0,0,0,0,0,0,0,0,0,0,0,0,0,0,0,0,0,0,0,0,0,0,0,0,0,0,0,0,0,0,0,0,0,0,0,0,0,0,0,0,0,0,0,0,0,0,0,0,0,0,0,0,0,0,0,0,{"$f":"SUM(BQ39:BQ43)","v":0},0,0,0,0,0,0,0,0,0,0,0,0,0,0,0,0,0,0,0,0,0,0,0,0,0,0,0,0,0,0,0,0,0,0,0,0,0,0,0,0,0,0,0,0,0,0,0,0,0,0,0,0,0,0]
[]
[]
[null,null,"Corporate Assets","Corporate Assets",null,null,null,null,null,null,null,null,null,null,null,"Corporate Assets",null,null,null,null,null,null,null,null,null,null,null,"Corporate Assets",null,null,null,null,null,null,null,null,null,null,null,"Corporate Assets",null,null,null,null,null,null,null,null,null,null,null,"Corporate Assets",null,null,null,null,null,null,null,null,null,null,null,"Corporate Assets",null,null,null,null,null,null,null,null,null,null,null,"Corporate Assets",null,null,null,null,null,null,null,null,null,null,null,"Corporate Assets",null,null,null,null,null,null,null,null,null,null,null,"Corporate Assets",null,null,null,null,null,null,null,null,null,null,null,"Corporate Assets"]
[null,null,null,"Values",null,null,null,null,null,null,null,null,null,null,null,"Values",null,null,null,null,null,null,null,null,null,null,null,"Values",null,null,null,null,null,null,null,null,null,null,null,"Values",null,null,null,null,null,null,null,null,null,null,null,"Values",null,null,null,null,null,null,null,null,null,null,null,"Values",null,null,null,null,null,null,null,null,null,null,null,"Values",null,null,null,null,null,null,null,null,null,null,null,"Values",null,null,null,null,null,null,null,null,null,null,null,"Values",null,null,null,null,null,null,null,null,null,null,null,"Values"]
[null,null,"Account Type","2020-01-01","2020-02-01","2020-03-01","2020-04-01","2020-05-01","2020-06-01","2020-07-01","2020-08-01","2020-09-01","2020-10-01","2020-11-01","2020-12-01","2021-01-01","2021-02-01","2021-03-01","2021-04-01","2021-05-01","2021-06-01","2021-07-01","2021-08-01","2021-09-01","2021-10-01","2021-11-01","2021-12-01","2022-01-01","2022-02-01","2022-03-01","2022-04-01","2022-05-01","2022-06-01","2022-07-01","2022-08-01","2022-09-01","2022-10-01","2022-11-01","2022-12-01","2023-01-01","2023-02-01","2023-03-01","2023-04-01","2023-05-01","2023-06-01","2023-07-01","2023-08-01","2023-09-01","2023-10-01","2023-11-01","2023-12-01","2024-01-01","2024-02-01","2024-03-01","2024-04-01","2024-05-01","2024-06-01","2024-07-01","2024-08-01","2024-09-01","2024-10-01","2024-11-01","2024-12-01","2025-01-01","2025-02-01","2025-03-01","2025-04-01","2025-05-01","2025-06-01","2025-07-01","2025-08-01","2025-09-01","2025-10-01","2025-11-01","2025-12-01","2026-01-01","2026-02-01","2026-03-01","2026-04-01","2026-05-01","2026-06-01","2026-07-01","2026-08-01","2026-09-01","2026-10-01","2026-11-01","2026-12-01","2027-01-01","2027-02-01","2027-03-01","2027-04-01","2027-05-01","2027-06-01","2027-07-01","2027-08-01","2027-09-01","2027-10-01","2027-11-01","2027-12-01","2028-01-01","2028-02-01","2028-03-01","2028-04-01","2028-05-01","2028-06-01","2028-07-01","2028-08-01","2028-09-01","2028-10-01","2028-11-01","2028-12-01","2029-01-01","2029-02-01","2029-03-01","2029-04-01","2029-05-01","2029-06-01","2029-07-01","2029-08-01","2029-09-01","2029-10-01","2029-11-01","2029-12-01"]
[null,null,{"$f":"IF(Formulas!Q44<>\"\",Formulas!Q44,Formulas!O44)","v":""}]
[null,null,{"$f":"IF(Formulas!Q45<>\"\",Formulas!Q45,Formulas!O45)","v":""}]
[null,null,"Total Company Assets",{"$f":"SUM(D50:D51)","v":0},{"$f":"SUM(E50:E51)","v":0},0,0,0,0,0,0,0,0,0,0,0,0,0,0,0,0,0,0,0,0,0,0,0,0,0,0,0,0,0,0,0,0,0,0,0,0,0,0,0,0,0,0,0,0,0,0,0,0,0,0,0,0,0,0,0,0,0,0,0,0,0,0,0,{"$f":"SUM(BQ50:BQ51)","v":0},0,0,0,0,0,0,0,0,0,0,0,0,0,0,0,0,0,0,0,0,0,0,0,0,0,0,0,0,0,0,0,0,0,0,0,0,0,0,0,0,0,0,0,0,0,0,0,0,0,0,0,0,0,0]
[]
[]
[]
[null,null,"Liabilities"]
[]
[null,null,"Liabilities","Liabilities",null,null,null,null,null,null,null,null,null,null,null,"Liabilities",null,null,null,null,null,null,null,null,null,null,null,"Liabilities",null,null,null,null,null,null,null,null,null,null,null,"Liabilities",null,null,null,null,null,null,null,null,null,null,null,"Liabilities",null,null,null,null,null,null,null,null,null,null,null,"Liabilities",null,null,null,null,null,null,null,null,null,null,null,"Liabilities",null,null,null,null,null,null,null,null,null,null,null,"Liabilities",null,null,null,null,null,null,null,null,null,null,null,"Liabilities",null,null,null,null,null,null,null,null,null,null,null,"Liabilities"]
[null,null,null,"Values",null,null,null,null,null,null,null,null,null,null,null,"Values",null,null,null,null,null,null,null,null,null,null,null,"Values",null,null,null,null,null,null,null,null,null,null,null,"Values",null,null,null,null,null,null,null,null,null,null,null,"Values",null,null,null,null,null,null,null,null,null,null,null,"Values",null,null,null,null,null,null,null,null,null,null,null,"Values",null,null,null,null,null,null,null,null,null,null,null,"Values",null,null,null,null,null,null,null,null,null,null,null,"Values",null,null,null,null,null,null,null,null,null,null,null,"Values"]
[null,null,"Account Type","2020-01-01","2020-02-01","2020-03-01","2020-04-01","2020-05-01","2020-06-01","2020-07-01","2020-08-01","2020-09-01","2020-10-01","2020-11-01","2020-12-01","2021-01-01","2021-02-01","2021-03-01","2021-04-01","2021-05-01","2021-06-01","2021-07-01","2021-08-01","2021-09-01","2021-10-01","2021-11-01","2021-12-01","2022-01-01","2022-02-01","2022-03-01","2022-04-01","2022-05-01","2022-06-01","2022-07-01","2022-08-01","2022-09-01","2022-10-01","2022-11-01","2022-12-01","2023-01-01","2023-02-01","2023-03-01","2023-04-01","2023-05-01","2023-06-01","2023-07-01","2023-08-01","2023-09-01","2023-10-01","2023-11-01","2023-12-01","2024-01-01","2024-02-01","2024-03-01","2024-04-01","2024-05-01","2024-06-01","2024-07-01","2024-08-01","2024-09-01","2024-10-01","2024-11-01","2024-12-01","2025-01-01","2025-02-01","2025-03-01","2025-04-01","2025-05-01","2025-06-01","2025-07-01","2025-08-01","2025-09-01","2025-10-01","2025-11-01","2025-12-01","2026-01-01","2026-02-01","2026-03-01","2026-04-01","2026-05-01","2026-06-01","2026-07-01","2026-08-01","2026-09-01","2026-10-01","2026-11-01","2026-12-01","2027-01-01","2027-02-01","2027-03-01","2027-04-01","2027-05-01","2027-06-01","2027-07-01","2027-08-01","2027-09-01","2027-10-01","2027-11-01","2027-12-01","2028-01-01","2028-02-01","2028-03-01","2028-04-01","2028-05-01","2028-06-01","2028-07-01","2028-08-01","2028-09-01","2028-10-01","2028-11-01","2028-12-01","2029-01-01","2029-02-01","2029-03-01","2029-04-01","2029-05-01","2029-06-01","2029-07-01","2029-08-01","2029-09-01","2029-10-01","2029-11-01","2029-12-01"]
[null,null,{"$f":"IF(Formulas!Q47<>\"\",Formulas!Q47,Formulas!O47)","v":""}]
[null,null,{"$f":"IF(Formulas!Q48<>\"\",Formulas!Q48,Formulas!O48)","v":""}]
[null,null,{"$f":"IF(Formulas!Q49<>\"\",Formulas!Q49,Formulas!O49)","v":""}]
[null,null,{"$f":"IF(Formulas!Q50<>\"\",Formulas!Q50,Formulas!O50)","v":""}]
[null,null,{"$f":"IF(Formulas!Q51<>\"\",Formulas!Q51,Formulas!O51)","v":""}]
[null,null,{"$f":"IF(Formulas!Q52<>\"\",Formulas!Q52,Formulas!O52)","v":""}]
[null,null,{"$f":"IF(Formulas!Q53<>\"\",Formulas!Q53,Formulas!O53)","v":""}]
[null,null,{"$f":"IF(Formulas!Q54<>\"\",Formulas!Q54,Formulas!O54)","v":""}]
[null,null,{"$f":"IF(Formulas!Q55<>\"\",Formulas!Q55,Formulas!O55)","v":""}]
[null,null,{"$f":"IF(Formulas!Q56<>\"\",Formulas!Q56,Formulas!O56)","v":""}]
[null,null,"Total Liabilities",{"$f":"SUM(D61:D70)","v":0},{"$f":"SUM(E61:E70)","v":0},{"$f":"SUM(F61:F70)","v":0},{"$f":"SUM(G61:G70)","v":0},0,0,0,0,0,0,0,0,0,0,0,0,0,0,0,0,0,0,0,0,0,0,0,0,0,0,0,0,0,0,0,0,0,0,0,0,0,0,0,0,0,0,0,0,0,0,0,0,0,0,0,0,0,0,0,0,0,0,0,0,0,0,0,{"$f":"SUM(BS61:BS70)","v":0},0,0,0,0,0,0,0,0,0,0,0,0,0,0,0,0,0,0,0,0,0,0,0,0,0,0,0,0,0,0,0,0,0,0,0,0,0,0,0,0,0,0,0,0,0,0,0,0,0,0,0,0]
[]
[]
[]
[]
[null,null,"Net Worth"]
[null,null,null,"2020-01-01","2020-02-01","2020-03-01","2020-04-01","2020-05-01","2020-06-01","2020-07-01","2020-08-01","2020-09-01","2020-10-01","2020-11-01","2020-12-01","2021-01-01","2021-02-01","2021-03-01","2021-04-01","2021-05-01","2021-06-01","2021-07-01","2021-08-01","2021-09-01","2021-10-01","2021-11-01","2021-12-01","2022-01-01","2022-02-01","2022-03-01","2022-04-01","2022-05-01","2022-06-01","2022-07-01","2022-08-01","2022-09-01","2022-10-01","2022-11-01","2022-12-01","2023-01-01","2023-02-01","2023-03-01","2023-04-01","2023-05-01","2023-06-01","2023-07-01","2023-08-01","2023-09-01","2023-10-01","2023-11-01","2023-12-01","2024-01-01","2024-02-01","2024-03-01","2024-04-01","2024-05-01","2024-06-01","2024-07-01","2024-08-01","2024-09-01","2024-10-01","2024-11-01","2024-12-01","2025-01-01","2025-02-01","2025-03-01","2025-04-01","2025-05-01","2025-06-01","2025-07-01","2025-08-01","2025-09-01","2025-10-01","2025-11-01","2025-12-01","2026-01-01","2026-02-01","2026-03-01","2026-04-01","2026-05-01","2026-06-01","2026-07-01","2026-08-01","2026-09-01","2026-10-01","2026-11-01","2026-12-01","2027-01-01","2027-02-01","2027-03-01","2027-04-01","2027-05-01","2027-06-01","2027-07-01","2027-08-01","2027-09-01","2027-10-01","2027-11-01","2027-12-01","2028-01-01","2028-02-01","2028-03-01","2028-04-01","2028-05-01","2028-06-01","2028-07-01","2028-08-01","2028-09-01","2028-10-01","2028-11-01","2028-12-01","2029-01-01","2029-02-01","2029-03-01","2029-04-01","2029-05-01","2029-06-01","2029-07-01","2029-08-01","2029-09-01","2029-10-01","2029-11-01","2029-12-01"]
[null,null,"Net Worth",{"$f":"IF(D17+D33+D44+D52-D71<>0,D17+D33+D44+D52-D71,\"\")","v":""},{"$f":"IF(E17+E33+E44+E52-E71<>0,E17+E33+E44+E52-E71,\"\")","v":""},{"$f":"IF(F17+F33+F44+F52-F71<>0,F17+F33+F44+F52-F71,\"\")","v":""},{"$f":"IF(G17+G33+G44+G52-G71<>0,G17+G33+G44+G52-G71,\"\")","v":""},"","","","","","","","","","","","","","","","","","","","","","","","","","","","","","","","","","","","","","","","","","","","","","","","","","","","","","","","","","","","","","","",{"$f":"IF(BS17+BS33+BS44+BS52-BS71<>0,BS17+BS33+BS44+BS52-BS71,\"\")","v":""},"","","","","","","","","","","","","","","","","","","","","","","","","","","","","","","","","","","","","","","","","","","","","","","","","","","",""]

{"sheet":"Overall Networth","index":3,"n_rows":55,"n_cols":6,"rows_kept":55,"cut":false,"hidden":false,"merged":[[1,1,3,5],[35,4,37,5],[8,1,8,2],[5,2,6,2],[8,4,8,5],[5,3,6,4],[29,4,31,5],[32,4,34,5]]}
[]
[null,"STEP 4: Select a date from the drop down list to see your calculated overall networth at that point in time broken down by all accounts and categories."]
[]
[]
[]
[null,null,"DATE","Select From Dropdown"]
[]
[]
[null,"ASSETS",null,null,"LIABILITIES"]
[]
[null,"Banking",null,null,"Liabilities"]
[null,"Account Type","Account Value",null,"Type","Account Value"]
[null,{"$f":"IF('Monthly Values'!C9<>\"\",'Monthly Values'!C9,\"\")","v":""},{"$f":"IF($D$6<>\"\",IF(B13<>\"\",HLOOKUP('Overall Networth'!$D$6,Formulas!$U$5:$EK$40,2,FALSE),\"\"),\"\")","v":""},null,{"$f":"IF('Monthly Values'!C61<>\"\",'Monthly Values'!C61,\"\")","v":""},{"$f":"IF($D$6<>\"\",IF(E13<>\"\",HLOOKUP('Overall Networth'!$D$6,Formulas!$U$5:$EK$40,27,FALSE),\"\"),\"\")","v":""}]
[null,{"$f":"IF('Monthly Values'!C10<>\"\",'Monthly Values'!C10,\"\")","v":""},{"$f":"IF($D$6<>\"\",IF(B14<>\"\",HLOOKUP('Overall Networth'!$D$6,Formulas!$U$5:$EK$40,3,FALSE),\"\"),\"\")","v":""},null,{"$f":"IF('Monthly Values'!C62<>\"\",'Monthly Values'!C62,\"\")","v":""},{"$f":"IF($D$6<>\"\",IF(E14<>\"\",HLOOKUP('Overall Networth'!$D$6,Formulas!$U$5:$EK$40,28,FALSE),\"\"),\"\")","v":""}]
[null,{"$f":"IF('Monthly Values'!C11<>\"\",'Monthly Values'!C11,\"\")","v":""},{"$f":"IF($D$6<>\"\",IF(B15<>\"\",HLOOKUP('Overall Networth'!$D$6,Formulas!$U$5:$EK$40,4,FALSE),\"\"),\"\")","v":""},null,{"$f":"IF('Monthly Values'!C63<>\"\",'Monthly Values'!C63,\"\")","v":""},{"$f":"IF($D$6<>\"\",IF(E15<>\"\",HLOOKUP('Overall Networth'!$D$6,Formulas!$U$5:$EK$40,29,FALSE),\"\"),\"\")","v":""}]
[null,{"$f":"IF('Monthly Values'!C12<>\"\",'Monthly Values'!C12,\"\")","v":""},{"$f":"IF($D$6<>\"\",IF(B16<>\"\",HLOOKUP('Overall Networth'!$D$6,Formulas!$U$5:$EK$40,5,FALSE),\"\"),\"\")","v":""},null,{"$f":"IF('Monthly Values'!C64<>\"\",'Monthly Values'!C64,\"\")","v":""},{"$f":"IF($D$6<>\"\",IF(E16<>\"\",HLOOKUP('Overall Networth'!$D$6,Formulas!$U$5:$EK$40,30,FALSE),\"\"),\"\")","v":""}]
[null,{"$f":"IF('Monthly Values'!C13<>\"\",'Monthly Values'!C13,\"\")","v":""},{"$f":"IF($D$6<>\"\",IF(B17<>\"\",HLOOKUP('Overall Networth'!$D$6,Formulas!$U$5:$EK$40,6,FALSE),\"\"),\"\")","v":""},null,{"$f":"IF('Monthly Values'!C65<>\"\",'Monthly Values'!C65,\"\")","v":""},{"$f":"IF($D$6<>\"\",IF(E17<>\"\",HLOOKUP('Overall Networth'!$D$6,Formulas!$U$5:$EK$40,31,FALSE),\"\"),\"\")","v":""}]
[null,{"$f":"IF('Monthly Values'!C14<>\"\",'Monthly Values'!C14,\"\")","v":""},{"$f":"IF($D$6<>\"\",IF(B18<>\"\",HLOOKUP('Overall Networth'!$D$6,Formulas!$U$5:$EK$40,7,FALSE),\"\"),\"\")","v":""},null,{"$f":"IF('Monthly Values'!C66<>\"\",'Monthly Values'!C66,\"\")","v":""},{"$f":"IF($D$6<>\"\",IF(E18<>\"\",HLOOKUP('Overall Networth'!$D$6,Formulas!$U$5:$EK$40,32,FALSE),\"\"),\"\")","v":""}]
[null,{"$f":"IF('Monthly Values'!C15<>\"\",'Monthly Values'!C15,\"\")","v":""},{"$f":"IF($D$6<>\"\",IF(B19<>\"\",HLOOKUP('Overall Networth'!$D$6,Formulas!$U$5:$EK$40,8,FALSE),\"\"),\"\")","v":""},null,{"$f":"IF('Monthly Values'!C67<>\"\",'Monthly Values'!C67,\"\")","v":""},{"$f":"IF($D$6<>\"\",IF(E19<>\"\",HLOOKUP('Overall Networth'!$D$6,Formulas!$U$5:$EK$40,33,FALSE),\"\"),\"\")","v":""}]
[null,{"$f":"IF('Monthly Values'!C16<>\"\",'Monthly Values'!C16,\"\")","v":""},{"$f":"IF($D$6<>\"\",IF(B20<>\"\",HLOOKUP('Overall Networth'!$D$6,Formulas!$U$5:$EK$40,9,FALSE),\"\"),\"\")","v":""},null,{"$f":"IF('Monthly Values'!C68<>\"\",'Monthly Values'!C68,\"\")","v":""},{"$f":"IF($D$6<>\"\",IF(E20<>\"\",HLOOKUP('Overall Networth'!$D$6,Formulas!$U$5:$EK$40,34,FALSE),\"\"),\"\")","v":""}]
[null,"Total Banking",{"$f":"IF(SUM(C13:C20)<>0,SUM(C13:C20),\"\")","v":""},null,{"$f":"IF('Monthly Values'!C69<>\"\",'Monthly Values'!C69,\"\")","v":""},{"$f":"IF($D$6<>\"\",IF(E21<>\"\",HLOOKUP('Overall Networth'!$D$6,Formulas!$U$5:$EK$40,35,FALSE),\"\"),\"\")","v":""}]
[null,null,null,null,{"$f":"IF('Monthly Values'!C70<>\"\",'Monthly Values'!C70,\"\")","v":""},{"$f":"IF($D$6<>\"\",IF(E22<>\"\",HLOOKUP('Overall Networth'!$D$6,Formulas!$U$5:$EK$40,36,FALSE),\"\"),\"\")","v":""}]
[null,null,null,null,"Total Liabilities",{"$f":"IF(SUM(F13:F22)<>0,SUM(F13:F22),\"\")","v":""}]
[null,"Investments"]
[null,"Account Type","Account Value",null,"Total Liabilities",{"$f":"IF(F23<>\"\",F23,\"$0.00\")","v":"$0.00"}]
[null,{"$f":"IF('Monthly Values'!C23<>\"\",'Monthly Values'!C23,\"\")","v":""},{"$f":"IF($D$6<>\"\",IF(B26<>\"\",HLOOKUP('Overall Networth'!$D$6,Formulas!$U$5:$EK$40,10,FALSE),\"\"),\"\")","v":""}]
[null,{"$f":"IF('Monthly Values'!C24<>\"\",'Monthly Values'!C24,\"\")","v":""},{"$f":"IF($D$6<>\"\",IF(B27<>\"\",HLOOKUP('Overall Networth'!$D$6,Formulas!$U$5:$EK$40,11,FALSE),\"\"),\"\")","v":""}]
[null,{"$f":"IF('Monthly Values'!C25<>\"\",'Monthly Values'!C25,\"\")","v":""},{"$f":"IF($D$6<>\"\",IF(B28<>\"\",HLOOKUP('Overall Networth'!$D$6,Formulas!$U$5:$EK$40,12,FALSE),\"\"),\"\")","v":""}]
[null,{"$f":"IF('Monthly Values'!C26<>\"\",'Monthly Values'!C26,\"\")","v":""},{"$f":"IF($D$6<>\"\",IF(B29<>\"\",HLOOKUP('Overall Networth'!$D$6,Formulas!$U$5:$EK$40,13,FALSE),\"\"),\"\")","v":""}]
[null,{"$f":"IF('Monthly Values'!C27<>\"\",'Monthly Values'!C27,\"\")","v":""},{"$f":"IF($D$6<>\"\",IF(B30<>\"\",HLOOKUP('Overall Networth'!$D$6,Formulas!$U$5:$EK$40,14,FALSE),\"\"),\"\")","v":""},null,{"$f":"IF(Inputs!E15<>\"Select From Dropdown\",Inputs!E15&\"'s Net Worth for the period of:\",\"Net Worth for the period of:\")","v":"Net Worth for the period of:"}]
[null,{"$f":"IF('Monthly Values'!C28<>\"\",'Monthly Values'!C28,\"\")","v":""},{"$f":"IF($D$6<>\"\",IF(B31<>\"\",HLOOKUP('Overall Networth'!$D$6,Formulas!$U$5:$EK$40,15,FALSE),\"\"),\"\")","v":""}]
[null,{"$f":"IF('Monthly Values'!C29<>\"\",'Monthly Values'!C29,\"\")","v":""},{"$f":"IF($D$6<>\"\",IF(B32<>\"\",HLOOKUP('Overall Networth'!$D$6,Formulas!$U$5:$EK$40,16,FALSE),\"\"),\"\")","v":""}]
[null,{"$f":"IF('Monthly Values'!C30<>\"\",'Monthly Values'!C30,\"\")","v":""},{"$f":"IF($D$6<>\"\",IF(B33<>\"\",HLOOKUP('Overall Networth'!$D$6,Formulas!$U$5:$EK$40,17,FALSE),\"\"),\"\")","v":""},null,{"$f":"IF(OR(D6=\"Select From Dropdown\",D6=\"\"),\"\",D6)","v":""}]
[null,{"$f":"IF('Monthly Values'!C31<>\"\",'Monthly Values'!C31,\"\")","v":""},{"$f":"IF($D$6<>\"\",IF(B34<>\"\",HLOOKUP('Overall Networth'!$D$6,Formulas!$U$5:$EK$40,18,FALSE),\"\"),\"\")","v":""}]
[null,{"$f":"IF('Monthly Values'!C32<>\"\",'Monthly Values'!C32,\"\")","v":""},{"$f":"IF($D$6<>\"\",IF(B35<>\"\",HLOOKUP('Overall Networth'!$D$6,Formulas!$U$5:$EK$40,19,FALSE),\"\"),\"\")","v":""}]
[null,"Total Investments",{"$f":"IF(SUM(C26:C35)<>0,SUM(C26:C35),\" \")","v":" "},null,{"$f":"IF((C55-F25)<>0,(C55-F25),\"$0.00\")","v":"$0.00"}]
[]
[]
[null,"Real Estate"]
[null,"Type","Account Value"]
[null,{"$f":"IF('Monthly Values'!C39<>\"\",'Monthly Values'!C39,\"\")","v":""},{"$f":"IF($D$6<>\"\",IF(B41<>\"\",HLOOKUP('Overall Networth'!$D$6,Formulas!$U$5:$EK$40,20,FALSE),\"\"),\"\")","v":""}]
[null,{"$f":"IF('Monthly Values'!C40<>\"\",'Monthly Values'!C40,\"\")","v":""},{"$f":"IF($D$6<>\"\",IF(B42<>\"\",HLOOKUP('Overall Networth'!$D$6,Formulas!$U$5:$EK$40,21,FALSE),\"\"),\"\")","v":""}]
[null,{"$f":"IF('Monthly Values'!C41<>\"\",'Monthly Values'!C41,\"\")","v":""},{"$f":"IF($D$6<>\"\",IF(B43<>\"\",HLOOKUP('Overall Networth'!$D$6,Formulas!$U$5:$EK$40,22,FALSE),\"\"),\"\")","v":""}]
[null,{"$f":"IF('Monthly Values'!C42<>\"\",'Monthly Values'!C42,\"\")","v":""},{"$f":"IF($D$6<>\"\",IF(B44<>\"\",HLOOKUP('Overall Networth'!$D$6,Formulas!$U$5:$EK$40,23,FALSE),\"\"),\"\")","v":""}]
[null,{"$f":"IF('Monthly Values'!C43<>\"\",'Monthly Values'!C43,\"\")","v":""},{"$f":"IF($D$6<>\"\",IF(B45<>\"\",HLOOKUP('Overall Networth'!$D$6,Formulas!$U$5:$EK$40,24,FALSE),\"\"),\"\")","v":""}]
[null,"Total Real Estate",{"$f":"IF(SUM(C41:C45)<>0,SUM(C41:C45),\" \")","v":" "}]
[]
[]
[null,"Corporate Assets"]
[null,"Type","Account Value"]
[null,{"$f":"IF('Monthly Values'!C50<>\"\",'Monthly Values'!C50,\"\")","v":""},{"$f":"IF($D$6<>\"\",IF(B51<>\"\",HLOOKUP('Overall Networth'!$D$6,Formulas!$U$5:$EK$40,25,FALSE),\"\"),\"\")","v":""}]
[null,{"$f":"IF('Monthly Values'!C51<>\"\",'Monthly Values'!C51,\"\")","v":""},{"$f":"IF($D$6<>\"\",IF(B52<>\"\",HLOOKUP('Overall Networth'!$D$6,Formulas!$U$5:$EK$40,26,FALSE),\"\"),\"\")","v":""}]
[null,"Total Corporate",{"$f":"IF(SUM(C51:C52)<>0,SUM(C51:C52),\" \")","v":" "}]
[]
[null,"Total Assets",{"$f":"IF(SUM(C21,C36,C46,C53)<>0,SUM(C21,C36,C46,C53),\"$0.00\")","v":"$0.00"}]

{"sheet":"Comparatives","index":4,"n_rows":36,"n_cols":10,"rows_kept":36,"cut":false,"hidden":false,"merged":[[7,8,8,8],[7,9,8,10],[31,3,31,4],[30,3,30,4],[1,1,4,11],[30,9,30,10],[31,9,31,10],[7,3,8,4],[7,2,8,2],[35,9,35,10],[35,3,35,4],[34,3,34,4],[33,3,33,4],[32,3,32,4],[32,9,32,10],[33,9,33,10],[34,9,34,10]]}
[]
[null,"STEP 5: Select two different dates from the drop down lists in order to compare your networth category values at two different points in time."]
[]
[]
[]
[]
[]
[null,null,"Date","Select From Dropdown",null,null,null,null,"Date","Select From Dropdown"]
[]
[]
[]
[]
[]
[]
[]
[]
[]
[]
[]
[]
[]
[]
[]
[]
[]
[]
[]
[]
[]
[]
[null,null,"Total Banking",{"$f":"IF($D$8<>\"\",IF($D$8<>\"Select From Dropdown\",HLOOKUP($D$8,Formulas!$U$46:$EJ$52,2,FALSE),\"\"),\"\")","v":""},null,null,null,null,"Total Banking",{"$f":"IF($J$8<>\"\",IF($J$8<>\"Select From Dropdown\",HLOOKUP($J$8,Formulas!$U$46:$EJ$52,2,FALSE),\"\"),\"\")","v":""}]
[null,null,"Total Investments",{"$f":"IF($D$8<>\"\",IF($D$8<>\"Select From Dropdown\",HLOOKUP($D$8,Formulas!$U$46:$EJ$52,3,FALSE),\"\"),\"\")","v":""},null,null,null,null,"Total Investments",{"$f":"IF($J$8<>\"\",IF($J$8<>\"Select From Dropdown\",HLOOKUP($J$8,Formulas!$U$46:$EJ$52,3,FALSE),\"\"),\"\")","v":""}]
[null,null,"Total Real Estate",{"$f":"IF($D$8<>\"\",IF($D$8<>\"Select From Dropdown\",HLOOKUP($D$8,Formulas!$U$46:$EJ$52,4,FALSE),\"\"),\"\")","v":""},null,null,null,null,"Total Real Estate",{"$f":"IF($J$8<>\"\",IF($J$8<>\"Select From Dropdown\",HLOOKUP($J$8,Formulas!$U$46:$EJ$52,4,FALSE),\"\"),\"\")","v":""}]
[null,null,"Total Corporate Assets",{"$f":"IF($D$8<>\"\",IF($D$8<>\"Select From Dropdown\",HLOOKUP($D$8,Formulas!$U$46:$EJ$52,5,FALSE),\"\"),\"\")","v":""},null,null,null,null,"Total Corporate Assets",{"$f":"IF($J$8<>\"\",IF($J$8<>\"Select From Dropdown\",HLOOKUP($J$8,Formulas!$U$46:$EJ$52,5,FALSE),\"\"),\"\")","v":""}]
[null,null,"Total Liabilities",{"$f":"IF($D$8<>\"\",IF($D$8<>\"Select From Dropdown\",HLOOKUP($D$8,Formulas!$U$46:$EJ$52,6,FALSE),\"\"),\"\")","v":""},null,null,null,null,"Total Liabilities",{"$f":"IF($J$8<>\"\",IF($J$8<>\"Select From Dropdown\",HLOOKUP($J$8,Formulas!$U$46:$EJ$52,6,FALSE),\"\"),\"\")","v":""}]
[null,null,"Overall Networth",{"$f":"IF($D$8<>\"\",IF($D$8<>\"Select From Dropdown\",HLOOKUP($D$8,Formulas!$U$46:$EJ$52,7,FALSE),\"\"),\"\")","v":""},null,null,null,null,"Overall Networth",{"$f":"IF($J$8<>\"\",IF($J$8<>\"Select From Dropdown\",HLOOKUP($J$8,Formulas!$U$46:$EJ$52,7,FALSE),\"\"),\"\")","v":""}]

{"sheet":"Print and Complete","index":5,"n_rows":48,"n_cols":6,"rows_kept":48,"cut":false,"hidden":false,"merged":[[35,1,35,2],[1,1,3,5],[33,1,33,2],[9,4,9,5],[9,1,9,2],[5,3,5,4],[33,4,33,5],[7,1,7,5],[24,4,24,5],[22,1,22,2]]}
[]
[null,"Optional: This is a printable sheet that you can physically fill in if you so choose. Make sure to indicate the Date in which you are choosing to track and calculate on your own. Total each category in the corresponding green boxes. Once done Total all assets (Banking + Investments + Real Estate + Corporate Assets) and total your Liabilities. Then Take Assets - Liabilities to get your Net Worth!"]
[]
[]
[]
[null,null,"Date:"]
[]
[null,"Assets"]
[]
[null,"Banking",null,null,"Investments"]
[null,"Account","Values",null,"Account","Values"]
[null,{"$f":"IF('Monthly Values'!C9<>\"\",'Monthly Values'!C9,\"\")","v":""},null,null,{"$f":"IF('Monthly Values'!C23<>\"\",'Monthly Values'!C23,\"\")","v":""}]
[null,{"$f":"IF('Monthly Values'!C10<>\"\",'Monthly Values'!C10,\"\")","v":""},null,null,{"$f":"IF('Monthly Values'!C24<>\"\",'Monthly Values'!C24,\"\")","v":""}]
[null,{"$f":"IF('Monthly Values'!C11<>\"\",'Monthly Values'!C11,\"\")","v":""},null,null,{"$f":"IF('Monthly Values'!C25<>\"\",'Monthly Values'!C25,\"\")","v":""}]
[null,{"$f":"IF('Monthly Values'!C12<>\"\",'Monthly Values'!C12,\"\")","v":""},null,null,{"$f":"IF('Monthly Values'!C26<>\"\",'Monthly Values'!C26,\"\")","v":""}]
[null,{"$f":"IF('Monthly Values'!C13<>\"\",'Monthly Values'!C13,\"\")","v":""},null,null,{"$f":"IF('Monthly Values'!C27<>\"\",'Monthly Values'!C27,\"\")","v":""}]
[null,{"$f":"IF('Monthly Values'!C14<>\"\",'Monthly Values'!C14,\"\")","v":""},null,null,{"$f":"IF('Monthly Values'!C28<>\"\",'Monthly Values'!C28,\"\")","v":""}]
[null,{"$f":"IF('Monthly Values'!C15<>\"\",'Monthly Values'!C15,\"\")","v":""},null,null,{"$f":"IF('Monthly Values'!C29<>\"\",'Monthly Values'!C29,\"\")","v":""}]
[null,{"$f":"IF('Monthly Values'!C16<>\"\",'Monthly Values'!C16,\"\")","v":""},null,null,{"$f":"IF('Monthly Values'!C30<>\"\",'Monthly Values'!C30,\"\")","v":""}]
[null,"Total Banking",null,null,{"$f":"IF('Monthly Values'!C31<>\"\",'Monthly Values'!C31,\"\")","v":""}]
[null,null,null,null,{"$f":"IF('Monthly Values'!C32<>\"\",'Monthly Values'!C32,\"\")","v":""}]
[null,null,null,null,"Total Investments"]
[null,"Real Estate"]
[null,"Account","Values"]
[null,{"$f":"IF('Monthly Values'!C39<>\"\",'Monthly Values'!C39,\"\")","v":""},null,null,"Corporate Assets"]
[null,{"$f":"IF('Monthly Values'!C40<>\"\",'Monthly Values'!C40,\"\")","v":""},null,null,"Account","Values"]
[null,{"$f":"IF('Monthly Values'!C41<>\"\",'Monthly Values'!C41,\"\")","v":""},null,null,{"$f":"IF('Monthly Values'!C50<>\"\",'Monthly Values'!C50,\"\")","v":""}]
[null,{"$f":"IF('Monthly Values'!C42<>\"\",'Monthly Values'!C42,\"\")","v":""},null,null,{"$f":"IF('Monthly Values'!C51<>\"\",'Monthly Values'!C51,\"\")","v":""}]
[null,{"$f":"IF('Monthly Values'!C43<>\"\",'Monthly Values'!C43,\"\")","v":""},null,null,"Total Company Assets"]
[null,"Total Real Estate"]
[]
[]
[]
[null,"Liabilities",null,null,"Net Worth"]
[]
[null,"Liabilities",null,null,"Net Worth"]
[null,"Account","Values"]
[null,{"$f":"IF('Monthly Values'!C61<>\"\",'Monthly Values'!C61,\"\")","v":""}]
[null,{"$f":"IF('Monthly Values'!C62<>\"\",'Monthly Values'!C62,\"\")","v":""}]
[null,{"$f":"IF('Monthly Values'!C63<>\"\",'Monthly Values'!C63,\"\")","v":""}]
[null,{"$f":"IF('Monthly Values'!C64<>\"\",'Monthly Values'!C64,\"\")","v":""}]
[null,{"$f":"IF('Monthly Values'!C65<>\"\",'Monthly Values'!C65,\"\")","v":""}]
[null,{"$f":"IF('Monthly Values'!C66<>\"\",'Monthly Values'!C66,\"\")","v":""}]
[null,{"$f":"IF('Monthly Values'!C67<>\"\",'Monthly Values'!C67,\"\")","v":""}]
[null,{"$f":"IF('Monthly Values'!C68<>\"\",'Monthly Values'!C68,\"\")","v":""}]
[null,{"$f":"IF('Monthly Values'!C69<>\"\",'Monthly Values'!C69,\"\")","v":""}]
[null,{"$f":"IF('Monthly Values'!C70<>\"\",'Monthly Values'!C70,\"\")","v":""}]
[null,"Total Liabilities"]

{"sheet":"Formulas","index":6,"n_rows":151,"n_cols":141,"rows_kept":151,"cut":false,"hidden":true,"merged":[[29,7,34,8],[36,7,41,8],[43,7,47,8],[49,7,53,8],[55,7,59,8]]}
[]
[]
[null,null,null,null,null,null,null,null,null,null,null,null,null,null,null,null,null,null,null,"Horizontal lookup for each account for corresponding dates used on Overall NW and on Comparatives",null,null,null,null,null,null,null,null,null,null,null,null,null,null,null,null,null,null,null,null,null,null,null,null,null,null,null,null,null,null,null,null,null,null,null,null,null,null,null,null,null,null,null,null,null,null,null,null,null,null,null,null,null,null,null,null,null,null,null,null,null,null,null,null,null,null,null,null,null,null,null,null,null,null,null,null,null,null,null,null,null,null,null,null,null,null,null,null,null,null,null,null,null,null,null,null,null,null,null,null,null,null,null,null,null,null,null,null,null,null,null,null,null,null,null,null,null,null,null,null,"Leave EK4 Blank"]
[null,"Data Validation For Client Name Drop Downs",null,null,null,null,null,"Data Validation For Banking Drop Down",null,null,null,null,null,"Data Validation For Liabilities Drop Down"]
[null,"Select From Dropdown",null,null,null,null,null,"Select From Dropdown",null,null,null,null,null,"Select From Dropdown",null,null,null,null,null,null,"2020-01-01","2020-02-01","2020-03-01","2020-04-01","2020-05-01","2020-06-01","2020-07-01","2020-08-01","2020-09-01","2020-10-01","2020-11-01","2020-12-01","2021-01-01","2021-02-01","2021-03-01","2021-04-01","2021-05-01","2021-06-01","2021-07-01","2021-08-01","2021-09-01","2021-10-01","2021-11-01","2021-12-01","2022-01-01","2022-02-01","2022-03-01","2022-04-01","2022-05-01","2022-06-01","2022-07-01","2022-08-01","2022-09-01","2022-10-01","2022-11-01","2022-12-01","2023-01-01","2023-02-01","2023-03-01","2023-04-01","2023-05-01","2023-06-01","2023-07-01","2023-08-01","2023-09-01","2023-10-01","2023-11-01","2023-12-01","2024-01-01","2024-02-01","2024-03-01","2024-04-01","2024-05-01","2024-06-01","2024-07-01","2024-08-01","2024-09-01","2024-10-01","2024-11-01","2024-12-01","2025-01-01","2025-02-01","2025-03-01","2025-04-01","2025-05-01","2025-06-01","2025-07-01","2025-08-01","2025-09-01","2025-10-01","2025-11-01","2025-12-01","2026-01-01","2026-02-01","2026-03-01","2026-04-01","2026-05-01","2026-06-01","2026-07-01","2026-08-01","2026-09-01","2026-10-01","2026-11-01","2026-12-01","2027-01-01","2027-02-01","2027-03-01","2027-04-01","2027-05-01","2027-06-01","2027-07-01","2027-08-01","2027-09-01","2027-10-01","2027-11-01","2027-12-01","2028-01-01","2028-02-01","2028-03-01","2028-04-01","2028-05-01","2028-06-01","2028-07-01","2028-08-01","2028-09-01","2028-10-01","2028-11-01","2028-12-01","2029-01-01","2029-02-01","2029-03-01","2029-04-01","2029-05-01","2029-06-01","2029-07-01","2029-08-01","2029-09-01","2029-10-01","2029-11-01","2029-12-01","Select From Dropdown"]
[null,{"$f":"Inputs!E6&\" \"&Inputs!K6","v":" "},null,null,null,null,null,"Chequing",null,null,null,null,null,"Loan",null,null,null,null,"Banking",1,{"$f":"IF('Monthly Values'!D9<>0,'Monthly Values'!D9,\"\")","v":""},{"$f":"IF('Monthly Values'!E9<>0,'Monthly Values'!E9,\"\")","v":""},{"$f":"IF('Monthly Values'!F9<>0,'Monthly Values'!F9,\"\")","v":""},{"$f":"IF('Monthly Values'!G9<>0,'Monthly Values'!G9,\"\")","v":""},{"$f":"IF('Monthly Values'!H9<>0,'Monthly Values'!H9,\"\")","v":""},{"$f":"IF('Monthly Values'!I9<>0,'Monthly Values'!I9,\"\")","v":""},{"$f":"IF('Monthly Values'!J9<>0,'Monthly Values'!J9,\"\")","v":""},{"$f":"IF('Monthly Values'!K9<>0,'Monthly Values'!K9,\"\")","v":""},{"$f":"IF('Monthly Values'!L9<>0,'Monthly Values'!L9,\"\")","v":""},{"$f":"IF('Monthly Values'!M9<>0,'Monthly Values'!M9,\"\")","v":""},{"$f":"IF('Monthly Values'!N9<>0,'Monthly Values'!N9,\"\")","v":""},{"$f":"IF('Monthly Values'!O9<>0,'Monthly Values'!O9,\"\")","v":""},{"$f":"IF('Monthly Values'!P9<>0,'Monthly Values'!P9,\"\")","v":""},{"$f":"IF('Monthly Values'!Q9<>0,'Monthly Values'!Q9,\"\")","v":""},{"$f":"IF('Monthly Values'!R9<>0,'Monthly Values'!R9,\"\")","v":""},{"$f":"IF('Monthly Values'!S9<>0,'Monthly Values'!S9,\"\")","v":""},{"$f":"IF('Monthly Values'!T9<>0,'Monthly Values'!T9,\"\")","v":""},{"$f":"IF('Monthly Values'!U9<>0,'Monthly Values'!U9,\"\")","v":""},{"$f":"IF('Monthly Values'!V9<>0,'Monthly Values'!V9,\"\")","v":""},{"$f":"IF('Monthly Values'!W9<>0,'Monthly Values'!W9,\"\")","v":""},{"$f":"IF('Monthly Values'!X9<>0,'Monthly Values'!X9,\"\")","v":""},{"$f":"IF('Monthly Values'!Y9<>0,'Monthly Values'!Y9,\"\")","v":""},{"$f":"IF('Monthly Values'!Z9<>0,'Monthly Values'!Z9,\"\")","v":""},{"$f":"IF('Monthly Values'!AA9<>0,'Monthly Values'!AA9,\"\")","v":""},{"$f":"IF('Monthly Values'!AB9<>0,'Monthly Values'!AB9,\"\")","v":""},{"$f":"IF('Monthly Values'!AC9<>0,'Monthly Values'!AC9,\"\")","v":""},{"$f":"IF('Monthly Values'!AD9<>0,'Monthly Values'!AD9,\"\")","v":""},{"$f":"IF('Monthly Values'!AE9<>0,'Monthly Values'!AE9,\"\")","v":""},{"$f":"IF('Monthly Values'!AF9<>0,'Monthly Values'!AF9,\"\")","v":""},{"$f":"IF('Monthly Values'!AG9<>0,'Monthly Values'!AG9,\"\")","v":""},{"$f":"IF('Monthly Values'!AH9<>0,'Monthly Values'!AH9,\"\")","v":""},{"$f":"IF('Monthly Values'!AI9<>0,'Monthly Values'!AI9,\"\")","v":""},{"$f":"IF('Monthly Values'!AJ9<>0,'Monthly Values'!AJ9,\"\")","v":""},{"$f":"IF('Monthly Values'!AK9<>0,'Monthly Values'!AK9,\"\")","v":""},{"$f":"IF('Monthly Values'!AL9<>0,'Monthly Values'!AL9,\"\")","v":""},{"$f":"IF('Monthly Values'!AM9<>0,'Monthly Values'!AM9,\"\")","v":""},{"$f":"IF('Monthly Values'!AN9<>0,'Monthly Values'!AN9,\"\")","v":""},{"$f":"IF('Monthly Values'!AO9<>0,'Monthly Values'!AO9,\"\")","v":""},{"$f":"IF('Monthly Values'!AP9<>0,'Monthly Values'!AP9,\"\")","v":""},{"$f":"IF('Monthly Values'!AQ9<>0,'Monthly Values'!AQ9,\"\")","v":""},{"$f":"IF('Monthly Values'!AR9<>0,'Monthly Values'!AR9,\"\")","v":""},{"$f":"IF('Monthly Values'!AS9<>0,'Monthly Values'!AS9,\"\")","v":""},{"$f":"IF('Monthly Values'!AT9<>0,'Monthly Values'!AT9,\"\")","v":""},{"$f":"IF('Monthly Values'!AU9<>0,'Monthly Values'!AU9,\"\")","v":""},{"$f":"IF('Monthly Values'!AV9<>0,'Monthly Values'!AV9,\"\")","v":""},{"$f":"IF('Monthly Values'!AW9<>0,'Monthly Values'!AW9,\"\")","v":""},{"$f":"IF('Monthly Values'!AX9<>0,'Monthly Values'!AX9,\"\")","v":""},{"$f":"IF('Monthly Values'!AY9<>0,'Monthly Values'!AY9,\"\")","v":""},{"$f":"IF('Monthly Values'!AZ9<>0,'Monthly Values'!AZ9,\"\")","v":""},{"$f":"IF('Monthly Values'!BA9<>0,'Monthly Values'!BA9,\"\")","v":""},{"$f":"IF('Monthly Values'!BB9<>0,'Monthly Values'!BB9,\"\")","v":""},{"$f":"IF('Monthly Values'!BC9<>0,'Monthly Values'!BC9,\"\")","v":""},{"$f":"IF('Monthly Values'!BD9<>0,'Monthly Values'!BD9,\"\")","v":""},{"$f":"IF('Monthly Values'!BE9<>0,'Monthly Values'!BE9,\"\")","v":""},{"$f":"IF('Monthly Values'!BF9<>0,'Monthly Values'!BF9,\"\")","v":""},{"$f":"IF('Monthly Values'!BG9<>0,'Monthly Values'!BG9,\"\")","v":""},{"$f":"IF('Monthly Values'!BH9<>0,'Monthly Values'!BH9,\"\")","v":""},{"$f":"IF('Monthly Values'!BI9<>0,'Monthly Values'!BI9,\"\")","v":""},{"$f":"IF('Monthly Values'!BJ9<>0,'Monthly Values'!BJ9,\"\")","v":""},{"$f":"IF('Monthly Values'!BK9<>0,'Monthly Values'!BK9,\"\")","v":""},{"$f":"IF('Monthly Values'!BL9<>0,'Monthly Values'!BL9,\"\")","v":""},{"$f":"IF('Monthly Values'!BM9<>0,'Monthly Values'!BM9,\"\")","v":""},{"$f":"IF('Monthly Values'!BN9<>0,'Monthly Values'!BN9,\"\")","v":""},{"$f":"IF('Monthly Values'!BO9<>0,'Monthly Values'!BO9,\"\")","v":""},{"$f":"IF('Monthly Values'!BP9<>0,'Monthly Values'!BP9,\"\")","v":""},{"$f":"IF('Monthly Values'!BQ9<>0,'Monthly Values'!BQ9,\"\")","v":""},{"$f":"IF('Monthly Values'!BR9<>0,'Monthly Values'!BR9,\"\")","v":""},{"$f":"IF('Monthly Values'!BS9<>0,'Monthly Values'!BS9,\"\")","v":""},{"$f":"IF('Monthly Values'!BT9<>0,'Monthly Values'!BT9,\"\")","v":""},{"$f":"IF('Monthly Values'!BU9<>0,'Monthly Values'!BU9,\"\")","v":""},{"$f":"IF('Monthly Values'!BV9<>0,'Monthly Values'!BV9,\"\")","v":""},{"$f":"IF('Monthly Values'!BW9<>0,'Monthly Values'!BW9,\"\")","v":""},{"$f":"IF('Monthly Values'!BX9<>0,'Monthly Values'!BX9,\"\")","v":""},{"$f":"IF('Monthly Values'!BY9<>0,'Monthly Values'!BY9,\"\")","v":""},{"$f":"IF('Monthly Values'!BZ9<>0,'Monthly Values'!BZ9,\"\")","v":""},{"$f":"IF('Monthly Values'!CA9<>0,'Monthly Values'!CA9,\"\")","v":""},{"$f":"IF('Monthly Values'!CB9<>0,'Monthly Values'!CB9,\"\")","v":""},{"$f":"IF('Monthly Values'!CC9<>0,'Monthly Values'!CC9,\"\")","v":""},{"$f":"IF('Monthly Values'!CD9<>0,'Monthly Values'!CD9,\"\")","v":""},{"$f":"IF('Monthly Values'!CE9<>0,'Monthly Values'!CE9,\"\")","v":""},{"$f":"IF('Monthly Values'!CF9<>0,'Monthly Values'!CF9,\"\")","v":""},{"$f":"IF('Monthly Values'!CG9<>0,'Monthly Values'!CG9,\"\")","v":""},{"$f":"IF('Monthly Values'!CH9<>0,'Monthly Values'!CH9,\"\")","v":""},{"$f":"IF('Monthly Values'!CI9<>0,'Monthly Values'!CI9,\"\")","v":""},{"$f":"IF('Monthly Values'!CJ9<>0,'Monthly Values'!CJ9,\"\")","v":""},{"$f":"IF('Monthly Values'!CK9<>0,'Monthly Values'!CK9,\"\")","v":""},{"$f":"IF('Monthly Values'!CL9<>0,'Monthly Values'!CL9,\"\")","v":""},{"$f":"IF('Monthly Values'!CM9<>0,'Monthly Values'!CM9,\"\")","v":""},{"$f":"IF('Monthly Values'!CN9<>0,'Monthly Values'!CN9,\"\")","v":""},{"$f":"IF('Monthly Values'!CO9<>0,'Monthly Values'!CO9,\"\")","v":""},{"$f":"IF('Monthly Values'!CP9<>0,'Monthly Values'!CP9,\"\")","v":""},{"$f":"IF('Monthly Values'!CQ9<>0,'Monthly Values'!CQ9,\"\")","v":""},{"$f":"IF('Monthly Values'!CR9<>0,'Monthly Values'!CR9,\"\")","v":""},{"$f":"IF('Monthly Values'!CS9<>0,'Monthly Values'!CS9,\"\")","v":""},{"$f":"IF('Monthly Values'!CT9<>0,'Monthly Values'!CT9,\"\")","v":""},{"$f":"IF('Monthly Values'!CU9<>0,'Monthly Values'!CU9,\"\")","v":""},{"$f":"IF('Monthly Values'!CV9<>0,'Monthly Values'!CV9,\"\")","v":""},{"$f":"IF('Monthly Values'!CW9<>0,'Monthly Values'!CW9,\"\")","v":""},{"$f":"IF('Monthly Values'!CX9<>0,'Monthly Values'!CX9,\"\")","v":""},{"$f":"IF('Monthly Values'!CY9<>0,'Monthly Values'!CY9,\"\")","v":""},{"$f":"IF('Monthly Values'!CZ9<>0,'Monthly Values'!CZ9,\"\")","v":""},{"$f":"IF('Monthly Values'!DA9<>0,'Monthly Values'!DA9,\"\")","v":""},{"$f":"IF('Monthly Values'!DB9<>0,'Monthly Values'!DB9,\"\")","v":""},{"$f":"IF('Monthly Values'!DC9<>0,'Monthly Values'!DC9,\"\")","v":""},{"$f":"IF('Monthly Values'!DD9<>0,'Monthly Values'!DD9,\"\")","v":""},{"$f":"IF('Monthly Values'!DE9<>0,'Monthly Values'!DE9,\"\")","v":""},{"$f":"IF('Monthly Values'!DF9<>0,'Monthly Values'!DF9,\"\")","v":""},{"$f":"IF('Monthly Values'!DG9<>0,'Monthly Values'!DG9,\"\")","v":""},{"$f":"IF('Monthly Values'!DH9<>0,'Monthly Values'!DH9,\"\")","v":""},{"$f":"IF('Monthly Values'!DI9<>0,'Monthly Values'!DI9,\"\")","v":""},{"$f":"IF('Monthly Values'!DJ9<>0,'Monthly Values'!DJ9,\"\")","v":""},{"$f":"IF('Monthly Values'!DK9<>0,'Monthly Values'!DK9,\"\")","v":""},{"$f":"IF('Monthly Values'!DL9<>0,'Monthly Values'!DL9,\"\")","v":""},{"$f":"IF('Monthly Values'!DM9<>0,'Monthly Values'!DM9,\"\")","v":""},{"$f":"IF('Monthly Values'!DN9<>0,'Monthly Values'!DN9,\"\")","v":""},{"$f":"IF('Monthly Values'!DO9<>0,'Monthly Values'!DO9,\"\")","v":""},{"$f":"IF('Monthly Values'!DP9<>0,'Monthly Values'!DP9,\"\")","v":""},{"$f":"IF('Monthly Values'!DQ9<>0,'Monthly Values'!DQ9,\"\")","v":""},{"$f":"IF('Monthly Values'!DR9<>0,'Monthly Values'!DR9,\"\")","v":""},{"$f":"IF('Monthly Values'!DS9<>0,'Monthly Values'!DS9,\"\")","v":""},{"$f":"IF($EK$4<>\"\",\"salad\",\"\")","v":""}]
[null,{"$f":"Inputs!E11&\" \"&Inputs!K11","v":" "},null,null,null,null,null,"Savings",null,null,null,null,null,"Credit Card",null,null,null,null,null,2,{"$f":"IF('Monthly Values'!D10<>0,'Monthly Values'!D10,\"\")","v":""},{"$f":"IF('Monthly Values'!E10<>0,'Monthly Values'!E10,\"\")","v":""},{"$f":"IF('Monthly Values'!F10<>0,'Monthly Values'!F10,\"\")","v":""},{"$f":"IF('Monthly Values'!G10<>0,'Monthly Values'!G10,\"\")","v":""},{"$f":"IF('Monthly Values'!H10<>0,'Monthly Values'!H10,\"\")","v":""},{"$f":"IF('Monthly Values'!I10<>0,'Monthly Values'!I10,\"\")","v":""},{"$f":"IF('Monthly Values'!J10<>0,'Monthly Values'!J10,\"\")","v":""},{"$f":"IF('Monthly Values'!K10<>0,'Monthly Values'!K10,\"\")","v":""},{"$f":"IF('Monthly Values'!L10<>0,'Monthly Values'!L10,\"\")","v":""},{"$f":"IF('Monthly Values'!M10<>0,'Monthly Values'!M10,\"\")","v":""},{"$f":"IF('Monthly Values'!N10<>0,'Monthly Values'!N10,\"\")","v":""},{"$f":"IF('Monthly Values'!O10<>0,'Monthly Values'!O10,\"\")","v":""},{"$f":"IF('Monthly Values'!P10<>0,'Monthly Values'!P10,\"\")","v":""},{"$f":"IF('Monthly Values'!Q10<>0,'Monthly Values'!Q10,\"\")","v":""},{"$f":"IF('Monthly Values'!R10<>0,'Monthly Values'!R10,\"\")","v":""},{"$f":"IF('Monthly Values'!S10<>0,'Monthly Values'!S10,\"\")","v":""},{"$f":"IF('Monthly Values'!T10<>0,'Monthly Values'!T10,\"\")","v":""},{"$f":"IF('Monthly Values'!U10<>0,'Monthly Values'!U10,\"\")","v":""},{"$f":"IF('Monthly Values'!V10<>0,'Monthly Values'!V10,\"\")","v":""},{"$f":"IF('Monthly Values'!W10<>0,'Monthly Values'!W10,\"\")","v":""},{"$f":"IF('Monthly Values'!X10<>0,'Monthly Values'!X10,\"\")","v":""},{"$f":"IF('Monthly Values'!Y10<>0,'Monthly Values'!Y10,\"\")","v":""},{"$f":"IF('Monthly Values'!Z10<>0,'Monthly Values'!Z10,\"\")","v":""},{"$f":"IF('Monthly Values'!AA10<>0,'Monthly Values'!AA10,\"\")","v":""},{"$f":"IF('Monthly Values'!AB10<>0,'Monthly Values'!AB10,\"\")","v":""},{"$f":"IF('Monthly Values'!AC10<>0,'Monthly Values'!AC10,\"\")","v":""},{"$f":"IF('Monthly Values'!AD10<>0,'Monthly Values'!AD10,\"\")","v":""},{"$f":"IF('Monthly Values'!AE10<>0,'Monthly Values'!AE10,\"\")","v":""},{"$f":"IF('Monthly Values'!AF10<>0,'Monthly Values'!AF10,\"\")","v":""},{"$f":"IF('Monthly Values'!AG10<>0,'Monthly Values'!AG10,\"\")","v":""},{"$f":"IF('Monthly Values'!AH10<>0,'Monthly Values'!AH10,\"\")","v":""},{"$f":"IF('Monthly Values'!AI10<>0,'Monthly Values'!AI10,\"\")","v":""},{"$f":"IF('Monthly Values'!AJ10<>0,'Monthly Values'!AJ10,\"\")","v":""},{"$f":"IF('Monthly Values'!AK10<>0,'Monthly Values'!AK10,\"\")","v":""},{"$f":"IF('Monthly Values'!AL10<>0,'Monthly Values'!AL10,\"\")","v":""},{"$f":"IF('Monthly Values'!AM10<>0,'Monthly Values'!AM10,\"\")","v":""},{"$f":"IF('Monthly Values'!AN10<>0,'Monthly Values'!AN10,\"\")","v":""},{"$f":"IF('Monthly Values'!AO10<>0,'Monthly Values'!AO10,\"\")","v":""},{"$f":"IF('Monthly Values'!AP10<>0,'Monthly Values'!AP10,\"\")","v":""},{"$f":"IF('Monthly Values'!AQ10<>0,'Monthly Values'!AQ10,\"\")","v":""},{"$f":"IF('Monthly Values'!AR10<>0,'Monthly Values'!AR10,\"\")","v":""},{"$f":"IF('Monthly Values'!AS10<>0,'Monthly Values'!AS10,\"\")","v":""},{"$f":"IF('Monthly Values'!AT10<>0,'Monthly Values'!AT10,\"\")","v":""},{"$f":"IF('Monthly Values'!AU10<>0,'Monthly Values'!AU10,\"\")","v":""},{"$f":"IF('Monthly Values'!AV10<>0,'Monthly Values'!AV10,\"\")","v":""},{"$f":"IF('Monthly Values'!AW10<>0,'Monthly Values'!AW10,\"\")","v":""},{"$f":"IF('Monthly Values'!AX10<>0,'Monthly Values'!AX10,\"\")","v":""},{"$f":"IF('Monthly Values'!AY10<>0,'Monthly Values'!AY10,\"\")","v":""},{"$f":"IF('Monthly Values'!AZ10<>0,'Monthly Values'!AZ10,\"\")","v":""},{"$f":"IF('Monthly Values'!BA10<>0,'Monthly Values'!BA10,\"\")","v":""},{"$f":"IF('Monthly Values'!BB10<>0,'Monthly Values'!BB10,\"\")","v":""},{"$f":"IF('Monthly Values'!BC10<>0,'Monthly Values'!BC10,\"\")","v":""},{"$f":"IF('Monthly Values'!BD10<>0,'Monthly Values'!BD10,\"\")","v":""},{"$f":"IF('Monthly Values'!BE10<>0,'Monthly Values'!BE10,\"\")","v":""},{"$f":"IF('Monthly Values'!BF10<>0,'Monthly Values'!BF10,\"\")","v":""},{"$f":"IF('Monthly Values'!BG10<>0,'Monthly Values'!BG10,\"\")","v":""},{"$f":"IF('Monthly Values'!BH10<>0,'Monthly Values'!BH10,\"\")","v":""},{"$f":"IF('Monthly Values'!BI10<>0,'Monthly Values'!BI10,\"\")","v":""},{"$f":"IF('Monthly Values'!BJ10<>0,'Monthly Values'!BJ10,\"\")","v":""},{"$f":"IF('Monthly Values'!BK10<>0,'Monthly Values'!BK10,\"\")","v":""},{"$f":"IF('Monthly Values'!BL10<>0,'Monthly Values'!BL10,\"\")","v":""},{"$f":"IF('Monthly Values'!BM10<>0,'Monthly Values'!BM10,\"\")","v":""},{"$f":"IF('Monthly Values'!BN10<>0,'Monthly Values'!BN10,\"\")","v":""},{"$f":"IF('Monthly Values'!BO10<>0,'Monthly Values'!BO10,\"\")","v":""},{"$f":"IF('Monthly Values'!BP10<>0,'Monthly Values'!BP10,\"\")","v":""},{"$f":"IF('Monthly Values'!BQ10<>0,'Monthly Values'!BQ10,\"\")","v":""},{"$f":"IF('Monthly Values'!BR10<>0,'Monthly Values'!BR10,\"\")","v":""},{"$f":"IF('Monthly Values'!BS10<>0,'Monthly Values'!BS10,\"\")","v":""},{"$f":"IF('Monthly Values'!BT10<>0,'Monthly Values'!BT10,\"\")","v":""},{"$f":"IF('Monthly Values'!BU10<>0,'Monthly Values'!BU10,\"\")","v":""},{"$f":"IF('Monthly Values'!BV10<>0,'Monthly Values'!BV10,\"\")","v":""},{"$f":"IF('Monthly Values'!BW10<>0,'Monthly Values'!BW10,\"\")","v":""},{"$f":"IF('Monthly Values'!BX10<>0,'Monthly Values'!BX10,\"\")","v":""},{"$f":"IF('Monthly Values'!BY10<>0,'Monthly Values'!BY10,\"\")","v":""},{"$f":"IF('Monthly Values'!BZ10<>0,'Monthly Values'!BZ10,\"\")","v":""},{"$f":"IF('Monthly Values'!CA10<>0,'Monthly Values'!CA10,\"\")","v":""},{"$f":"IF('Monthly Values'!CB10<>0,'Monthly Values'!CB10,\"\")","v":""},{"$f":"IF('Monthly Values'!CC10<>0,'Monthly Values'!CC10,\"\")","v":""},{"$f":"IF('Monthly Values'!CD10<>0,'Monthly Values'!CD10,\"\")","v":""},{"$f":"IF('Monthly Values'!CE10<>0,'Monthly Values'!CE10,\"\")","v":""},{"$f":"IF('Monthly Values'!CF10<>0,'Monthly Values'!CF10,\"\")","v":""},{"$f":"IF('Monthly Values'!CG10<>0,'Monthly Values'!CG10,\"\")","v":""},{"$f":"IF('Monthly Values'!CH10<>0,'Monthly Values'!CH10,\"\")","v":""},{"$f":"IF('Monthly Values'!CI10<>0,'Monthly Values'!CI10,\"\")","v":""},{"$f":"IF('Monthly Values'!CJ10<>0,'Monthly Values'!CJ10,\"\")","v":""},{"$f":"IF('Monthly Values'!CK10<>0,'Monthly Values'!CK10,\"\")","v":""},{"$f":"IF('Monthly Values'!CL10<>0,'Monthly Values'!CL10,\"\")","v":""},{"$f":"IF('Monthly Values'!CM10<>0,'Monthly Values'!CM10,\"\")","v":""},{"$f":"IF('Monthly Values'!CN10<>0,'Monthly Values'!CN10,\"\")","v":""},{"$f":"IF('Monthly Values'!CO10<>0,'Monthly Values'!CO10,\"\")","v":""},{"$f":"IF('Monthly Values'!CP10<>0,'Monthly Values'!CP10,\"\")","v":""},{"$f":"IF('Monthly Values'!CQ10<>0,'Monthly Values'!CQ10,\"\")","v":""},{"$f":"IF('Monthly Values'!CR10<>0,'Monthly Values'!CR10,\"\")","v":""},{"$f":"IF('Monthly Values'!CS10<>0,'Monthly Values'!CS10,\"\")","v":""},{"$f":"IF('Monthly Values'!CT10<>0,'Monthly Values'!CT10,\"\")","v":""},{"$f":"IF('Monthly Values'!CU10<>0,'Monthly Values'!CU10,\"\")","v":""},{"$f":"IF('Monthly Values'!CV10<>0,'Monthly Values'!CV10,\"\")","v":""},{"$f":"IF('Monthly Values'!CW10<>0,'Monthly Values'!CW10,\"\")","v":""},{"$f":"IF('Monthly Values'!CX10<>0,'Monthly Values'!CX10,\"\")","v":""},{"$f":"IF('Monthly Values'!CY10<>0,'Monthly Values'!CY10,\"\")","v":""},{"$f":"IF('Monthly Values'!CZ10<>0,'Monthly Values'!CZ10,\"\")","v":""},{"$f":"IF('Monthly Values'!DA10<>0,'Monthly Values'!DA10,\"\")","v":""},{"$f":"IF('Monthly Values'!DB10<>0,'Monthly Values'!DB10,\"\")","v":""},{"$f":"IF('Monthly Values'!DC10<>0,'Monthly Values'!DC10,\"\")","v":""},{"$f":"IF('Monthly Values'!DD10<>0,'Monthly Values'!DD10,\"\")","v":""},{"$f":"IF('Monthly Values'!DE10<>0,'Monthly Values'!DE10,\"\")","v":""},{"$f":"IF('Monthly Values'!DF10<>0,'Monthly Values'!DF10,\"\")","v":""},{"$f":"IF('Monthly Values'!DG10<>0,'Monthly Values'!DG10,\"\")","v":""},{"$f":"IF('Monthly Values'!DH10<>0,'Monthly Values'!DH10,\"\")","v":""},{"$f":"IF('Monthly Values'!DI10<>0,'Monthly Values'!DI10,\"\")","v":""},{"$f":"IF('Monthly Values'!DJ10<>0,'Monthly Values'!DJ10,\"\")","v":""},{"$f":"IF('Monthly Values'!DK10<>0,'Monthly Values'!DK10,\"\")","v":""},{"$f":"IF('Monthly Values'!DL10<>0,'Monthly Values'!DL10,\"\")","v":""},{"$f":"IF('Monthly Values'!DM10<>0,'Monthly Values'!DM10,\"\")","v":""},{"$f":"IF('Monthly Values'!DN10<>0,'Monthly Values'!DN10,\"\")","v":""},{"$f":"IF('Monthly Values'!DO10<>0,'Monthly Values'!DO10,\"\")","v":""},{"$f":"IF('Monthly Values'!DP10<>0,'Monthly Values'!DP10,\"\")","v":""},{"$f":"IF('Monthly Values'!DQ10<>0,'Monthly Values'!DQ10,\"\")","v":""},{"$f":"IF('Monthly Values'!DR10<>0,'Monthly Values'!DR10,\"\")","v":""},{"$f":"IF('Monthly Values'!DS10<>0,'Monthly Values'!DS10,\"\")","v":""},{"$f":"IF($EK$4<>\"\",\"salad\",\"\")","v":""}]
[null,{"$f":"Inputs!E6&\" & \"&Inputs!E11&\" \"&Inputs!K6","v":" &  "},null,null,null,null,null,"Other",null,null,null,null,null,"Mortgage",null,null,null,null,null,2,{"$f":"IF('Monthly Values'!D11<>0,'Monthly Values'!D11,\"\")","v":""},{"$f":"IF('Monthly Values'!E11<>0,'Monthly Values'!E11,\"\")","v":""},{"$f":"IF('Monthly Values'!F11<>0,'Monthly Values'!F11,\"\")","v":""},{"$f":"IF('Monthly Values'!G11<>0,'Monthly Values'!G11,\"\")","v":""},{"$f":"IF('Monthly Values'!H11<>0,'Monthly Values'!H11,\"\")","v":""},{"$f":"IF('Monthly Values'!I11<>0,'Monthly Values'!I11,\"\")","v":""},{"$f":"IF('Monthly Values'!J11<>0,'Monthly Values'!J11,\"\")","v":""},{"$f":"IF('Monthly Values'!K11<>0,'Monthly Values'!K11,\"\")","v":""},{"$f":"IF('Monthly Values'!L11<>0,'Monthly Values'!L11,\"\")","v":""},{"$f":"IF('Monthly Values'!M11<>0,'Monthly Values'!M11,\"\")","v":""},{"$f":"IF('Monthly Values'!N11<>0,'Monthly Values'!N11,\"\")","v":""},{"$f":"IF('Monthly Values'!O11<>0,'Monthly Values'!O11,\"\")","v":""},{"$f":"IF('Monthly Values'!P11<>0,'Monthly Values'!P11,\"\")","v":""},{"$f":"IF('Monthly Values'!Q11<>0,'Monthly Values'!Q11,\"\")","v":""},{"$f":"IF('Monthly Values'!R11<>0,'Monthly Values'!R11,\"\")","v":""},{"$f":"IF('Monthly Values'!S11<>0,'Monthly Values'!S11,\"\")","v":""},{"$f":"IF('Monthly Values'!T11<>0,'Monthly Values'!T11,\"\")","v":""},{"$f":"IF('Monthly Values'!U11<>0,'Monthly Values'!U11,\"\")","v":""},{"$f":"IF('Monthly Values'!V11<>0,'Monthly Values'!V11,\"\")","v":""},{"$f":"IF('Monthly Values'!W11<>0,'Monthly Values'!W11,\"\")","v":""},{"$f":"IF('Monthly Values'!X11<>0,'Monthly Values'!X11,\"\")","v":""},{"$f":"IF('Monthly Values'!Y11<>0,'Monthly Values'!Y11,\"\")","v":""},{"$f":"IF('Monthly Values'!Z11<>0,'Monthly Values'!Z11,\"\")","v":""},{"$f":"IF('Monthly Values'!AA11<>0,'Monthly Values'!AA11,\"\")","v":""},{"$f":"IF('Monthly Values'!AB11<>0,'Monthly Values'!AB11,\"\")","v":""},{"$f":"IF('Monthly Values'!AC11<>0,'Monthly Values'!AC11,\"\")","v":""},{"$f":"IF('Monthly Values'!AD11<>0,'Monthly Values'!AD11,\"\")","v":""},{"$f":"IF('Monthly Values'!AE11<>0,'Monthly Values'!AE11,\"\")","v":""},{"$f":"IF('Monthly Values'!AF11<>0,'Monthly Values'!AF11,\"\")","v":""},{"$f":"IF('Monthly Values'!AG11<>0,'Monthly Values'!AG11,\"\")","v":""},{"$f":"IF('Monthly Values'!AH11<>0,'Monthly Values'!AH11,\"\")","v":""},{"$f":"IF('Monthly Values'!AI11<>0,'Monthly Values'!AI11,\"\")","v":""},{"$f":"IF('Monthly Values'!AJ11<>0,'Monthly Values'!AJ11,\"\")","v":""},{"$f":"IF('Monthly Values'!AK11<>0,'Monthly Values'!AK11,\"\")","v":""},{"$f":"IF('Monthly Values'!AL11<>0,'Monthly Values'!AL11,\"\")","v":""},{"$f":"IF('Monthly Values'!AM11<>0,'Monthly Values'!AM11,\"\")","v":""},{"$f":"IF('Monthly Values'!AN11<>0,'Monthly Values'!AN11,\"\")","v":""},{"$f":"IF('Monthly Values'!AO11<>0,'Monthly Values'!AO11,\"\")","v":""},{"$f":"IF('Monthly Values'!AP11<>0,'Monthly Values'!AP11,\"\")","v":""},{"$f":"IF('Monthly Values'!AQ11<>0,'Monthly Values'!AQ11,\"\")","v":""},{"$f":"IF('Monthly Values'!AR11<>0,'Monthly Values'!AR11,\"\")","v":""},{"$f":"IF('Monthly Values'!AS11<>0,'Monthly Values'!AS11,\"\")","v":""},{"$f":"IF('Monthly Values'!AT11<>0,'Monthly Values'!AT11,\"\")","v":""},{"$f":"IF('Monthly Values'!AU11<>0,'Monthly Values'!AU11,\"\")","v":""},{"$f":"IF('Monthly Values'!AV11<>0,'Monthly Values'!AV11,\"\")","v":""},{"$f":"IF('Monthly Values'!AW11<>0,'Monthly Values'!AW11,\"\")","v":""},{"$f":"IF('Monthly Values'!AX11<>0,'Monthly Values'!AX11,\"\")","v":""},{"$f":"IF('Monthly Values'!AY11<>0,'Monthly Values'!AY11,\"\")","v":""},{"$f":"IF('Monthly Values'!AZ11<>0,'Monthly Values'!AZ11,\"\")","v":""},{"$f":"IF('Monthly Values'!BA11<>0,'Monthly Values'!BA11,\"\")","v":""},{"$f":"IF('Monthly Values'!BB11<>0,'Monthly Values'!BB11,\"\")","v":""},{"$f":"IF('Monthly Values'!BC11<>0,'Monthly Values'!BC11,\"\")","v":""},{"$f":"IF('Monthly Values'!BD11<>0,'Monthly Values'!BD11,\"\")","v":""},{"$f":"IF('Monthly Values'!BE11<>0,'Monthly Values'!BE11,\"\")","v":""},{"$f":"IF('Monthly Values'!BF11<>0,'Monthly Values'!BF11,\"\")","v":""},{"$f":"IF('Monthly Values'!BG11<>0,'Monthly Values'!BG11,\"\")","v":""},{"$f":"IF('Monthly Values'!BH11<>0,'Monthly Values'!BH11,\"\")","v":""},{"$f":"IF('Monthly Values'!BI11<>0,'Monthly Values'!BI11,\"\")","v":""},{"$f":"IF('Monthly Values'!BJ11<>0,'Monthly Values'!BJ11,\"\")","v":""},{"$f":"IF('Monthly Values'!BK11<>0,'Monthly Values'!BK11,\"\")","v":""},{"$f":"IF('Monthly Values'!BL11<>0,'Monthly Values'!BL11,\"\")","v":""},{"$f":"IF('Monthly Values'!BM11<>0,'Monthly Values'!BM11,\"\")","v":""},{"$f":"IF('Monthly Values'!BN11<>0,'Monthly Values'!BN11,\"\")","v":""},{"$f":"IF('Monthly Values'!BO11<>0,'Monthly Values'!BO11,\"\")","v":""},{"$f":"IF('Monthly Values'!BP11<>0,'Monthly Values'!BP11,\"\")","v":""},{"$f":"IF('Monthly Values'!BQ11<>0,'Monthly Values'!BQ11,\"\")","v":""},{"$f":"IF('Monthly Values'!BR11<>0,'Monthly Values'!BR11,\"\")","v":""},{"$f":"IF('Monthly Values'!BS11<>0,'Monthly Values'!BS11,\"\")","v":""},{"$f":"IF('Monthly Values'!BT11<>0,'Monthly Values'!BT11,\"\")","v":""},{"$f":"IF('Monthly Values'!BU11<>0,'Monthly Values'!BU11,\"\")","v":""},{"$f":"IF('Monthly Values'!BV11<>0,'Monthly Values'!BV11,\"\")","v":""},{"$f":"IF('Monthly Values'!BW11<>0,'Monthly Values'!BW11,\"\")","v":""},{"$f":"IF('Monthly Values'!BX11<>0,'Monthly Values'!BX11,\"\")","v":""},{"$f":"IF('Monthly Values'!BY11<>0,'Monthly Values'!BY11,\"\")","v":""},{"$f":"IF('Monthly Values'!BZ11<>0,'Monthly Values'!BZ11,\"\")","v":""},{"$f":"IF('Monthly Values'!CA11<>0,'Monthly Values'!CA11,\"\")","v":""},{"$f":"IF('Monthly Values'!CB11<>0,'Monthly Values'!CB11,\"\")","v":""},{"$f":"IF('Monthly Values'!CC11<>0,'Monthly Values'!CC11,\"\")","v":""},{"$f":"IF('Monthly Values'!CD11<>0,'Monthly Values'!CD11,\"\")","v":""},{"$f":"IF('Monthly Values'!CE11<>0,'Monthly Values'!CE11,\"\")","v":""},{"$f":"IF('Monthly Values'!CF11<>0,'Monthly Values'!CF11,\"\")","v":""},{"$f":"IF('Monthly Values'!CG11<>0,'Monthly Values'!CG11,\"\")","v":""},{"$f":"IF('Monthly Values'!CH11<>0,'Monthly Values'!CH11,\"\")","v":""},{"$f":"IF('Monthly Values'!CI11<>0,'Monthly Values'!CI11,\"\")","v":""},{"$f":"IF('Monthly Values'!CJ11<>0,'Monthly Values'!CJ11,\"\")","v":""},{"$f":"IF('Monthly Values'!CK11<>0,'Monthly Values'!CK11,\"\")","v":""},{"$f":"IF('Monthly Values'!CL11<>0,'Monthly Values'!CL11,\"\")","v":""},{"$f":"IF('Monthly Values'!CM11<>0,'Monthly Values'!CM11,\"\")","v":""},{"$f":"IF('Monthly Values'!CN11<>0,'Monthly Values'!CN11,\"\")","v":""},{"$f":"IF('Monthly Values'!CO11<>0,'Monthly Values'!CO11,\"\")","v":""},{"$f":"IF('Monthly Values'!CP11<>0,'Monthly Values'!CP11,\"\")","v":""},{"$f":"IF('Monthly Values'!CQ11<>0,'Monthly Values'!CQ11,\"\")","v":""},{"$f":"IF('Monthly Values'!CR11<>0,'Monthly Values'!CR11,\"\")","v":""},{"$f":"IF('Monthly Values'!CS11<>0,'Monthly Values'!CS11,\"\")","v":""},{"$f":"IF('Monthly Values'!CT11<>0,'Monthly Values'!CT11,\"\")","v":""},{"$f":"IF('Monthly Values'!CU11<>0,'Monthly Values'!CU11,\"\")","v":""},{"$f":"IF('Monthly Values'!CV11<>0,'Monthly Values'!CV11,\"\")","v":""},{"$f":"IF('Monthly Values'!CW11<>0,'Monthly Values'!CW11,\"\")","v":""},{"$f":"IF('Monthly Values'!CX11<>0,'Monthly Values'!CX11,\"\")","v":""},{"$f":"IF('Monthly Values'!CY11<>0,'Monthly Values'!CY11,\"\")","v":""},{"$f":"IF('Monthly Values'!CZ11<>0,'Monthly Values'!CZ11,\"\")","v":""},{"$f":"IF('Monthly Values'!DA11<>0,'Monthly Values'!DA11,\"\")","v":""},{"$f":"IF('Monthly Values'!DB11<>0,'Monthly Values'!DB11,\"\")","v":""},{"$f":"IF('Monthly Values'!DC11<>0,'Monthly Values'!DC11,\"\")","v":""},{"$f":"IF('Monthly Values'!DD11<>0,'Monthly Values'!DD11,\"\")","v":""},{"$f":"IF('Monthly Values'!DE11<>0,'Monthly Values'!DE11,\"\")","v":""},{"$f":"IF('Monthly Values'!DF11<>0,'Monthly Values'!DF11,\"\")","v":""},{"$f":"IF('Monthly Values'!DG11<>0,'Monthly Values'!DG11,\"\")","v":""},{"$f":"IF('Monthly Values'!DH11<>0,'Monthly Values'!DH11,\"\")","v":""},{"$f":"IF('Monthly Values'!DI11<>0,'Monthly Values'!DI11,\"\")","v":""},{"$f":"IF('Monthly Values'!DJ11<>0,'Monthly Values'!DJ11,\"\")","v":""},{"$f":"IF('Monthly Values'!DK11<>0,'Monthly Values'!DK11,\"\")","v":""},{"$f":"IF('Monthly Values'!DL11<>0,'Monthly Values'!DL11,\"\")","v":""},{"$f":"IF('Monthly Values'!DM11<>0,'Monthly Values'!DM11,\"\")","v":""},{"$f":"IF('Monthly Values'!DN11<>0,'Monthly Values'!DN11,\"\")","v":""},{"$f":"IF('Monthly Values'!DO11<>0,'Monthly Values'!DO11,\"\")","v":""},{"$f":"IF('Monthly Values'!DP11<>0,'Monthly Values'!DP11,\"\")","v":""},{"$f":"IF('Monthly Values'!DQ11<>0,'Monthly Values'!DQ11,\"\")","v":""},{"$f":"IF('Monthly Values'!DR11<>0,'Monthly Values'!DR11,\"\")","v":""},{"$f":"IF('Monthly Values'!DS11<>0,'Monthly Values'!DS11,\"\")","v":""},""]
[null,{"$f":"Inputs!E6&\" \"&Inputs!K6&\" & \"&Inputs!E11&\" \"&Inputs!K11","v":"  &  "},null,null,null,null,null,null,null,null,null,null,null,"Line of Credit",null,null,null,null,null,4,{"$f":"IF('Monthly Values'!D12<>0,'Monthly Values'!D12,\"\")","v":""},{"$f":"IF('Monthly Values'!E12<>0,'Monthly Values'!E12,\"\")","v":""},{"$f":"IF('Monthly Values'!F12<>0,'Monthly Values'!F12,\"\")","v":""},{"$f":"IF('Monthly Values'!G12<>0,'Monthly Values'!G12,\"\")","v":""},{"$f":"IF('Monthly Values'!H12<>0,'Monthly Values'!H12,\"\")","v":""},{"$f":"IF('Monthly Values'!I12<>0,'Monthly Values'!I12,\"\")","v":""},{"$f":"IF('Monthly Values'!J12<>0,'Monthly Values'!J12,\"\")","v":""},{"$f":"IF('Monthly Values'!K12<>0,'Monthly Values'!K12,\"\")","v":""},{"$f":"IF('Monthly Values'!L12<>0,'Monthly Values'!L12,\"\")","v":""},{"$f":"IF('Monthly Values'!M12<>0,'Monthly Values'!M12,\"\")","v":""},{"$f":"IF('Monthly Values'!N12<>0,'Monthly Values'!N12,\"\")","v":""},{"$f":"IF('Monthly Values'!O12<>0,'Monthly Values'!O12,\"\")","v":""},{"$f":"IF('Monthly Values'!P12<>0,'Monthly Values'!P12,\"\")","v":""},{"$f":"IF('Monthly Values'!Q12<>0,'Monthly Values'!Q12,\"\")","v":""},{"$f":"IF('Monthly Values'!R12<>0,'Monthly Values'!R12,\"\")","v":""},{"$f":"IF('Monthly Values'!S12<>0,'Monthly Values'!S12,\"\")","v":""},{"$f":"IF('Monthly Values'!T12<>0,'Monthly Values'!T12,\"\")","v":""},{"$f":"IF('Monthly Values'!U12<>0,'Monthly Values'!U12,\"\")","v":""},{"$f":"IF('Monthly Values'!V12<>0,'Monthly Values'!V12,\"\")","v":""},{"$f":"IF('Monthly Values'!W12<>0,'Monthly Values'!W12,\"\")","v":""},{"$f":"IF('Monthly Values'!X12<>0,'Monthly Values'!X12,\"\")","v":""},{"$f":"IF('Monthly Values'!Y12<>0,'Monthly Values'!Y12,\"\")","v":""},{"$f":"IF('Monthly Values'!Z12<>0,'Monthly Values'!Z12,\"\")","v":""},{"$f":"IF('Monthly Values'!AA12<>0,'Monthly Values'!AA12,\"\")","v":""},{"$f":"IF('Monthly Values'!AB12<>0,'Monthly Values'!AB12,\"\")","v":""},{"$f":"IF('Monthly Values'!AC12<>0,'Monthly Values'!AC12,\"\")","v":""},{"$f":"IF('Monthly Values'!AD12<>0,'Monthly Values'!AD12,\"\")","v":""},{"$f":"IF('Monthly Values'!AE12<>0,'Monthly Values'!AE12,\"\")","v":""},{"$f":"IF('Monthly Values'!AF12<>0,'Monthly Values'!AF12,\"\")","v":""},{"$f":"IF('Monthly Values'!AG12<>0,'Monthly Values'!AG12,\"\")","v":""},{"$f":"IF('Monthly Values'!AH12<>0,'Monthly Values'!AH12,\"\")","v":""},{"$f":"IF('Monthly Values'!AI12<>0,'Monthly Values'!AI12,\"\")","v":""},{"$f":"IF('Monthly Values'!AJ12<>0,'Monthly Values'!AJ12,\"\")","v":""},{"$f":"IF('Monthly Values'!AK12<>0,'Monthly Values'!AK12,\"\")","v":""},{"$f":"IF('Monthly Values'!AL12<>0,'Monthly Values'!AL12,\"\")","v":""},{"$f":"IF('Monthly Values'!AM12<>0,'Monthly Values'!AM12,\"\")","v":""},{"$f":"IF('Monthly Values'!AN12<>0,'Monthly Values'!AN12,\"\")","v":""},{"$f":"IF('Monthly Values'!AO12<>0,'Monthly Values'!AO12,\"\")","v":""},{"$f":"IF('Monthly Values'!AP12<>0,'Monthly Values'!AP12,\"\")","v":""},{"$f":"IF('Monthly Values'!AQ12<>0,'Monthly Values'!AQ12,\"\")","v":""},{"$f":"IF('Monthly Values'!AR12<>0,'Monthly Values'!AR12,\"\")","v":""},{"$f":"IF('Monthly Values'!AS12<>0,'Monthly Values'!AS12,\"\")","v":""},{"$f":"IF('Monthly Values'!AT12<>0,'Monthly Values'!AT12,\"\")","v":""},{"$f":"IF('Monthly Values'!AU12<>0,'Monthly Values'!AU12,\"\")","v":""},{"$f":"IF('Monthly Values'!AV12<>0,'Monthly Values'!AV12,\"\")","v":""},{"$f":"IF('Monthly Values'!AW12<>0,'Monthly Values'!AW12,\"\")","v":""},{"$f":"IF('Monthly Values'!AX12<>0,'Monthly Values'!AX12,\"\")","v":""},{"$f":"IF('Monthly Values'!AY12<>0,'Monthly Values'!AY12,\"\")","v":""},{"$f":"IF('Monthly Values'!AZ12<>0,'Monthly Values'!AZ12,\"\")","v":""},{"$f":"IF('Monthly Values'!BA12<>0,'Monthly Values'!BA12,\"\")","v":""},{"$f":"IF('Monthly Values'!BB12<>0,'Monthly Values'!BB12,\"\")","v":""},{"$f":"IF('Monthly Values'!BC12<>0,'Monthly Values'!BC12,\"\")","v":""},{"$f":"IF('Monthly Values'!BD12<>0,'Monthly Values'!BD12,\"\")","v":""},{"$f":"IF('Monthly Values'!BE12<>0,'Monthly Values'!BE12,\"\")","v":""},{"$f":"IF('Monthly Values'!BF12<>0,'Monthly Values'!BF12,\"\")","v":""},{"$f":"IF('Monthly Values'!BG12<>0,'Monthly Values'!BG12,\"\")","v":""},{"$f":"IF('Monthly Values'!BH12<>0,'Monthly Values'!BH12,\"\")","v":""},{"$f":"IF('Monthly Values'!BI12<>0,'Monthly Values'!BI12,\"\")","v":""},{"$f":"IF('Monthly Values'!BJ12<>0,'Monthly Values'!BJ12,\"\")","v":""},{"$f":"IF('Monthly Values'!BK12<>0,'Monthly Values'!BK12,\"\")","v":""},{"$f":"IF('Monthly Values'!BL12<>0,'Monthly Values'!BL12,\"\")","v":""},{"$f":"IF('Monthly Values'!BM12<>0,'Monthly Values'!BM12,\"\")","v":""},{"$f":"IF('Monthly Values'!BN12<>0,'Monthly Values'!BN12,\"\")","v":""},{"$f":"IF('Monthly Values'!BO12<>0,'Monthly Values'!BO12,\"\")","v":""},{"$f":"IF('Monthly Values'!BP12<>0,'Monthly Values'!BP12,\"\")","v":""},{"$f":"IF('Monthly Values'!BQ12<>0,'Monthly Values'!BQ12,\"\")","v":""},{"$f":"IF('Monthly Values'!BR12<>0,'Monthly Values'!BR12,\"\")","v":""},{"$f":"IF('Monthly Values'!BS12<>0,'Monthly Values'!BS12,\"\")","v":""},{"$f":"IF('Monthly Values'!BT12<>0,'Monthly Values'!BT12,\"\")","v":""},{"$f":"IF('Monthly Values'!BU12<>0,'Monthly Values'!BU12,\"\")","v":""},{"$f":"IF('Monthly Values'!BV12<>0,'Monthly Values'!BV12,\"\")","v":""},{"$f":"IF('Monthly Values'!BW12<>0,'Monthly Values'!BW12,\"\")","v":""},{"$f":"IF('Monthly Values'!BX12<>0,'Monthly Values'!BX12,\"\")","v":""},{"$f":"IF('Monthly Values'!BY12<>0,'Monthly Values'!BY12,\"\")","v":""},{"$f":"IF('Monthly Values'!BZ12<>0,'Monthly Values'!BZ12,\"\")","v":""},{"$f":"IF('Monthly Values'!CA12<>0,'Monthly Values'!CA12,\"\")","v":""},{"$f":"IF('Monthly Values'!CB12<>0,'Monthly Values'!CB12,\"\")","v":""},{"$f":"IF('Monthly Values'!CC12<>0,'Monthly Values'!CC12,\"\")","v":""},{"$f":"IF('Monthly Values'!CD12<>0,'Monthly Values'!CD12,\"\")","v":""},{"$f":"IF('Monthly Values'!CE12<>0,'Monthly Values'!CE12,\"\")","v":""},{"$f":"IF('Monthly Values'!CF12<>0,'Monthly Values'!CF12,\"\")","v":""},{"$f":"IF('Monthly Values'!CG12<>0,'Monthly Values'!CG12,\"\")","v":""},{"$f":"IF('Monthly Values'!CH12<>0,'Monthly Values'!CH12,\"\")","v":""},{"$f":"IF('Monthly Values'!CI12<>0,'Monthly Values'!CI12,\"\")","v":""},{"$f":"IF('Monthly Values'!CJ12<>0,'Monthly Values'!CJ12,\"\")","v":""},{"$f":"IF('Monthly Values'!CK12<>0,'Monthly Values'!CK12,\"\")","v":""},{"$f":"IF('Monthly Values'!CL12<>0,'Monthly Values'!CL12,\"\")","v":""},{"$f":"IF('Monthly Values'!CM12<>0,'Monthly Values'!CM12,\"\")","v":""},{"$f":"IF('Monthly Values'!CN12<>0,'Monthly Values'!CN12,\"\")","v":""},{"$f":"IF('Monthly Values'!CO12<>0,'Monthly Values'!CO12,\"\")","v":""},{"$f":"IF('Monthly Values'!CP12<>0,'Monthly Values'!CP12,\"\")","v":""},{"$f":"IF('Monthly Values'!CQ12<>0,'Monthly Values'!CQ12,\"\")","v":""},{"$f":"IF('Monthly Values'!CR12<>0,'Monthly Values'!CR12,\"\")","v":""},{"$f":"IF('Monthly Values'!CS12<>0,'Monthly Values'!CS12,\"\")","v":""},{"$f":"IF('Monthly Values'!CT12<>0,'Monthly Values'!CT12,\"\")","v":""},{"$f":"IF('Monthly Values'!CU12<>0,'Monthly Values'!CU12,\"\")","v":""},{"$f":"IF('Monthly Values'!CV12<>0,'Monthly Values'!CV12,\"\")","v":""},{"$f":"IF('Monthly Values'!CW12<>0,'Monthly Values'!CW12,\"\")","v":""},{"$f":"IF('Monthly Values'!CX12<>0,'Monthly Values'!CX12,\"\")","v":""},{"$f":"IF('Monthly Values'!CY12<>0,'Monthly Values'!CY12,\"\")","v":""},{"$f":"IF('Monthly Values'!CZ12<>0,'Monthly Values'!CZ12,\"\")","v":""},{"$f":"IF('Monthly Values'!DA12<>0,'Monthly Values'!DA12,\"\")","v":""},{"$f":"IF('Monthly Values'!DB12<>0,'Monthly Values'!DB12,\"\")","v":""},{"$f":"IF('Monthly Values'!DC12<>0,'Monthly Values'!DC12,\"\")","v":""},{"$f":"IF('Monthly Values'!DD12<>0,'Monthly Values'!DD12,\"\")","v":""},{"$f":"IF('Monthly Values'!DE12<>0,'Monthly Values'!DE12,\"\")","v":""},{"$f":"IF('Monthly Values'!DF12<>0,'Monthly Values'!DF12,\"\")","v":""},{"$f":"IF('Monthly Values'!DG12<>0,'Monthly Values'!DG12,\"\")","v":""},{"$f":"IF('Monthly Values'!DH12<>0,'Monthly Values'!DH12,\"\")","v":""},{"$f":"IF('Monthly Values'!DI12<>0,'Monthly Values'!DI12,\"\")","v":""},{"$f":"IF('Monthly Values'!DJ12<>0,'Monthly Values'!DJ12,\"\")","v":""},{"$f":"IF('Monthly Values'!DK12<>0,'Monthly Values'!DK12,\"\")","v":""},{"$f":"IF('Monthly Values'!DL12<>0,'Monthly Values'!DL12,\"\")","v":""},{"$f":"IF('Monthly Values'!DM12<>0,'Monthly Values'!DM12,\"\")","v":""},{"$f":"IF('Monthly Values'!DN12<>0,'Monthly Values'!DN12,\"\")","v":""},{"$f":"IF('Monthly Values'!DO12<>0,'Monthly Values'!DO12,\"\")","v":""},{"$f":"IF('Monthly Values'!DP12<>0,'Monthly Values'!DP12,\"\")","v":""},{"$f":"IF('Monthly Values'!DQ12<>0,'Monthly Values'!DQ12,\"\")","v":""},{"$f":"IF('Monthly Values'!DR12<>0,'Monthly Values'!DR12,\"\")","v":""},{"$f":"IF('Monthly Values'!DS12<>0,'Monthly Values'!DS12,\"\")","v":""},""]
[null,null,null,null,null,null,null,null,null,null,null,null,null,"Other",null,null,null,null,null,5,{"$f":"IF('Monthly Values'!D13<>0,'Monthly Values'!D13,\"\")","v":""},{"$f":"IF('Monthly Values'!E13<>0,'Monthly Values'!E13,\"\")","v":""},{"$f":"IF('Monthly Values'!F13<>0,'Monthly Values'!F13,\"\")","v":""},{"$f":"IF('Monthly Values'!G13<>0,'Monthly Values'!G13,\"\")","v":""},{"$f":"IF('Monthly Values'!H13<>0,'Monthly Values'!H13,\"\")","v":""},{"$f":"IF('Monthly Values'!I13<>0,'Monthly Values'!I13,\"\")","v":""},{"$f":"IF('Monthly Values'!J13<>0,'Monthly Values'!J13,\"\")","v":""},{"$f":"IF('Monthly Values'!K13<>0,'Monthly Values'!K13,\"\")","v":""},{"$f":"IF('Monthly Values'!L13<>0,'Monthly Values'!L13,\"\")","v":""},{"$f":"IF('Monthly Values'!M13<>0,'Monthly Values'!M13,\"\")","v":""},{"$f":"IF('Monthly Values'!N13<>0,'Monthly Values'!N13,\"\")","v":""},{"$f":"IF('Monthly Values'!O13<>0,'Monthly Values'!O13,\"\")","v":""},{"$f":"IF('Monthly Values'!P13<>0,'Monthly Values'!P13,\"\")","v":""},{"$f":"IF('Monthly Values'!Q13<>0,'Monthly Values'!Q13,\"\")","v":""},{"$f":"IF('Monthly Values'!R13<>0,'Monthly Values'!R13,\"\")","v":""},{"$f":"IF('Monthly Values'!S13<>0,'Monthly Values'!S13,\"\")","v":""},{"$f":"IF('Monthly Values'!T13<>0,'Monthly Values'!T13,\"\")","v":""},{"$f":"IF('Monthly Values'!U13<>0,'Monthly Values'!U13,\"\")","v":""},{"$f":"IF('Monthly Values'!V13<>0,'Monthly Values'!V13,\"\")","v":""},{"$f":"IF('Monthly Values'!W13<>0,'Monthly Values'!W13,\"\")","v":""},{"$f":"IF('Monthly Values'!X13<>0,'Monthly Values'!X13,\"\")","v":""},{"$f":"IF('Monthly Values'!Y13<>0,'Monthly Values'!Y13,\"\")","v":""},{"$f":"IF('Monthly Values'!Z13<>0,'Monthly Values'!Z13,\"\")","v":""},{"$f":"IF('Monthly Values'!AA13<>0,'Monthly Values'!AA13,\"\")","v":""},{"$f":"IF('Monthly Values'!AB13<>0,'Monthly Values'!AB13,\"\")","v":""},{"$f":"IF('Monthly Values'!AC13<>0,'Monthly Values'!AC13,\"\")","v":""},{"$f":"IF('Monthly Values'!AD13<>0,'Monthly Values'!AD13,\"\")","v":""},{"$f":"IF('Monthly Values'!AE13<>0,'Monthly Values'!AE13,\"\")","v":""},{"$f":"IF('Monthly Values'!AF13<>0,'Monthly Values'!AF13,\"\")","v":""},{"$f":"IF('Monthly Values'!AG13<>0,'Monthly Values'!AG13,\"\")","v":""},{"$f":"IF('Monthly Values'!AH13<>0,'Monthly Values'!AH13,\"\")","v":""},{"$f":"IF('Monthly Values'!AI13<>0,'Monthly Values'!AI13,\"\")","v":""},{"$f":"IF('Monthly Values'!AJ13<>0,'Monthly Values'!AJ13,\"\")","v":""},{"$f":"IF('Monthly Values'!AK13<>0,'Monthly Values'!AK13,\"\")","v":""},{"$f":"IF('Monthly Values'!AL13<>0,'Monthly Values'!AL13,\"\")","v":""},{"$f":"IF('Monthly Values'!AM13<>0,'Monthly Values'!AM13,\"\")","v":""},{"$f":"IF('Monthly Values'!AN13<>0,'Monthly Values'!AN13,\"\")","v":""},{"$f":"IF('Monthly Values'!AO13<>0,'Monthly Values'!AO13,\"\")","v":""},{"$f":"IF('Monthly Values'!AP13<>0,'Monthly Values'!AP13,\"\")","v":""},{"$f":"IF('Monthly Values'!AQ13<>0,'Monthly Values'!AQ13,\"\")","v":""},{"$f":"IF('Monthly Values'!AR13<>0,'Monthly Values'!AR13,\"\")","v":""},{"$f":"IF('Monthly Values'!AS13<>0,'Monthly Values'!AS13,\"\")","v":""},{"$f":"IF('Monthly Values'!AT13<>0,'Monthly Values'!AT13,\"\")","v":""},{"$f":"IF('Monthly Values'!AU13<>0,'Monthly Values'!AU13,\"\")","v":""},{"$f":"IF('Monthly Values'!AV13<>0,'Monthly Values'!AV13,\"\")","v":""},{"$f":"IF('Monthly Values'!AW13<>0,'Monthly Values'!AW13,\"\")","v":""},{"$f":"IF('Monthly Values'!AX13<>0,'Monthly Values'!AX13,\"\")","v":""},{"$f":"IF('Monthly Values'!AY13<>0,'Monthly Values'!AY13,\"\")","v":""},{"$f":"IF('Monthly Values'!AZ13<>0,'Monthly Values'!AZ13,\"\")","v":""},{"$f":"IF('Monthly Values'!BA13<>0,'Monthly Values'!BA13,\"\")","v":""},{"$f":"IF('Monthly Values'!BB13<>0,'Monthly Values'!BB13,\"\")","v":""},{"$f":"IF('Monthly Values'!BC13<>0,'Monthly Values'!BC13,\"\")","v":""},{"$f":"IF('Monthly Values'!BD13<>0,'Monthly Values'!BD13,\"\")","v":""},{"$f":"IF('Monthly Values'!BE13<>0,'Monthly Values'!BE13,\"\")","v":""},{"$f":"IF('Monthly Values'!BF13<>0,'Monthly Values'!BF13,\"\")","v":""},{"$f":"IF('Monthly Values'!BG13<>0,'Monthly Values'!BG13,\"\")","v":""},{"$f":"IF('Monthly Values'!BH13<>0,'Monthly Values'!BH13,\"\")","v":""},{"$f":"IF('Monthly Values'!BI13<>0,'Monthly Values'!BI13,\"\")","v":""},{"$f":"IF('Monthly Values'!BJ13<>0,'Monthly Values'!BJ13,\"\")","v":""},{"$f":"IF('Monthly Values'!BK13<>0,'Monthly Values'!BK13,\"\")","v":""},{"$f":"IF('Monthly Values'!BL13<>0,'Monthly Values'!BL13,\"\")","v":""},{"$f":"IF('Monthly Values'!BM13<>0,'Monthly Values'!BM13,\"\")","v":""},{"$f":"IF('Monthly Values'!BN13<>0,'Monthly Values'!BN13,\"\")","v":""},{"$f":"IF('Monthly Values'!BO13<>0,'Monthly Values'!BO13,\"\")","v":""},{"$f":"IF('Monthly Values'!BP13<>0,'Monthly Values'!BP13,\"\")","v":""},{"$f":"IF('Monthly Values'!BQ13<>0,'Monthly Values'!BQ13,\"\")","v":""},{"$f":"IF('Monthly Values'!BR13<>0,'Monthly Values'!BR13,\"\")","v":""},{"$f":"IF('Monthly Values'!BS13<>0,'Monthly Values'!BS13,\"\")","v":""},{"$f":"IF('Monthly Values'!BT13<>0,'Monthly Values'!BT13,\"\")","v":""},{"$f":"IF('Monthly Values'!BU13<>0,'Monthly Values'!BU13,\"\")","v":""},{"$f":"IF('Monthly Values'!BV13<>0,'Monthly Values'!BV13,\"\")","v":""},{"$f":"IF('Monthly Values'!BW13<>0,'Monthly Values'!BW13,\"\")","v":""},{"$f":"IF('Monthly Values'!BX13<>0,'Monthly Values'!BX13,\"\")","v":""},{"$f":"IF('Monthly Values'!BY13<>0,'Monthly Values'!BY13,\"\")","v":""},{"$f":"IF('Monthly Values'!BZ13<>0,'Monthly Values'!BZ13,\"\")","v":""},{"$f":"IF('Monthly Values'!CA13<>0,'Monthly Values'!CA13,\"\")","v":""},{"$f":"IF('Monthly Values'!CB13<>0,'Monthly Values'!CB13,\"\")","v":""},{"$f":"IF('Monthly Values'!CC13<>0,'Monthly Values'!CC13,\"\")","v":""},{"$f":"IF('Monthly Values'!CD13<>0,'Monthly Values'!CD13,\"\")","v":""},{"$f":"IF('Monthly Values'!CE13<>0,'Monthly Values'!CE13,\"\")","v":""},{"$f":"IF('Monthly Values'!CF13<>0,'Monthly Values'!CF13,\"\")","v":""},{"$f":"IF('Monthly Values'!CG13<>0,'Monthly Values'!CG13,\"\")","v":""},{"$f":"IF('Monthly Values'!CH13<>0,'Monthly Values'!CH13,\"\")","v":""},{"$f":"IF('Monthly Values'!CI13<>0,'Monthly Values'!CI13,\"\")","v":""},{"$f":"IF('Monthly Values'!CJ13<>0,'Monthly Values'!CJ13,\"\")","v":""},{"$f":"IF('Monthly Values'!CK13<>0,'Monthly Values'!CK13,\"\")","v":""},{"$f":"IF('Monthly Values'!CL13<>0,'Monthly Values'!CL13,\"\")","v":""},{"$f":"IF('Monthly Values'!CM13<>0,'Monthly Values'!CM13,\"\")","v":""},{"$f":"IF('Monthly Values'!CN13<>0,'Monthly Values'!CN13,\"\")","v":""},{"$f":"IF('Monthly Values'!CO13<>0,'Monthly Values'!CO13,\"\")","v":""},{"$f":"IF('Monthly Values'!CP13<>0,'Monthly Values'!CP13,\"\")","v":""},{"$f":"IF('Monthly Values'!CQ13<>0,'Monthly Values'!CQ13,\"\")","v":""},{"$f":"IF('Monthly Values'!CR13<>0,'Monthly Values'!CR13,\"\")","v":""},{"$f":"IF('Monthly Values'!CS13<>0,'Monthly Values'!CS13,\"\")","v":""},{"$f":"IF('Monthly Values'!CT13<>0,'Monthly Values'!CT13,\"\")","v":""},{"$f":"IF('Monthly Values'!CU13<>0,'Monthly Values'!CU13,\"\")","v":""},{"$f":"IF('Monthly Values'!CV13<>0,'Monthly Values'!CV13,\"\")","v":""},{"$f":"IF('Monthly Values'!CW13<>0,'Monthly Values'!CW13,\"\")","v":""},{"$f":"IF('Monthly Values'!CX13<>0,'Monthly Values'!CX13,\"\")","v":""},{"$f":"IF('Monthly Values'!CY13<>0,'Monthly Values'!CY13,\"\")","v":""},{"$f":"IF('Monthly Values'!CZ13<>0,'Monthly Values'!CZ13,\"\")","v":""},{"$f":"IF('Monthly Values'!DA13<>0,'Monthly Values'!DA13,\"\")","v":""},{"$f":"IF('Monthly Values'!DB13<>0,'Monthly Values'!DB13,\"\")","v":""},{"$f":"IF('Monthly Values'!DC13<>0,'Monthly Values'!DC13,\"\")","v":""},{"$f":"IF('Monthly Values'!DD13<>0,'Monthly Values'!DD13,\"\")","v":""},{"$f":"IF('Monthly Values'!DE13<>0,'Monthly Values'!DE13,\"\")","v":""},{"$f":"IF('Monthly Values'!DF13<>0,'Monthly Values'!DF13,\"\")","v":""},{"$f":"IF('Monthly Values'!DG13<>0,'Monthly Values'!DG13,\"\")","v":""},{"$f":"IF('Monthly Values'!DH13<>0,'Monthly Values'!DH13,\"\")","v":""},{"$f":"IF('Monthly Values'!DI13<>0,'Monthly Values'!DI13,\"\")","v":""},{"$f":"IF('Monthly Values'!DJ13<>0,'Monthly Values'!DJ13,\"\")","v":""},{"$f":"IF('Monthly Values'!DK13<>0,'Monthly Values'!DK13,\"\")","v":""},{"$f":"IF('Monthly Values'!DL13<>0,'Monthly Values'!DL13,\"\")","v":""},{"$f":"IF('Monthly Values'!DM13<>0,'Monthly Values'!DM13,\"\")","v":""},{"$f":"IF('Monthly Values'!DN13<>0,'Monthly Values'!DN13,\"\")","v":""},{"$f":"IF('Monthly Values'!DO13<>0,'Monthly Values'!DO13,\"\")","v":""},{"$f":"IF('Monthly Values'!DP13<>0,'Monthly Values'!DP13,\"\")","v":""},{"$f":"IF('Monthly Values'!DQ13<>0,'Monthly Values'!DQ13,\"\")","v":""},{"$f":"IF('Monthly Values'!DR13<>0,'Monthly Values'!DR13,\"\")","v":""},{"$f":"IF('Monthly Values'!DS13<>0,'Monthly Values'!DS13,\"\")","v":""},""]
[null,null,null,null,null,null,null,null,null,null,null,null,null,null,null,null,null,null,null,6,{"$f":"IF('Monthly Values'!D14<>0,'Monthly Values'!D14,\"\")","v":""},{"$f":"IF('Monthly Values'!E14<>0,'Monthly Values'!E14,\"\")","v":""},{"$f":"IF('Monthly Values'!F14<>0,'Monthly Values'!F14,\"\")","v":""},{"$f":"IF('Monthly Values'!G14<>0,'Monthly Values'!G14,\"\")","v":""},{"$f":"IF('Monthly Values'!H14<>0,'Monthly Values'!H14,\"\")","v":""},{"$f":"IF('Monthly Values'!I14<>0,'Monthly Values'!I14,\"\")","v":""},{"$f":"IF('Monthly Values'!J14<>0,'Monthly Values'!J14,\"\")","v":""},{"$f":"IF('Monthly Values'!K14<>0,'Monthly Values'!K14,\"\")","v":""},{"$f":"IF('Monthly Values'!L14<>0,'Monthly Values'!L14,\"\")","v":""},{"$f":"IF('Monthly Values'!M14<>0,'Monthly Values'!M14,\"\")","v":""},{"$f":"IF('Monthly Values'!N14<>0,'Monthly Values'!N14,\"\")","v":""},{"$f":"IF('Monthly Values'!O14<>0,'Monthly Values'!O14,\"\")","v":""},{"$f":"IF('Monthly Values'!P14<>0,'Monthly Values'!P14,\"\")","v":""},{"$f":"IF('Monthly Values'!Q14<>0,'Monthly Values'!Q14,\"\")","v":""},{"$f":"IF('Monthly Values'!R14<>0,'Monthly Values'!R14,\"\")","v":""},{"$f":"IF('Monthly Values'!S14<>0,'Monthly Values'!S14,\"\")","v":""},{"$f":"IF('Monthly Values'!T14<>0,'Monthly Values'!T14,\"\")","v":""},{"$f":"IF('Monthly Values'!U14<>0,'Monthly Values'!U14,\"\")","v":""},{"$f":"IF('Monthly Values'!V14<>0,'Monthly Values'!V14,\"\")","v":""},{"$f":"IF('Monthly Values'!W14<>0,'Monthly Values'!W14,\"\")","v":""},{"$f":"IF('Monthly Values'!X14<>0,'Monthly Values'!X14,\"\")","v":""},{"$f":"IF('Monthly Values'!Y14<>0,'Monthly Values'!Y14,\"\")","v":""},{"$f":"IF('Monthly Values'!Z14<>0,'Monthly Values'!Z14,\"\")","v":""},{"$f":"IF('Monthly Values'!AA14<>0,'Monthly Values'!AA14,\"\")","v":""},{"$f":"IF('Monthly Values'!AB14<>0,'Monthly Values'!AB14,\"\")","v":""},{"$f":"IF('Monthly Values'!AC14<>0,'Monthly Values'!AC14,\"\")","v":""},{"$f":"IF('Monthly Values'!AD14<>0,'Monthly Values'!AD14,\"\")","v":""},{"$f":"IF('Monthly Values'!AE14<>0,'Monthly Values'!AE14,\"\")","v":""},{"$f":"IF('Monthly Values'!AF14<>0,'Monthly Values'!AF14,\"\")","v":""},{"$f":"IF('Monthly Values'!AG14<>0,'Monthly Values'!AG14,\"\")","v":""},{"$f":"IF('Monthly Values'!AH14<>0,'Monthly Values'!AH14,\"\")","v":""},{"$f":"IF('Monthly Values'!AI14<>0,'Monthly Values'!AI14,\"\")","v":""},{"$f":"IF('Monthly Values'!AJ14<>0,'Monthly Values'!AJ14,\"\")","v":""},{"$f":"IF('Monthly Values'!AK14<>0,'Monthly Values'!AK14,\"\")","v":""},{"$f":"IF('Monthly Values'!AL14<>0,'Monthly Values'!AL14,\"\")","v":""},{"$f":"IF('Monthly Values'!AM14<>0,'Monthly Values'!AM14,\"\")","v":""},{"$f":"IF('Monthly Values'!AN14<>0,'Monthly Values'!AN14,\"\")","v":""},{"$f":"IF('Monthly Values'!AO14<>0,'Monthly Values'!AO14,\"\")","v":""},{"$f":"IF('Monthly Values'!AP14<>0,'Monthly Values'!AP14,\"\")","v":""},{"$f":"IF('Monthly Values'!AQ14<>0,'Monthly Values'!AQ14,\"\")","v":""},{"$f":"IF('Monthly Values'!AR14<>0,'Monthly Values'!AR14,\"\")","v":""},{"$f":"IF('Monthly Values'!AS14<>0,'Monthly Values'!AS14,\"\")","v":""},{"$f":"IF('Monthly Values'!AT14<>0,'Monthly Values'!AT14,\"\")","v":""},{"$f":"IF('Monthly Values'!AU14<>0,'Monthly Values'!AU14,\"\")","v":""},{"$f":"IF('Monthly Values'!AV14<>0,'Monthly Values'!AV14,\"\")","v":""},{"$f":"IF('Monthly Values'!AW14<>0,'Monthly Values'!AW14,\"\")","v":""},{"$f":"IF('Monthly Values'!AX14<>0,'Monthly Values'!AX14,\"\")","v":""},{"$f":"IF('Monthly Values'!AY14<>0,'Monthly Values'!AY14,\"\")","v":""},{"$f":"IF('Monthly Values'!AZ14<>0,'Monthly Values'!AZ14,\"\")","v":""},{"$f":"IF('Monthly Values'!BA14<>0,'Monthly Values'!BA14,\"\")","v":""},{"$f":"IF('Monthly Values'!BB14<>0,'Monthly Values'!BB14,\"\")","v":""},{"$f":"IF('Monthly Values'!BC14<>0,'Monthly Values'!BC14,\"\")","v":""},{"$f":"IF('Monthly Values'!BD14<>0,'Monthly Values'!BD14,\"\")","v":""},{"$f":"IF('Monthly Values'!BE14<>0,'Monthly Values'!BE14,\"\")","v":""},{"$f":"IF('Monthly Values'!BF14<>0,'Monthly Values'!BF14,\"\")","v":""},{"$f":"IF('Monthly Values'!BG14<>0,'Monthly Values'!BG14,\"\")","v":""},{"$f":"IF('Monthly Values'!BH14<>0,'Monthly Values'!BH14,\"\")","v":""},{"$f":"IF('Monthly Values'!BI14<>0,'Monthly Values'!BI14,\"\")","v":""},{"$f":"IF('Monthly Values'!BJ14<>0,'Monthly Values'!BJ14,\"\")","v":""},{"$f":"IF('Monthly Values'!BK14<>0,'Monthly Values'!BK14,\"\")","v":""},{"$f":"IF('Monthly Values'!BL14<>0,'Monthly Values'!BL14,\"\")","v":""},{"$f":"IF('Monthly Values'!BM14<>0,'Monthly Values'!BM14,\"\")","v":""},{"$f":"IF('Monthly Values'!BN14<>0,'Monthly Values'!BN14,\"\")","v":""},{"$f":"IF('Monthly Values'!BO14<>0,'Monthly Values'!BO14,\"\")","v":""},{"$f":"IF('Monthly Values'!BP14<>0,'Monthly Values'!BP14,\"\")","v":""},{"$f":"IF('Monthly Values'!BQ14<>0,'Monthly Values'!BQ14,\"\")","v":""},{"$f":"IF('Monthly Values'!BR14<>0,'Monthly Values'!BR14,\"\")","v":""},{"$f":"IF('Monthly Values'!BS14<>0,'Monthly Values'!BS14,\"\")","v":""},{"$f":"IF('Monthly Values'!BT14<>0,'Monthly Values'!BT14,\"\")","v":""},{"$f":"IF('Monthly Values'!BU14<>0,'Monthly Values'!BU14,\"\")","v":""},{"$f":"IF('Monthly Values'!BV14<>0,'Monthly Values'!BV14,\"\")","v":""},{"$f":"IF('Monthly Values'!BW14<>0,'Monthly Values'!BW14,\"\")","v":""},{"$f":"IF('Monthly Values'!BX14<>0,'Monthly Values'!BX14,\"\")","v":""},{"$f":"IF('Monthly Values'!BY14<>0,'Monthly Values'!BY14,\"\")","v":""},{"$f":"IF('Monthly Values'!BZ14<>0,'Monthly Values'!BZ14,\"\")","v":""},{"$f":"IF('Monthly Values'!CA14<>0,'Monthly Values'!CA14,\"\")","v":""},{"$f":"IF('Monthly Values'!CB14<>0,'Monthly Values'!CB14,\"\")","v":""},{"$f":"IF('Monthly Values'!CC14<>0,'Monthly Values'!CC14,\"\")","v":""},{"$f":"IF('Monthly Values'!CD14<>0,'Monthly Values'!CD14,\"\")","v":""},{"$f":"IF('Monthly Values'!CE14<>0,'Monthly Values'!CE14,\"\")","v":""},{"$f":"IF('Monthly Values'!CF14<>0,'Monthly Values'!CF14,\"\")","v":""},{"$f":"IF('Monthly Values'!CG14<>0,'Monthly Values'!CG14,\"\")","v":""},{"$f":"IF('Monthly Values'!CH14<>0,'Monthly Values'!CH14,\"\")","v":""},{"$f":"IF('Monthly Values'!CI14<>0,'Monthly Values'!CI14,\"\")","v":""},{"$f":"IF('Monthly Values'!CJ14<>0,'Monthly Values'!CJ14,\"\")","v":""},{"$f":"IF('Monthly Values'!CK14<>0,'Monthly Values'!CK14,\"\")","v":""},{"$f":"IF('Monthly Values'!CL14<>0,'Monthly Values'!CL14,\"\")","v":""},{"$f":"IF('Monthly Values'!CM14<>0,'Monthly Values'!CM14,\"\")","v":""},{"$f":"IF('Monthly Values'!CN14<>0,'Monthly Values'!CN14,\"\")","v":""},{"$f":"IF('Monthly Values'!CO14<>0,'Monthly Values'!CO14,\"\")","v":""},{"$f":"IF('Monthly Values'!CP14<>0,'Monthly Values'!CP14,\"\")","v":""},{"$f":"IF('Monthly Values'!CQ14<>0,'Monthly Values'!CQ14,\"\")","v":""},{"$f":"IF('Monthly Values'!CR14<>0,'Monthly Values'!CR14,\"\")","v":""},{"$f":"IF('Monthly Values'!CS14<>0,'Monthly Values'!CS14,\"\")","v":""},{"$f":"IF('Monthly Values'!CT14<>0,'Monthly Values'!CT14,\"\")","v":""},{"$f":"IF('Monthly Values'!CU14<>0,'Monthly Values'!CU14,\"\")","v":""},{"$f":"IF('Monthly Values'!CV14<>0,'Monthly Values'!CV14,\"\")","v":""},{"$f":"IF('Monthly Values'!CW14<>0,'Monthly Values'!CW14,\"\")","v":""},{"$f":"IF('Monthly Values'!CX14<>0,'Monthly Values'!CX14,\"\")","v":""},{"$f":"IF('Monthly Values'!CY14<>0,'Monthly Values'!CY14,\"\")","v":""},{"$f":"IF('Monthly Values'!CZ14<>0,'Monthly Values'!CZ14,\"\")","v":""},{"$f":"IF('Monthly Values'!DA14<>0,'Monthly Values'!DA14,\"\")","v":""},{"$f":"IF('Monthly Values'!DB14<>0,'Monthly Values'!DB14,\"\")","v":""},{"$f":"IF('Monthly Values'!DC14<>0,'Monthly Values'!DC14,\"\")","v":""},{"$f":"IF('Monthly Values'!DD14<>0,'Monthly Values'!DD14,\"\")","v":""},{"$f":"IF('Monthly Values'!DE14<>0,'Monthly Values'!DE14,\"\")","v":""},{"$f":"IF('Monthly Values'!DF14<>0,'Monthly Values'!DF14,\"\")","v":""},{"$f":"IF('Monthly Values'!DG14<>0,'Monthly Values'!DG14,\"\")","v":""},{"$f":"IF('Monthly Values'!DH14<>0,'Monthly Values'!DH14,\"\")","v":""},{"$f":"IF('Monthly Values'!DI14<>0,'Monthly Values'!DI14,\"\")","v":""},{"$f":"IF('Monthly Values'!DJ14<>0,'Monthly Values'!DJ14,\"\")","v":""},{"$f":"IF('Monthly Values'!DK14<>0,'Monthly Values'!DK14,\"\")","v":""},{"$f":"IF('Monthly Values'!DL14<>0,'Monthly Values'!DL14,\"\")","v":""},{"$f":"IF('Monthly Values'!DM14<>0,'Monthly Values'!DM14,\"\")","v":""},{"$f":"IF('Monthly Values'!DN14<>0,'Monthly Values'!DN14,\"\")","v":""},{"$f":"IF('Monthly Values'!DO14<>0,'Monthly Values'!DO14,\"\")","v":""},{"$f":"IF('Monthly Values'!DP14<>0,'Monthly Values'!DP14,\"\")","v":""},{"$f":"IF('Monthly Values'!DQ14<>0,'Monthly Values'!DQ14,\"\")","v":""},{"$f":"IF('Monthly Values'!DR14<>0,'Monthly Values'!DR14,\"\")","v":""},{"$f":"IF('Monthly Values'!DS14<>0,'Monthly Values'!DS14,\"\")","v":""},""]
[null,"Data Validation For Investments Drop Down",null,null,null,null,null,"Data Validation For Real Estate Drop Down",null,null,null,null,null,null,null,null,null,null,null,7,{"$f":"IF('Monthly Values'!D15<>0,'Monthly Values'!D15,\"\")","v":""},{"$f":"IF('Monthly Values'!E15<>0,'Monthly Values'!E15,\"\")","v":""},{"$f":"IF('Monthly Values'!F15<>0,'Monthly Values'!F15,\"\")","v":""},{"$f":"IF('Monthly Values'!G15<>0,'Monthly Values'!G15,\"\")","v":""},{"$f":"IF('Monthly Values'!H15<>0,'Monthly Values'!H15,\"\")","v":""},{"$f":"IF('Monthly Values'!I15<>0,'Monthly Values'!I15,\"\")","v":""},{"$f":"IF('Monthly Values'!J15<>0,'Monthly Values'!J15,\"\")","v":""},{"$f":"IF('Monthly Values'!K15<>0,'Monthly Values'!K15,\"\")","v":""},{"$f":"IF('Monthly Values'!L15<>0,'Monthly Values'!L15,\"\")","v":""},{"$f":"IF('Monthly Values'!M15<>0,'Monthly Values'!M15,\"\")","v":""},{"$f":"IF('Monthly Values'!N15<>0,'Monthly Values'!N15,\"\")","v":""},{"$f":"IF('Monthly Values'!O15<>0,'Monthly Values'!O15,\"\")","v":""},{"$f":"IF('Monthly Values'!P15<>0,'Monthly Values'!P15,\"\")","v":""},{"$f":"IF('Monthly Values'!Q15<>0,'Monthly Values'!Q15,\"\")","v":""},{"$f":"IF('Monthly Values'!R15<>0,'Monthly Values'!R15,\"\")","v":""},{"$f":"IF('Monthly Values'!S15<>0,'Monthly Values'!S15,\"\")","v":""},{"$f":"IF('Monthly Values'!T15<>0,'Monthly Values'!T15,\"\")","v":""},{"$f":"IF('Monthly Values'!U15<>0,'Monthly Values'!U15,\"\")","v":""},{"$f":"IF('Monthly Values'!V15<>0,'Monthly Values'!V15,\"\")","v":""},{"$f":"IF('Monthly Values'!W15<>0,'Monthly Values'!W15,\"\")","v":""},{"$f":"IF('Monthly Values'!X15<>0,'Monthly Values'!X15,\"\")","v":""},{"$f":"IF('Monthly Values'!Y15<>0,'Monthly Values'!Y15,\"\")","v":""},{"$f":"IF('Monthly Values'!Z15<>0,'Monthly Values'!Z15,\"\")","v":""},{"$f":"IF('Monthly Values'!AA15<>0,'Monthly Values'!AA15,\"\")","v":""},{"$f":"IF('Monthly Values'!AB15<>0,'Monthly Values'!AB15,\"\")","v":""},{"$f":"IF('Monthly Values'!AC15<>0,'Monthly Values'!AC15,\"\")","v":""},{"$f":"IF('Monthly Values'!AD15<>0,'Monthly Values'!AD15,\"\")","v":""},{"$f":"IF('Monthly Values'!AE15<>0,'Monthly Values'!AE15,\"\")","v":""},{"$f":"IF('Monthly Values'!AF15<>0,'Monthly Values'!AF15,\"\")","v":""},{"$f":"IF('Monthly Values'!AG15<>0,'Monthly Values'!AG15,\"\")","v":""},{"$f":"IF('Monthly Values'!AH15<>0,'Monthly Values'!AH15,\"\")","v":""},{"$f":"IF('Monthly Values'!AI15<>0,'Monthly Values'!AI15,\"\")","v":""},{"$f":"IF('Monthly Values'!AJ15<>0,'Monthly Values'!AJ15,\"\")","v":""},{"$f":"IF('Monthly Values'!AK15<>0,'Monthly Values'!AK15,\"\")","v":""},{"$f":"IF('Monthly Values'!AL15<>0,'Monthly Values'!AL15,\"\")","v":""},{"$f":"IF('Monthly Values'!AM15<>0,'Monthly Values'!AM15,\"\")","v":""},{"$f":"IF('Monthly Values'!AN15<>0,'Monthly Values'!AN15,\"\")","v":""},{"$f":"IF('Monthly Values'!AO15<>0,'Monthly Values'!AO15,\"\")","v":""},{"$f":"IF('Monthly Values'!AP15<>0,'Monthly Values'!AP15,\"\")","v":""},{"$f":"IF('Monthly Values'!AQ15<>0,'Monthly Values'!AQ15,\"\")","v":""},{"$f":"IF('Monthly Values'!AR15<>0,'Monthly Values'!AR15,\"\")","v":""},{"$f":"IF('Monthly Values'!AS15<>0,'Monthly Values'!AS15,\"\")","v":""},{"$f":"IF('Monthly Values'!AT15<>0,'Monthly Values'!AT15,\"\")","v":""},{"$f":"IF('Monthly Values'!AU15<>0,'Monthly Values'!AU15,\"\")","v":""},{"$f":"IF('Monthly Values'!AV15<>0,'Monthly Values'!AV15,\"\")","v":""},{"$f":"IF('Monthly Values'!AW15<>0,'Monthly Values'!AW15,\"\")","v":""},{"$f":"IF('Monthly Values'!AX15<>0,'Monthly Values'!AX15,\"\")","v":""},{"$f":"IF('Monthly Values'!AY15<>0,'Monthly Values'!AY15,\"\")","v":""},{"$f":"IF('Monthly Values'!AZ15<>0,'Monthly Values'!AZ15,\"\")","v":""},{"$f":"IF('Monthly Values'!BA15<>0,'Monthly Values'!BA15,\"\")","v":""},{"$f":"IF('Monthly Values'!BB15<>0,'Monthly Values'!BB15,\"\")","v":""},{"$f":"IF('Monthly Values'!BC15<>0,'Monthly Values'!BC15,\"\")","v":""},{"$f":"IF('Monthly Values'!BD15<>0,'Monthly Values'!BD15,\"\")","v":""},{"$f":"IF('Monthly Values'!BE15<>0,'Monthly Values'!BE15,\"\")","v":""},{"$f":"IF('Monthly Values'!BF15<>0,'Monthly Values'!BF15,\"\")","v":""},{"$f":"IF('Monthly Values'!BG15<>0,'Monthly Values'!BG15,\"\")","v":""},{"$f":"IF('Monthly Values'!BH15<>0,'Monthly Values'!BH15,\"\")","v":""},{"$f":"IF('Monthly Values'!BI15<>0,'Monthly Values'!BI15,\"\")","v":""},{"$f":"IF('Monthly Values'!BJ15<>0,'Monthly Values'!BJ15,\"\")","v":""},{"$f":"IF('Monthly Values'!BK15<>0,'Monthly Values'!BK15,\"\")","v":""},{"$f":"IF('Monthly Values'!BL15<>0,'Monthly Values'!BL15,\"\")","v":""},{"$f":"IF('Monthly Values'!BM15<>0,'Monthly Values'!BM15,\"\")","v":""},{"$f":"IF('Monthly Values'!BN15<>0,'Monthly Values'!BN15,\"\")","v":""},{"$f":"IF('Monthly Values'!BO15<>0,'Monthly Values'!BO15,\"\")","v":""},{"$f":"IF('Monthly Values'!BP15<>0,'Monthly Values'!BP15,\"\")","v":""},{"$f":"IF('Monthly Values'!BQ15<>0,'Monthly Values'!BQ15,\"\")","v":""},{"$f":"IF('Monthly Values'!BR15<>0,'Monthly Values'!BR15,\"\")","v":""},{"$f":"IF('Monthly Values'!BS15<>0,'Monthly Values'!BS15,\"\")","v":""},{"$f":"IF('Monthly Values'!BT15<>0,'Monthly Values'!BT15,\"\")","v":""},{"$f":"IF('Monthly Values'!BU15<>0,'Monthly Values'!BU15,\"\")","v":""},{"$f":"IF('Monthly Values'!BV15<>0,'Monthly Values'!BV15,\"\")","v":""},{"$f":"IF('Monthly Values'!BW15<>0,'Monthly Values'!BW15,\"\")","v":""},{"$f":"IF('Monthly Values'!BX15<>0,'Monthly Values'!BX15,\"\")","v":""},{"$f":"IF('Monthly Values'!BY15<>0,'Monthly Values'!BY15,\"\")","v":""},{"$f":"IF('Monthly Values'!BZ15<>0,'Monthly Values'!BZ15,\"\")","v":""},{"$f":"IF('Monthly Values'!CA15<>0,'Monthly Values'!CA15,\"\")","v":""},{"$f":"IF('Monthly Values'!CB15<>0,'Monthly Values'!CB15,\"\")","v":""},{"$f":"IF('Monthly Values'!CC15<>0,'Monthly Values'!CC15,\"\")","v":""},{"$f":"IF('Monthly Values'!CD15<>0,'Monthly Values'!CD15,\"\")","v":""},{"$f":"IF('Monthly Values'!CE15<>0,'Monthly Values'!CE15,\"\")","v":""},{"$f":"IF('Monthly Values'!CF15<>0,'Monthly Values'!CF15,\"\")","v":""},{"$f":"IF('Monthly Values'!CG15<>0,'Monthly Values'!CG15,\"\")","v":""},{"$f":"IF('Monthly Values'!CH15<>0,'Monthly Values'!CH15,\"\")","v":""},{"$f":"IF('Monthly Values'!CI15<>0,'Monthly Values'!CI15,\"\")","v":""},{"$f":"IF('Monthly Values'!CJ15<>0,'Monthly Values'!CJ15,\"\")","v":""},{"$f":"IF('Monthly Values'!CK15<>0,'Monthly Values'!CK15,\"\")","v":""},{"$f":"IF('Monthly Values'!CL15<>0,'Monthly Values'!CL15,\"\")","v":""},{"$f":"IF('Monthly Values'!CM15<>0,'Monthly Values'!CM15,\"\")","v":""},{"$f":"IF('Monthly Values'!CN15<>0,'Monthly Values'!CN15,\"\")","v":""},{"$f":"IF('Monthly Values'!CO15<>0,'Monthly Values'!CO15,\"\")","v":""},{"$f":"IF('Monthly Values'!CP15<>0,'Monthly Values'!CP15,\"\")","v":""},{"$f":"IF('Monthly Values'!CQ15<>0,'Monthly Values'!CQ15,\"\")","v":""},{"$f":"IF('Monthly Values'!CR15<>0,'Monthly Values'!CR15,\"\")","v":""},{"$f":"IF('Monthly Values'!CS15<>0,'Monthly Values'!CS15,\"\")","v":""},{"$f":"IF('Monthly Values'!CT15<>0,'Monthly Values'!CT15,\"\")","v":""},{"$f":"IF('Monthly Values'!CU15<>0,'Monthly Values'!CU15,\"\")","v":""},{"$f":"IF('Monthly Values'!CV15<>0,'Monthly Values'!CV15,\"\")","v":""},{"$f":"IF('Monthly Values'!CW15<>0,'Monthly Values'!CW15,\"\")","v":""},{"$f":"IF('Monthly Values'!CX15<>0,'Monthly Values'!CX15,\"\")","v":""},{"$f":"IF('Monthly Values'!CY15<>0,'Monthly Values'!CY15,\"\")","v":""},{"$f":"IF('Monthly Values'!CZ15<>0,'Monthly Values'!CZ15,\"\")","v":""},{"$f":"IF('Monthly Values'!DA15<>0,'Monthly Values'!DA15,\"\")","v":""},{"$f":"IF('Monthly Values'!DB15<>0,'Monthly Values'!DB15,\"\")","v":""},{"$f":"IF('Monthly Values'!DC15<>0,'Monthly Values'!DC15,\"\")","v":""},{"$f":"IF('Monthly Values'!DD15<>0,'Monthly Values'!DD15,\"\")","v":""},{"$f":"IF('Monthly Values'!DE15<>0,'Monthly Values'!DE15,\"\")","v":""},{"$f":"IF('Monthly Values'!DF15<>0,'Monthly Values'!DF15,\"\")","v":""},{"$f":"IF('Monthly Values'!DG15<>0,'Monthly Values'!DG15,\"\")","v":""},{"$f":"IF('Monthly Values'!DH15<>0,'Monthly Values'!DH15,\"\")","v":""},{"$f":"IF('Monthly Values'!DI15<>0,'Monthly Values'!DI15,\"\")","v":""},{"$f":"IF('Monthly Values'!DJ15<>0,'Monthly Values'!DJ15,\"\")","v":""},{"$f":"IF('Monthly Values'!DK15<>0,'Monthly Values'!DK15,\"\")","v":""},{"$f":"IF('Monthly Values'!DL15<>0,'Monthly Values'!DL15,\"\")","v":""},{"$f":"IF('Monthly Values'!DM15<>0,'Monthly Values'!DM15,\"\")","v":""},{"$f":"IF('Monthly Values'!DN15<>0,'Monthly Values'!DN15,\"\")","v":""},{"$f":"IF('Monthly Values'!DO15<>0,'Monthly Values'!DO15,\"\")","v":""},{"$f":"IF('Monthly Values'!DP15<>0,'Monthly Values'!DP15,\"\")","v":""},{"$f":"IF('Monthly Values'!DQ15<>0,'Monthly Values'!DQ15,\"\")","v":""},{"$f":"IF('Monthly Values'!DR15<>0,'Monthly Values'!DR15,\"\")","v":""},{"$f":"IF('Monthly Values'!DS15<>0,'Monthly Values'!DS15,\"\")","v":""},""]
[null,"Select From Dropdown",null,null,null,null,null,"Select From Dropdown",null,null,null,null,null,null,null,null,null,null,null,8,{"$f":"IF('Monthly Values'!D16<>0,'Monthly Values'!D16,\"\")","v":""},{"$f":"IF('Monthly Values'!E16<>0,'Monthly Values'!E16,\"\")","v":""},{"$f":"IF('Monthly Values'!F16<>0,'Monthly Values'!F16,\"\")","v":""},{"$f":"IF('Monthly Values'!G16<>0,'Monthly Values'!G16,\"\")","v":""},{"$f":"IF('Monthly Values'!H16<>0,'Monthly Values'!H16,\"\")","v":""},{"$f":"IF('Monthly Values'!I16<>0,'Monthly Values'!I16,\"\")","v":""},{"$f":"IF('Monthly Values'!J16<>0,'Monthly Values'!J16,\"\")","v":""},{"$f":"IF('Monthly Values'!K16<>0,'Monthly Values'!K16,\"\")","v":""},{"$f":"IF('Monthly Values'!L16<>0,'Monthly Values'!L16,\"\")","v":""},{"$f":"IF('Monthly Values'!M16<>0,'Monthly Values'!M16,\"\")","v":""},{"$f":"IF('Monthly Values'!N16<>0,'Monthly Values'!N16,\"\")","v":""},{"$f":"IF('Monthly Values'!O16<>0,'Monthly Values'!O16,\"\")","v":""},{"$f":"IF('Monthly Values'!P16<>0,'Monthly Values'!P16,\"\")","v":""},{"$f":"IF('Monthly Values'!Q16<>0,'Monthly Values'!Q16,\"\")","v":""},{"$f":"IF('Monthly Values'!R16<>0,'Monthly Values'!R16,\"\")","v":""},{"$f":"IF('Monthly Values'!S16<>0,'Monthly Values'!S16,\"\")","v":""},{"$f":"IF('Monthly Values'!T16<>0,'Monthly Values'!T16,\"\")","v":""},{"$f":"IF('Monthly Values'!U16<>0,'Monthly Values'!U16,\"\")","v":""},{"$f":"IF('Monthly Values'!V16<>0,'Monthly Values'!V16,\"\")","v":""},{"$f":"IF('Monthly Values'!W16<>0,'Monthly Values'!W16,\"\")","v":""},{"$f":"IF('Monthly Values'!X16<>0,'Monthly Values'!X16,\"\")","v":""},{"$f":"IF('Monthly Values'!Y16<>0,'Monthly Values'!Y16,\"\")","v":""},{"$f":"IF('Monthly Values'!Z16<>0,'Monthly Values'!Z16,\"\")","v":""},{"$f":"IF('Monthly Values'!AA16<>0,'Monthly Values'!AA16,\"\")","v":""},{"$f":"IF('Monthly Values'!AB16<>0,'Monthly Values'!AB16,\"\")","v":""},{"$f":"IF('Monthly Values'!AC16<>0,'Monthly Values'!AC16,\"\")","v":""},{"$f":"IF('Monthly Values'!AD16<>0,'Monthly Values'!AD16,\"\")","v":""},{"$f":"IF('Monthly Values'!AE16<>0,'Monthly Values'!AE16,\"\")","v":""},{"$f":"IF('Monthly Values'!AF16<>0,'Monthly Values'!AF16,\"\")","v":""},{"$f":"IF('Monthly Values'!AG16<>0,'Monthly Values'!AG16,\"\")","v":""},{"$f":"IF('Monthly Values'!AH16<>0,'Monthly Values'!AH16,\"\")","v":""},{"$f":"IF('Monthly Values'!AI16<>0,'Monthly Values'!AI16,\"\")","v":""},{"$f":"IF('Monthly Values'!AJ16<>0,'Monthly Values'!AJ16,\"\")","v":""},{"$f":"IF('Monthly Values'!AK16<>0,'Monthly Values'!AK16,\"\")","v":""},{"$f":"IF('Monthly Values'!AL16<>0,'Monthly Values'!AL16,\"\")","v":""},{"$f":"IF('Monthly Values'!AM16<>0,'Monthly Values'!AM16,\"\")","v":""},{"$f":"IF('Monthly Values'!AN16<>0,'Monthly Values'!AN16,\"\")","v":""},{"$f":"IF('Monthly Values'!AO16<>0,'Monthly Values'!AO16,\"\")","v":""},{"$f":"IF('Monthly Values'!AP16<>0,'Monthly Values'!AP16,\"\")","v":""},{"$f":"IF('Monthly Values'!AQ16<>0,'Monthly Values'!AQ16,\"\")","v":""},{"$f":"IF('Monthly Values'!AR16<>0,'Monthly Values'!AR16,\"\")","v":""},{"$f":"IF('Monthly Values'!AS16<>0,'Monthly Values'!AS16,\"\")","v":""},{"$f":"IF('Monthly Values'!AT16<>0,'Monthly Values'!AT16,\"\")","v":""},{"$f":"IF('Monthly Values'!AU16<>0,'Monthly Values'!AU16,\"\")","v":""},{"$f":"IF('Monthly Values'!AV16<>0,'Monthly Values'!AV16,\"\")","v":""},{"$f":"IF('Monthly Values'!AW16<>0,'Monthly Values'!AW16,\"\")","v":""},{"$f":"IF('Monthly Values'!AX16<>0,'Monthly Values'!AX16,\"\")","v":""},{"$f":"IF('Monthly Values'!AY16<>0,'Monthly Values'!AY16,\"\")","v":""},{"$f":"IF('Monthly Values'!AZ16<>0,'Monthly Values'!AZ16,\"\")","v":""},{"$f":"IF('Monthly Values'!BA16<>0,'Monthly Values'!BA16,\"\")","v":""},{"$f":"IF('Monthly Values'!BB16<>0,'Monthly Values'!BB16,\"\")","v":""},{"$f":"IF('Monthly Values'!BC16<>0,'Monthly Values'!BC16,\"\")","v":""},{"$f":"IF('Monthly Values'!BD16<>0,'Monthly Values'!BD16,\"\")","v":""},{"$f":"IF('Monthly Values'!BE16<>0,'Monthly Values'!BE16,\"\")","v":""},{"$f":"IF('Monthly Values'!BF16<>0,'Monthly Values'!BF16,\"\")","v":""},{"$f":"IF('Monthly Values'!BG16<>0,'Monthly Values'!BG16,\"\")","v":""},{"$f":"IF('Monthly Values'!BH16<>0,'Monthly Values'!BH16,\"\")","v":""},{"$f":"IF('Monthly Values'!BI16<>0,'Monthly Values'!BI16,\"\")","v":""},{"$f":"IF('Monthly Values'!BJ16<>0,'Monthly Values'!BJ16,\"\")","v":""},{"$f":"IF('Monthly Values'!BK16<>0,'Monthly Values'!BK16,\"\")","v":""},{"$f":"IF('Monthly Values'!BL16<>0,'Monthly Values'!BL16,\"\")","v":""},{"$f":"IF('Monthly Values'!BM16<>0,'Monthly Values'!BM16,\"\")","v":""},{"$f":"IF('Monthly Values'!BN16<>0,'Monthly Values'!BN16,\"\")","v":""},{"$f":"IF('Monthly Values'!BO16<>0,'Monthly Values'!BO16,\"\")","v":""},{"$f":"IF('Monthly Values'!BP16<>0,'Monthly Values'!BP16,\"\")","v":""},{"$f":"IF('Monthly Values'!BQ16<>0,'Monthly Values'!BQ16,\"\")","v":""},{"$f":"IF('Monthly Values'!BR16<>0,'Monthly Values'!BR16,\"\")","v":""},{"$f":"IF('Monthly Values'!BS16<>0,'Monthly Values'!BS16,\"\")","v":""},{"$f":"IF('Monthly Values'!BT16<>0,'Monthly Values'!BT16,\"\")","v":""},{"$f":"IF('Monthly Values'!BU16<>0,'Monthly Values'!BU16,\"\")","v":""},{"$f":"IF('Monthly Values'!BV16<>0,'Monthly Values'!BV16,\"\")","v":""},{"$f":"IF('Monthly Values'!BW16<>0,'Monthly Values'!BW16,\"\")","v":""},{"$f":"IF('Monthly Values'!BX16<>0,'Monthly Values'!BX16,\"\")","v":""},{"$f":"IF('Monthly Values'!BY16<>0,'Monthly Values'!BY16,\"\")","v":""},{"$f":"IF('Monthly Values'!BZ16<>0,'Monthly Values'!BZ16,\"\")","v":""},{"$f":"IF('Monthly Values'!CA16<>0,'Monthly Values'!CA16,\"\")","v":""},{"$f":"IF('Monthly Values'!CB16<>0,'Monthly Values'!CB16,\"\")","v":""},{"$f":"IF('Monthly Values'!CC16<>0,'Monthly Values'!CC16,\"\")","v":""},{"$f":"IF('Monthly Values'!CD16<>0,'Monthly Values'!CD16,\"\")","v":""},{"$f":"IF('Monthly Values'!CE16<>0,'Monthly Values'!CE16,\"\")","v":""},{"$f":"IF('Monthly Values'!CF16<>0,'Monthly Values'!CF16,\"\")","v":""},{"$f":"IF('Monthly Values'!CG16<>0,'Monthly Values'!CG16,\"\")","v":""},{"$f":"IF('Monthly Values'!CH16<>0,'Monthly Values'!CH16,\"\")","v":""},{"$f":"IF('Monthly Values'!CI16<>0,'Monthly Values'!CI16,\"\")","v":""},{"$f":"IF('Monthly Values'!CJ16<>0,'Monthly Values'!CJ16,\"\")","v":""},{"$f":"IF('Monthly Values'!CK16<>0,'Monthly Values'!CK16,\"\")","v":""},{"$f":"IF('Monthly Values'!CL16<>0,'Monthly Values'!CL16,\"\")","v":""},{"$f":"IF('Monthly Values'!CM16<>0,'Monthly Values'!CM16,\"\")","v":""},{"$f":"IF('Monthly Values'!CN16<>0,'Monthly Values'!CN16,\"\")","v":""},{"$f":"IF('Monthly Values'!CO16<>0,'Monthly Values'!CO16,\"\")","v":""},{"$f":"IF('Monthly Values'!CP16<>0,'Monthly Values'!CP16,\"\")","v":""},{"$f":"IF('Monthly Values'!CQ16<>0,'Monthly Values'!CQ16,\"\")","v":""},{"$f":"IF('Monthly Values'!CR16<>0,'Monthly Values'!CR16,\"\")","v":""},{"$f":"IF('Monthly Values'!CS16<>0,'Monthly Values'!CS16,\"\")","v":""},{"$f":"IF('Monthly Values'!CT16<>0,'Monthly Values'!CT16,\"\")","v":""},{"$f":"IF('Monthly Values'!CU16<>0,'Monthly Values'!CU16,\"\")","v":""},{"$f":"IF('Monthly Values'!CV16<>0,'Monthly Values'!CV16,\"\")","v":""},{"$f":"IF('Monthly Values'!CW16<>0,'Monthly Values'!CW16,\"\")","v":""},{"$f":"IF('Monthly Values'!CX16<>0,'Monthly Values'!CX16,\"\")","v":""},{"$f":"IF('Monthly Values'!CY16<>0,'Monthly Values'!CY16,\"\")","v":""},{"$f":"IF('Monthly Values'!CZ16<>0,'Monthly Values'!CZ16,\"\")","v":""},{"$f":"IF('Monthly Values'!DA16<>0,'Monthly Values'!DA16,\"\")","v":""},{"$f":"IF('Monthly Values'!DB16<>0,'Monthly Values'!DB16,\"\")","v":""},{"$f":"IF('Monthly Values'!DC16<>0,'Monthly Values'!DC16,\"\")","v":""},{"$f":"IF('Monthly Values'!DD16<>0,'Monthly Values'!DD16,\"\")","v":""},{"$f":"IF('Monthly Values'!DE16<>0,'Monthly Values'!DE16,\"\")","v":""},{"$f":"IF('Monthly Values'!DF16<>0,'Monthly Values'!DF16,\"\")","v":""},{"$f":"IF('Monthly Values'!DG16<>0,'Monthly Values'!DG16,\"\")","v":""},{"$f":"IF('Monthly Values'!DH16<>0,'Monthly Values'!DH16,\"\")","v":""},{"$f":"IF('Monthly Values'!DI16<>0,'Monthly Values'!DI16,\"\")","v":""},{"$f":"IF('Monthly Values'!DJ16<>0,'Monthly Values'!DJ16,\"\")","v":""},{"$f":"IF('Monthly Values'!DK16<>0,'Monthly Values'!DK16,\"\")","v":""},{"$f":"IF('Monthly Values'!DL16<>0,'Monthly Values'!DL16,\"\")","v":""},{"$f":"IF('Monthly Values'!DM16<>0,'Monthly Values'!DM16,\"\")","v":""},{"$f":"IF('Monthly Values'!DN16<>0,'Monthly Values'!DN16,\"\")","v":""},{"$f":"IF('Monthly Values'!DO16<>0,'Monthly Values'!DO16,\"\")","v":""},{"$f":"IF('Monthly Values'!DP16<>0,'Monthly Values'!DP16,\"\")","v":""},{"$f":"IF('Monthly Values'!DQ16<>0,'Monthly Values'!DQ16,\"\")","v":""},{"$f":"IF('Monthly Values'!DR16<>0,'Monthly Values'!DR16,\"\")","v":""},{"$f":"IF('Monthly Values'!DS16<>0,'Monthly Values'!DS16,\"\")","v":""},""]
[null,"RRSP",null,null,null,null,null,"House",null,null,null,null,null,null,"Data For Account Type on MV Pulling From AS",null,null,null,"Investments",1,{"$f":"IF('Monthly Values'!D23<>0,'Monthly Values'!D23,\"\")","v":""},{"$f":"IF('Monthly Values'!E23<>0,'Monthly Values'!E23,\"\")","v":""},{"$f":"IF('Monthly Values'!F23<>0,'Monthly Values'!F23,\"\")","v":""},{"$f":"IF('Monthly Values'!G23<>0,'Monthly Values'!G23,\"\")","v":""},{"$f":"IF('Monthly Values'!H23<>0,'Monthly Values'!H23,\"\")","v":""},{"$f":"IF('Monthly Values'!I23<>0,'Monthly Values'!I23,\"\")","v":""},{"$f":"IF('Monthly Values'!J23<>0,'Monthly Values'!J23,\"\")","v":""},{"$f":"IF('Monthly Values'!K23<>0,'Monthly Values'!K23,\"\")","v":""},{"$f":"IF('Monthly Values'!L23<>0,'Monthly Values'!L23,\"\")","v":""},{"$f":"IF('Monthly Values'!M23<>0,'Monthly Values'!M23,\"\")","v":""},{"$f":"IF('Monthly Values'!N23<>0,'Monthly Values'!N23,\"\")","v":""},{"$f":"IF('Monthly Values'!O23<>0,'Monthly Values'!O23,\"\")","v":""},{"$f":"IF('Monthly Values'!P23<>0,'Monthly Values'!P23,\"\")","v":""},{"$f":"IF('Monthly Values'!Q23<>0,'Monthly Values'!Q23,\"\")","v":""},{"$f":"IF('Monthly Values'!R23<>0,'Monthly Values'!R23,\"\")","v":""},{"$f":"IF('Monthly Values'!S23<>0,'Monthly Values'!S23,\"\")","v":""},{"$f":"IF('Monthly Values'!T23<>0,'Monthly Values'!T23,\"\")","v":""},{"$f":"IF('Monthly Values'!U23<>0,'Monthly Values'!U23,\"\")","v":""},{"$f":"IF('Monthly Values'!V23<>0,'Monthly Values'!V23,\"\")","v":""},{"$f":"IF('Monthly Values'!W23<>0,'Monthly Values'!W23,\"\")","v":""},{"$f":"IF('Monthly Values'!X23<>0,'Monthly Values'!X23,\"\")","v":""},{"$f":"IF('Monthly Values'!Y23<>0,'Monthly Values'!Y23,\"\")","v":""},{"$f":"IF('Monthly Values'!Z23<>0,'Monthly Values'!Z23,\"\")","v":""},{"$f":"IF('Monthly Values'!AA23<>0,'Monthly Values'!AA23,\"\")","v":""},{"$f":"IF('Monthly Values'!AB23<>0,'Monthly Values'!AB23,\"\")","v":""},{"$f":"IF('Monthly Values'!AC23<>0,'Monthly Values'!AC23,\"\")","v":""},{"$f":"IF('Monthly Values'!AD23<>0,'Monthly Values'!AD23,\"\")","v":""},{"$f":"IF('Monthly Values'!AE23<>0,'Monthly Values'!AE23,\"\")","v":""},{"$f":"IF('Monthly Values'!AF23<>0,'Monthly Values'!AF23,\"\")","v":""},{"$f":"IF('Monthly Values'!AG23<>0,'Monthly Values'!AG23,\"\")","v":""},{"$f":"IF('Monthly Values'!AH23<>0,'Monthly Values'!AH23,\"\")","v":""},{"$f":"IF('Monthly Values'!AI23<>0,'Monthly Values'!AI23,\"\")","v":""},{"$f":"IF('Monthly Values'!AJ23<>0,'Monthly Values'!AJ23,\"\")","v":""},{"$f":"IF('Monthly Values'!AK23<>0,'Monthly Values'!AK23,\"\")","v":""},{"$f":"IF('Monthly Values'!AL23<>0,'Monthly Values'!AL23,\"\")","v":""},{"$f":"IF('Monthly Values'!AM23<>0,'Monthly Values'!AM23,\"\")","v":""},{"$f":"IF('Monthly Values'!AN23<>0,'Monthly Values'!AN23,\"\")","v":""},{"$f":"IF('Monthly Values'!AO23<>0,'Monthly Values'!AO23,\"\")","v":""},{"$f":"IF('Monthly Values'!AP23<>0,'Monthly Values'!AP23,\"\")","v":""},{"$f":"IF('Monthly Values'!AQ23<>0,'Monthly Values'!AQ23,\"\")","v":""},{"$f":"IF('Monthly Values'!AR23<>0,'Monthly Values'!AR23,\"\")","v":""},{"$f":"IF('Monthly Values'!AS23<>0,'Monthly Values'!AS23,\"\")","v":""},{"$f":"IF('Monthly Values'!AT23<>0,'Monthly Values'!AT23,\"\")","v":""},{"$f":"IF('Monthly Values'!AU23<>0,'Monthly Values'!AU23,\"\")","v":""},{"$f":"IF('Monthly Values'!AV23<>0,'Monthly Values'!AV23,\"\")","v":""},{"$f":"IF('Monthly Values'!AW23<>0,'Monthly Values'!AW23,\"\")","v":""},{"$f":"IF('Monthly Values'!AX23<>0,'Monthly Values'!AX23,\"\")","v":""},{"$f":"IF('Monthly Values'!AY23<>0,'Monthly Values'!AY23,\"\")","v":""},{"$f":"IF('Monthly Values'!AZ23<>0,'Monthly Values'!AZ23,\"\")","v":""},{"$f":"IF('Monthly Values'!BA23<>0,'Monthly Values'!BA23,\"\")","v":""},{"$f":"IF('Monthly Values'!BB23<>0,'Monthly Values'!BB23,\"\")","v":""},{"$f":"IF('Monthly Values'!BC23<>0,'Monthly Values'!BC23,\"\")","v":""},{"$f":"IF('Monthly Values'!BD23<>0,'Monthly Values'!BD23,\"\")","v":""},{"$f":"IF('Monthly Values'!BE23<>0,'Monthly Values'!BE23,\"\")","v":""},{"$f":"IF('Monthly Values'!BF23<>0,'Monthly Values'!BF23,\"\")","v":""},{"$f":"IF('Monthly Values'!BG23<>0,'Monthly Values'!BG23,\"\")","v":""},{"$f":"IF('Monthly Values'!BH23<>0,'Monthly Values'!BH23,\"\")","v":""},{"$f":"IF('Monthly Values'!BI23<>0,'Monthly Values'!BI23,\"\")","v":""},{"$f":"IF('Monthly Values'!BJ23<>0,'Monthly Values'!BJ23,\"\")","v":""},{"$f":"IF('Monthly Values'!BK23<>0,'Monthly Values'!BK23,\"\")","v":""},{"$f":"IF('Monthly Values'!BL23<>0,'Monthly Values'!BL23,\"\")","v":""},{"$f":"IF('Monthly Values'!BM23<>0,'Monthly Values'!BM23,\"\")","v":""},{"$f":"IF('Monthly Values'!BN23<>0,'Monthly Values'!BN23,\"\")","v":""},{"$f":"IF('Monthly Values'!BO23<>0,'Monthly Values'!BO23,\"\")","v":""},{"$f":"IF('Monthly Values'!BP23<>0,'Monthly Values'!BP23,\"\")","v":""},{"$f":"IF('Monthly Values'!BQ23<>0,'Monthly Values'!BQ23,\"\")","v":""},{"$f":"IF('Monthly Values'!BR23<>0,'Monthly Values'!BR23,\"\")","v":""},{"$f":"IF('Monthly Values'!BS23<>0,'Monthly Values'!BS23,\"\")","v":""},{"$f":"IF('Monthly Values'!BT23<>0,'Monthly Values'!BT23,\"\")","v":""},{"$f":"IF('Monthly Values'!BU23<>0,'Monthly Values'!BU23,\"\")","v":""},{"$f":"IF('Monthly Values'!BV23<>0,'Monthly Values'!BV23,\"\")","v":""},{"$f":"IF('Monthly Values'!BW23<>0,'Monthly Values'!BW23,\"\")","v":""},{"$f":"IF('Monthly Values'!BX23<>0,'Monthly Values'!BX23,\"\")","v":""},{"$f":"IF('Monthly Values'!BY23<>0,'Monthly Values'!BY23,\"\")","v":""},{"$f":"IF('Monthly Values'!BZ23<>0,'Monthly Values'!BZ23,\"\")","v":""},{"$f":"IF('Monthly Values'!CA23<>0,'Monthly Values'!CA23,\"\")","v":""},{"$f":"IF('Monthly Values'!CB23<>0,'Monthly Values'!CB23,\"\")","v":""},{"$f":"IF('Monthly Values'!CC23<>0,'Monthly Values'!CC23,\"\")","v":""},{"$f":"IF('Monthly Values'!CD23<>0,'Monthly Values'!CD23,\"\")","v":""},{"$f":"IF('Monthly Values'!CE23<>0,'Monthly Values'!CE23,\"\")","v":""},{"$f":"IF('Monthly Values'!CF23<>0,'Monthly Values'!CF23,\"\")","v":""},{"$f":"IF('Monthly Values'!CG23<>0,'Monthly Values'!CG23,\"\")","v":""},{"$f":"IF('Monthly Values'!CH23<>0,'Monthly Values'!CH23,\"\")","v":""},{"$f":"IF('Monthly Values'!CI23<>0,'Monthly Values'!CI23,\"\")","v":""},{"$f":"IF('Monthly Values'!CJ23<>0,'Monthly Values'!CJ23,\"\")","v":""},{"$f":"IF('Monthly Values'!CK23<>0,'Monthly Values'!CK23,\"\")","v":""},{"$f":"IF('Monthly Values'!CL23<>0,'Monthly Values'!CL23,\"\")","v":""},{"$f":"IF('Monthly Values'!CM23<>0,'Monthly Values'!CM23,\"\")","v":""},{"$f":"IF('Monthly Values'!CN23<>0,'Monthly Values'!CN23,\"\")","v":""},{"$f":"IF('Monthly Values'!CO23<>0,'Monthly Values'!CO23,\"\")","v":""},{"$f":"IF('Monthly Values'!CP23<>0,'Monthly Values'!CP23,\"\")","v":""},{"$f":"IF('Monthly Values'!CQ23<>0,'Monthly Values'!CQ23,\"\")","v":""},{"$f":"IF('Monthly Values'!CR23<>0,'Monthly Values'!CR23,\"\")","v":""},{"$f":"IF('Monthly Values'!CS23<>0,'Monthly Values'!CS23,\"\")","v":""},{"$f":"IF('Monthly Values'!CT23<>0,'Monthly Values'!CT23,\"\")","v":""},{"$f":"IF('Monthly Values'!CU23<>0,'Monthly Values'!CU23,\"\")","v":""},{"$f":"IF('Monthly Values'!CV23<>0,'Monthly Values'!CV23,\"\")","v":""},{"$f":"IF('Monthly Values'!CW23<>0,'Monthly Values'!CW23,\"\")","v":""},{"$f":"IF('Monthly Values'!CX23<>0,'Monthly Values'!CX23,\"\")","v":""},{"$f":"IF('Monthly Values'!CY23<>0,'Monthly Values'!CY23,\"\")","v":""},{"$f":"IF('Monthly Values'!CZ23<>0,'Monthly Values'!CZ23,\"\")","v":""},{"$f":"IF('Monthly Values'!DA23<>0,'Monthly Values'!DA23,\"\")","v":""},{"$f":"IF('Monthly Values'!DB23<>0,'Monthly Values'!DB23,\"\")","v":""},{"$f":"IF('Monthly Values'!DC23<>0,'Monthly Values'!DC23,\"\")","v":""},{"$f":"IF('Monthly Values'!DD23<>0,'Monthly Values'!DD23,\"\")","v":""},{"$f":"IF('Monthly Values'!DE23<>0,'Monthly Values'!DE23,\"\")","v":""},{"$f":"IF('Monthly Values'!DF23<>0,'Monthly Values'!DF23,\"\")","v":""},{"$f":"IF('Monthly Values'!DG23<>0,'Monthly Values'!DG23,\"\")","v":""},{"$f":"IF('Monthly Values'!DH23<>0,'Monthly Values'!DH23,\"\")","v":""},{"$f":"IF('Monthly Values'!DI23<>0,'Monthly Values'!DI23,\"\")","v":""},{"$f":"IF('Monthly Values'!DJ23<>0,'Monthly Values'!DJ23,\"\")","v":""},{"$f":"IF('Monthly Values'!DK23<>0,'Monthly Values'!DK23,\"\")","v":""},{"$f":"IF('Monthly Values'!DL23<>0,'Monthly Values'!DL23,\"\")","v":""},{"$f":"IF('Monthly Values'!DM23<>0,'Monthly Values'!DM23,\"\")","v":""},{"$f":"IF('Monthly Values'!DN23<>0,'Monthly Values'!DN23,\"\")","v":""},{"$f":"IF('Monthly Values'!DO23<>0,'Monthly Values'!DO23,\"\")","v":""},{"$f":"IF('Monthly Values'!DP23<>0,'Monthly Values'!DP23,\"\")","v":""},{"$f":"IF('Monthly Values'!DQ23<>0,'Monthly Values'!DQ23,\"\")","v":""},{"$f":"IF('Monthly Values'!DR23<>0,'Monthly Values'!DR23,\"\")","v":""},{"$f":"IF('Monthly Values'!DS23<>0,'Monthly Values'!DS23,\"\")","v":""},""]
[null,"Spousal RRSP",null,null,null,null,null,"Vacation Home",null,null,null,null,null,null,null,null,null,null,null,2,{"$f":"IF('Monthly Values'!D24<>0,'Monthly Values'!D24,\"\")","v":""},{"$f":"IF('Monthly Values'!E24<>0,'Monthly Values'!E24,\"\")","v":""},{"$f":"IF('Monthly Values'!F24<>0,'Monthly Values'!F24,\"\")","v":""},{"$f":"IF('Monthly Values'!G24<>0,'Monthly Values'!G24,\"\")","v":""},{"$f":"IF('Monthly Values'!H24<>0,'Monthly Values'!H24,\"\")","v":""},{"$f":"IF('Monthly Values'!I24<>0,'Monthly Values'!I24,\"\")","v":""},{"$f":"IF('Monthly Values'!J24<>0,'Monthly Values'!J24,\"\")","v":""},{"$f":"IF('Monthly Values'!K24<>0,'Monthly Values'!K24,\"\")","v":""},{"$f":"IF('Monthly Values'!L24<>0,'Monthly Values'!L24,\"\")","v":""},{"$f":"IF('Monthly Values'!M24<>0,'Monthly Values'!M24,\"\")","v":""},{"$f":"IF('Monthly Values'!N24<>0,'Monthly Values'!N24,\"\")","v":""},{"$f":"IF('Monthly Values'!O24<>0,'Monthly Values'!O24,\"\")","v":""},{"$f":"IF('Monthly Values'!P24<>0,'Monthly Values'!P24,\"\")","v":""},{"$f":"IF('Monthly Values'!Q24<>0,'Monthly Values'!Q24,\"\")","v":""},{"$f":"IF('Monthly Values'!R24<>0,'Monthly Values'!R24,\"\")","v":""},{"$f":"IF('Monthly Values'!S24<>0,'Monthly Values'!S24,\"\")","v":""},{"$f":"IF('Monthly Values'!T24<>0,'Monthly Values'!T24,\"\")","v":""},{"$f":"IF('Monthly Values'!U24<>0,'Monthly Values'!U24,\"\")","v":""},{"$f":"IF('Monthly Values'!V24<>0,'Monthly Values'!V24,\"\")","v":""},{"$f":"IF('Monthly Values'!W24<>0,'Monthly Values'!W24,\"\")","v":""},{"$f":"IF('Monthly Values'!X24<>0,'Monthly Values'!X24,\"\")","v":""},{"$f":"IF('Monthly Values'!Y24<>0,'Monthly Values'!Y24,\"\")","v":""},{"$f":"IF('Monthly Values'!Z24<>0,'Monthly Values'!Z24,\"\")","v":""},{"$f":"IF('Monthly Values'!AA24<>0,'Monthly Values'!AA24,\"\")","v":""},{"$f":"IF('Monthly Values'!AB24<>0,'Monthly Values'!AB24,\"\")","v":""},{"$f":"IF('Monthly Values'!AC24<>0,'Monthly Values'!AC24,\"\")","v":""},{"$f":"IF('Monthly Values'!AD24<>0,'Monthly Values'!AD24,\"\")","v":""},{"$f":"IF('Monthly Values'!AE24<>0,'Monthly Values'!AE24,\"\")","v":""},{"$f":"IF('Monthly Values'!AF24<>0,'Monthly Values'!AF24,\"\")","v":""},{"$f":"IF('Monthly Values'!AG24<>0,'Monthly Values'!AG24,\"\")","v":""},{"$f":"IF('Monthly Values'!AH24<>0,'Monthly Values'!AH24,\"\")","v":""},{"$f":"IF('Monthly Values'!AI24<>0,'Monthly Values'!AI24,\"\")","v":""},{"$f":"IF('Monthly Values'!AJ24<>0,'Monthly Values'!AJ24,\"\")","v":""},{"$f":"IF('Monthly Values'!AK24<>0,'Monthly Values'!AK24,\"\")","v":""},{"$f":"IF('Monthly Values'!AL24<>0,'Monthly Values'!AL24,\"\")","v":""},{"$f":"IF('Monthly Values'!AM24<>0,'Monthly Values'!AM24,\"\")","v":""},{"$f":"IF('Monthly Values'!AN24<>0,'Monthly Values'!AN24,\"\")","v":""},{"$f":"IF('Monthly Values'!AO24<>0,'Monthly Values'!AO24,\"\")","v":""},{"$f":"IF('Monthly Values'!AP24<>0,'Monthly Values'!AP24,\"\")","v":""},{"$f":"IF('Monthly Values'!AQ24<>0,'Monthly Values'!AQ24,\"\")","v":""},{"$f":"IF('Monthly Values'!AR24<>0,'Monthly Values'!AR24,\"\")","v":""},{"$f":"IF('Monthly Values'!AS24<>0,'Monthly Values'!AS24,\"\")","v":""},{"$f":"IF('Monthly Values'!AT24<>0,'Monthly Values'!AT24,\"\")","v":""},{"$f":"IF('Monthly Values'!AU24<>0,'Monthly Values'!AU24,\"\")","v":""},{"$f":"IF('Monthly Values'!AV24<>0,'Monthly Values'!AV24,\"\")","v":""},{"$f":"IF('Monthly Values'!AW24<>0,'Monthly Values'!AW24,\"\")","v":""},{"$f":"IF('Monthly Values'!AX24<>0,'Monthly Values'!AX24,\"\")","v":""},{"$f":"IF('Monthly Values'!AY24<>0,'Monthly Values'!AY24,\"\")","v":""},{"$f":"IF('Monthly Values'!AZ24<>0,'Monthly Values'!AZ24,\"\")","v":""},{"$f":"IF('Monthly Values'!BA24<>0,'Monthly Values'!BA24,\"\")","v":""},{"$f":"IF('Monthly Values'!BB24<>0,'Monthly Values'!BB24,\"\")","v":""},{"$f":"IF('Monthly Values'!BC24<>0,'Monthly Values'!BC24,\"\")","v":""},{"$f":"IF('Monthly Values'!BD24<>0,'Monthly Values'!BD24,\"\")","v":""},{"$f":"IF('Monthly Values'!BE24<>0,'Monthly Values'!BE24,\"\")","v":""},{"$f":"IF('Monthly Values'!BF24<>0,'Monthly Values'!BF24,\"\")","v":""},{"$f":"IF('Monthly Values'!BG24<>0,'Monthly Values'!BG24,\"\")","v":""},{"$f":"IF('Monthly Values'!BH24<>0,'Monthly Values'!BH24,\"\")","v":""},{"$f":"IF('Monthly Values'!BI24<>0,'Monthly Values'!BI24,\"\")","v":""},{"$f":"IF('Monthly Values'!BJ24<>0,'Monthly Values'!BJ24,\"\")","v":""},{"$f":"IF('Monthly Values'!BK24<>0,'Monthly Values'!BK24,\"\")","v":""},{"$f":"IF('Monthly Values'!BL24<>0,'Monthly Values'!BL24,\"\")","v":""},{"$f":"IF('Monthly Values'!BM24<>0,'Monthly Values'!BM24,\"\")","v":""},{"$f":"IF('Monthly Values'!BN24<>0,'Monthly Values'!BN24,\"\")","v":""},{"$f":"IF('Monthly Values'!BO24<>0,'Monthly Values'!BO24,\"\")","v":""},{"$f":"IF('Monthly Values'!BP24<>0,'Monthly Values'!BP24,\"\")","v":""},{"$f":"IF('Monthly Values'!BQ24<>0,'Monthly Values'!BQ24,\"\")","v":""},{"$f":"IF('Monthly Values'!BR24<>0,'Monthly Values'!BR24,\"\")","v":""},{"$f":"IF('Monthly Values'!BS24<>0,'Monthly Values'!BS24,\"\")","v":""},{"$f":"IF('Monthly Values'!BT24<>0,'Monthly Values'!BT24,\"\")","v":""},{"$f":"IF('Monthly Values'!BU24<>0,'Monthly Values'!BU24,\"\")","v":""},{"$f":"IF('Monthly Values'!BV24<>0,'Monthly Values'!BV24,\"\")","v":""},{"$f":"IF('Monthly Values'!BW24<>0,'Monthly Values'!BW24,\"\")","v":""},{"$f":"IF('Monthly Values'!BX24<>0,'Monthly Values'!BX24,\"\")","v":""},{"$f":"IF('Monthly Values'!BY24<>0,'Monthly Values'!BY24,\"\")","v":""},{"$f":"IF('Monthly Values'!BZ24<>0,'Monthly Values'!BZ24,\"\")","v":""},{"$f":"IF('Monthly Values'!CA24<>0,'Monthly Values'!CA24,\"\")","v":""},{"$f":"IF('Monthly Values'!CB24<>0,'Monthly Values'!CB24,\"\")","v":""},{"$f":"IF('Monthly Values'!CC24<>0,'Monthly Values'!CC24,\"\")","v":""},{"$f":"IF('Monthly Values'!CD24<>0,'Monthly Values'!CD24,\"\")","v":""},{"$f":"IF('Monthly Values'!CE24<>0,'Monthly Values'!CE24,\"\")","v":""},{"$f":"IF('Monthly Values'!CF24<>0,'Monthly Values'!CF24,\"\")","v":""},{"$f":"IF('Monthly Values'!CG24<>0,'Monthly Values'!CG24,\"\")","v":""},{"$f":"IF('Monthly Values'!CH24<>0,'Monthly Values'!CH24,\"\")","v":""},{"$f":"IF('Monthly Values'!CI24<>0,'Monthly Values'!CI24,\"\")","v":""},{"$f":"IF('Monthly Values'!CJ24<>0,'Monthly Values'!CJ24,\"\")","v":""},{"$f":"IF('Monthly Values'!CK24<>0,'Monthly Values'!CK24,\"\")","v":""},{"$f":"IF('Monthly Values'!CL24<>0,'Monthly Values'!CL24,\"\")","v":""},{"$f":"IF('Monthly Values'!CM24<>0,'Monthly Values'!CM24,\"\")","v":""},{"$f":"IF('Monthly Values'!CN24<>0,'Monthly Values'!CN24,\"\")","v":""},{"$f":"IF('Monthly Values'!CO24<>0,'Monthly Values'!CO24,\"\")","v":""},{"$f":"IF('Monthly Values'!CP24<>0,'Monthly Values'!CP24,\"\")","v":""},{"$f":"IF('Monthly Values'!CQ24<>0,'Monthly Values'!CQ24,\"\")","v":""},{"$f":"IF('Monthly Values'!CR24<>0,'Monthly Values'!CR24,\"\")","v":""},{"$f":"IF('Monthly Values'!CS24<>0,'Monthly Values'!CS24,\"\")","v":""},{"$f":"IF('Monthly Values'!CT24<>0,'Monthly Values'!CT24,\"\")","v":""},{"$f":"IF('Monthly Values'!CU24<>0,'Monthly Values'!CU24,\"\")","v":""},{"$f":"IF('Monthly Values'!CV24<>0,'Monthly Values'!CV24,\"\")","v":""},{"$f":"IF('Monthly Values'!CW24<>0,'Monthly Values'!CW24,\"\")","v":""},{"$f":"IF('Monthly Values'!CX24<>0,'Monthly Values'!CX24,\"\")","v":""},{"$f":"IF('Monthly Values'!CY24<>0,'Monthly Values'!CY24,\"\")","v":""},{"$f":"IF('Monthly Values'!CZ24<>0,'Monthly Values'!CZ24,\"\")","v":""},{"$f":"IF('Monthly Values'!DA24<>0,'Monthly Values'!DA24,\"\")","v":""},{"$f":"IF('Monthly Values'!DB24<>0,'Monthly Values'!DB24,\"\")","v":""},{"$f":"IF('Monthly Values'!DC24<>0,'Monthly Values'!DC24,\"\")","v":""},{"$f":"IF('Monthly Values'!DD24<>0,'Monthly Values'!DD24,\"\")","v":""},{"$f":"IF('Monthly Values'!DE24<>0,'Monthly Values'!DE24,\"\")","v":""},{"$f":"IF('Monthly Values'!DF24<>0,'Monthly Values'!DF24,\"\")","v":""},{"$f":"IF('Monthly Values'!DG24<>0,'Monthly Values'!DG24,\"\")","v":""},{"$f":"IF('Monthly Values'!DH24<>0,'Monthly Values'!DH24,\"\")","v":""},{"$f":"IF('Monthly Values'!DI24<>0,'Monthly Values'!DI24,\"\")","v":""},{"$f":"IF('Monthly Values'!DJ24<>0,'Monthly Values'!DJ24,\"\")","v":""},{"$f":"IF('Monthly Values'!DK24<>0,'Monthly Values'!DK24,\"\")","v":""},{"$f":"IF('Monthly Values'!DL24<>0,'Monthly Values'!DL24,\"\")","v":""},{"$f":"IF('Monthly Values'!DM24<>0,'Monthly Values'!DM24,\"\")","v":""},{"$f":"IF('Monthly Values'!DN24<>0,'Monthly Values'!DN24,\"\")","v":""},{"$f":"IF('Monthly Values'!DO24<>0,'Monthly Values'!DO24,\"\")","v":""},{"$f":"IF('Monthly Values'!DP24<>0,'Monthly Values'!DP24,\"\")","v":""},{"$f":"IF('Monthly Values'!DQ24<>0,'Monthly Values'!DQ24,\"\")","v":""},{"$f":"IF('Monthly Values'!DR24<>0,'Monthly Values'!DR24,\"\")","v":""},{"$f":"IF('Monthly Values'!DS24<>0,'Monthly Values'!DS24,\"\")","v":""},""]
[null,"TFSA",null,null,null,null,null,"Rental Property",null,null,null,null,null,null,"Account Type","Account Name","Combination",null,null,3,{"$f":"IF('Monthly Values'!D25<>0,'Monthly Values'!D25,\"\")","v":""},{"$f":"IF('Monthly Values'!E25<>0,'Monthly Values'!E25,\"\")","v":""},{"$f":"IF('Monthly Values'!F25<>0,'Monthly Values'!F25,\"\")","v":""},{"$f":"IF('Monthly Values'!G25<>0,'Monthly Values'!G25,\"\")","v":""},{"$f":"IF('Monthly Values'!H25<>0,'Monthly Values'!H25,\"\")","v":""},{"$f":"IF('Monthly Values'!I25<>0,'Monthly Values'!I25,\"\")","v":""},{"$f":"IF('Monthly Values'!J25<>0,'Monthly Values'!J25,\"\")","v":""},{"$f":"IF('Monthly Values'!K25<>0,'Monthly Values'!K25,\"\")","v":""},{"$f":"IF('Monthly Values'!L25<>0,'Monthly Values'!L25,\"\")","v":""},{"$f":"IF('Monthly Values'!M25<>0,'Monthly Values'!M25,\"\")","v":""},{"$f":"IF('Monthly Values'!N25<>0,'Monthly Values'!N25,\"\")","v":""},{"$f":"IF('Monthly Values'!O25<>0,'Monthly Values'!O25,\"\")","v":""},{"$f":"IF('Monthly Values'!P25<>0,'Monthly Values'!P25,\"\")","v":""},{"$f":"IF('Monthly Values'!Q25<>0,'Monthly Values'!Q25,\"\")","v":""},{"$f":"IF('Monthly Values'!R25<>0,'Monthly Values'!R25,\"\")","v":""},{"$f":"IF('Monthly Values'!S25<>0,'Monthly Values'!S25,\"\")","v":""},{"$f":"IF('Monthly Values'!T25<>0,'Monthly Values'!T25,\"\")","v":""},{"$f":"IF('Monthly Values'!U25<>0,'Monthly Values'!U25,\"\")","v":""},{"$f":"IF('Monthly Values'!V25<>0,'Monthly Values'!V25,\"\")","v":""},{"$f":"IF('Monthly Values'!W25<>0,'Monthly Values'!W25,\"\")","v":""},{"$f":"IF('Monthly Values'!X25<>0,'Monthly Values'!X25,\"\")","v":""},{"$f":"IF('Monthly Values'!Y25<>0,'Monthly Values'!Y25,\"\")","v":""},{"$f":"IF('Monthly Values'!Z25<>0,'Monthly Values'!Z25,\"\")","v":""},{"$f":"IF('Monthly Values'!AA25<>0,'Monthly Values'!AA25,\"\")","v":""},{"$f":"IF('Monthly Values'!AB25<>0,'Monthly Values'!AB25,\"\")","v":""},{"$f":"IF('Monthly Values'!AC25<>0,'Monthly Values'!AC25,\"\")","v":""},{"$f":"IF('Monthly Values'!AD25<>0,'Monthly Values'!AD25,\"\")","v":""},{"$f":"IF('Monthly Values'!AE25<>0,'Monthly Values'!AE25,\"\")","v":""},{"$f":"IF('Monthly Values'!AF25<>0,'Monthly Values'!AF25,\"\")","v":""},{"$f":"IF('Monthly Values'!AG25<>0,'Monthly Values'!AG25,\"\")","v":""},{"$f":"IF('Monthly Values'!AH25<>0,'Monthly Values'!AH25,\"\")","v":""},{"$f":"IF('Monthly Values'!AI25<>0,'Monthly Values'!AI25,\"\")","v":""},{"$f":"IF('Monthly Values'!AJ25<>0,'Monthly Values'!AJ25,\"\")","v":""},{"$f":"IF('Monthly Values'!AK25<>0,'Monthly Values'!AK25,\"\")","v":""},{"$f":"IF('Monthly Values'!AL25<>0,'Monthly Values'!AL25,\"\")","v":""},{"$f":"IF('Monthly Values'!AM25<>0,'Monthly Values'!AM25,\"\")","v":""},{"$f":"IF('Monthly Values'!AN25<>0,'Monthly Values'!AN25,\"\")","v":""},{"$f":"IF('Monthly Values'!AO25<>0,'Monthly Values'!AO25,\"\")","v":""},{"$f":"IF('Monthly Values'!AP25<>0,'Monthly Values'!AP25,\"\")","v":""},{"$f":"IF('Monthly Values'!AQ25<>0,'Monthly Values'!AQ25,\"\")","v":""},{"$f":"IF('Monthly Values'!AR25<>0,'Monthly Values'!AR25,\"\")","v":""},{"$f":"IF('Monthly Values'!AS25<>0,'Monthly Values'!AS25,\"\")","v":""},{"$f":"IF('Monthly Values'!AT25<>0,'Monthly Values'!AT25,\"\")","v":""},{"$f":"IF('Monthly Values'!AU25<>0,'Monthly Values'!AU25,\"\")","v":""},{"$f":"IF('Monthly Values'!AV25<>0,'Monthly Values'!AV25,\"\")","v":""},{"$f":"IF('Monthly Values'!AW25<>0,'Monthly Values'!AW25,\"\")","v":""},{"$f":"IF('Monthly Values'!AX25<>0,'Monthly Values'!AX25,\"\")","v":""},{"$f":"IF('Monthly Values'!AY25<>0,'Monthly Values'!AY25,\"\")","v":""},{"$f":"IF('Monthly Values'!AZ25<>0,'Monthly Values'!AZ25,\"\")","v":""},{"$f":"IF('Monthly Values'!BA25<>0,'Monthly Values'!BA25,\"\")","v":""},{"$f":"IF('Monthly Values'!BB25<>0,'Monthly Values'!BB25,\"\")","v":""},{"$f":"IF('Monthly Values'!BC25<>0,'Monthly Values'!BC25,\"\")","v":""},{"$f":"IF('Monthly Values'!BD25<>0,'Monthly Values'!BD25,\"\")","v":""},{"$f":"IF('Monthly Values'!BE25<>0,'Monthly Values'!BE25,\"\")","v":""},{"$f":"IF('Monthly Values'!BF25<>0,'Monthly Values'!BF25,\"\")","v":""},{"$f":"IF('Monthly Values'!BG25<>0,'Monthly Values'!BG25,\"\")","v":""},{"$f":"IF('Monthly Values'!BH25<>0,'Monthly Values'!BH25,\"\")","v":""},{"$f":"IF('Monthly Values'!BI25<>0,'Monthly Values'!BI25,\"\")","v":""},{"$f":"IF('Monthly Values'!BJ25<>0,'Monthly Values'!BJ25,\"\")","v":""},{"$f":"IF('Monthly Values'!BK25<>0,'Monthly Values'!BK25,\"\")","v":""},{"$f":"IF('Monthly Values'!BL25<>0,'Monthly Values'!BL25,\"\")","v":""},{"$f":"IF('Monthly Values'!BM25<>0,'Monthly Values'!BM25,\"\")","v":""},{"$f":"IF('Monthly Values'!BN25<>0,'Monthly Values'!BN25,\"\")","v":""},{"$f":"IF('Monthly Values'!BO25<>0,'Monthly Values'!BO25,\"\")","v":""},{"$f":"IF('Monthly Values'!BP25<>0,'Monthly Values'!BP25,\"\")","v":""},{"$f":"IF('Monthly Values'!BQ25<>0,'Monthly Values'!BQ25,\"\")","v":""},{"$f":"IF('Monthly Values'!BR25<>0,'Monthly Values'!BR25,\"\")","v":""},{"$f":"IF('Monthly Values'!BS25<>0,'Monthly Values'!BS25,\"\")","v":""},{"$f":"IF('Monthly Values'!BT25<>0,'Monthly Values'!BT25,\"\")","v":""},{"$f":"IF('Monthly Values'!BU25<>0,'Monthly Values'!BU25,\"\")","v":""},{"$f":"IF('Monthly Values'!BV25<>0,'Monthly Values'!BV25,\"\")","v":""},{"$f":"IF('Monthly Values'!BW25<>0,'Monthly Values'!BW25,\"\")","v":""},{"$f":"IF('Monthly Values'!BX25<>0,'Monthly Values'!BX25,\"\")","v":""},{"$f":"IF('Monthly Values'!BY25<>0,'Monthly Values'!BY25,\"\")","v":""},{"$f":"IF('Monthly Values'!BZ25<>0,'Monthly Values'!BZ25,\"\")","v":""},{"$f":"IF('Monthly Values'!CA25<>0,'Monthly Values'!CA25,\"\")","v":""},{"$f":"IF('Monthly Values'!CB25<>0,'Monthly Values'!CB25,\"\")","v":""},{"$f":"IF('Monthly Values'!CC25<>0,'Monthly Values'!CC25,\"\")","v":""},{"$f":"IF('Monthly Values'!CD25<>0,'Monthly Values'!CD25,\"\")","v":""},{"$f":"IF('Monthly Values'!CE25<>0,'Monthly Values'!CE25,\"\")","v":""},{"$f":"IF('Monthly Values'!CF25<>0,'Monthly Values'!CF25,\"\")","v":""},{"$f":"IF('Monthly Values'!CG25<>0,'Monthly Values'!CG25,\"\")","v":""},{"$f":"IF('Monthly Values'!CH25<>0,'Monthly Values'!CH25,\"\")","v":""},{"$f":"IF('Monthly Values'!CI25<>0,'Monthly Values'!CI25,\"\")","v":""},{"$f":"IF('Monthly Values'!CJ25<>0,'Monthly Values'!CJ25,\"\")","v":""},{"$f":"IF('Monthly Values'!CK25<>0,'Monthly Values'!CK25,\"\")","v":""},{"$f":"IF('Monthly Values'!CL25<>0,'Monthly Values'!CL25,\"\")","v":""},{"$f":"IF('Monthly Values'!CM25<>0,'Monthly Values'!CM25,\"\")","v":""},{"$f":"IF('Monthly Values'!CN25<>0,'Monthly Values'!CN25,\"\")","v":""},{"$f":"IF('Monthly Values'!CO25<>0,'Monthly Values'!CO25,\"\")","v":""},{"$f":"IF('Monthly Values'!CP25<>0,'Monthly Values'!CP25,\"\")","v":""},{"$f":"IF('Monthly Values'!CQ25<>0,'Monthly Values'!CQ25,\"\")","v":""},{"$f":"IF('Monthly Values'!CR25<>0,'Monthly Values'!CR25,\"\")","v":""},{"$f":"IF('Monthly Values'!CS25<>0,'Monthly Values'!CS25,\"\")","v":""},{"$f":"IF('Monthly Values'!CT25<>0,'Monthly Values'!CT25,\"\")","v":""},{"$f":"IF('Monthly Values'!CU25<>0,'Monthly Values'!CU25,\"\")","v":""},{"$f":"IF('Monthly Values'!CV25<>0,'Monthly Values'!CV25,\"\")","v":""},{"$f":"IF('Monthly Values'!CW25<>0,'Monthly Values'!CW25,\"\")","v":""},{"$f":"IF('Monthly Values'!CX25<>0,'Monthly Values'!CX25,\"\")","v":""},{"$f":"IF('Monthly Values'!CY25<>0,'Monthly Values'!CY25,\"\")","v":""},{"$f":"IF('Monthly Values'!CZ25<>0,'Monthly Values'!CZ25,\"\")","v":""},{"$f":"IF('Monthly Values'!DA25<>0,'Monthly Values'!DA25,\"\")","v":""},{"$f":"IF('Monthly Values'!DB25<>0,'Monthly Values'!DB25,\"\")","v":""},{"$f":"IF('Monthly Values'!DC25<>0,'Monthly Values'!DC25,\"\")","v":""},{"$f":"IF('Monthly Values'!DD25<>0,'Monthly Values'!DD25,\"\")","v":""},{"$f":"IF('Monthly Values'!DE25<>0,'Monthly Values'!DE25,\"\")","v":""},{"$f":"IF('Monthly Values'!DF25<>0,'Monthly Values'!DF25,\"\")","v":""},{"$f":"IF('Monthly Values'!DG25<>0,'Monthly Values'!DG25,\"\")","v":""},{"$f":"IF('Monthly Values'!DH25<>0,'Monthly Values'!DH25,\"\")","v":""},{"$f":"IF('Monthly Values'!DI25<>0,'Monthly Values'!DI25,\"\")","v":""},{"$f":"IF('Monthly Values'!DJ25<>0,'Monthly Values'!DJ25,\"\")","v":""},{"$f":"IF('Monthly Values'!DK25<>0,'Monthly Values'!DK25,\"\")","v":""},{"$f":"IF('Monthly Values'!DL25<>0,'Monthly Values'!DL25,\"\")","v":""},{"$f":"IF('Monthly Values'!DM25<>0,'Monthly Values'!DM25,\"\")","v":""},{"$f":"IF('Monthly Values'!DN25<>0,'Monthly Values'!DN25,\"\")","v":""},{"$f":"IF('Monthly Values'!DO25<>0,'Monthly Values'!DO25,\"\")","v":""},{"$f":"IF('Monthly Values'!DP25<>0,'Monthly Values'!DP25,\"\")","v":""},{"$f":"IF('Monthly Values'!DQ25<>0,'Monthly Values'!DQ25,\"\")","v":""},{"$f":"IF('Monthly Values'!DR25<>0,'Monthly Values'!DR25,\"\")","v":""},{"$f":"IF('Monthly Values'!DS25<>0,'Monthly Values'!DS25,\"\")","v":""},""]
[null,"Non-Reg",null,null,null,null,null,"Other",null,null,null,null,null,"Banking",null,null,null,null,null,4,{"$f":"IF('Monthly Values'!D26<>0,'Monthly Values'!D26,\"\")","v":""},{"$f":"IF('Monthly Values'!E26<>0,'Monthly Values'!E26,\"\")","v":""},{"$f":"IF('Monthly Values'!F26<>0,'Monthly Values'!F26,\"\")","v":""},{"$f":"IF('Monthly Values'!G26<>0,'Monthly Values'!G26,\"\")","v":""},{"$f":"IF('Monthly Values'!H26<>0,'Monthly Values'!H26,\"\")","v":""},{"$f":"IF('Monthly Values'!I26<>0,'Monthly Values'!I26,\"\")","v":""},{"$f":"IF('Monthly Values'!J26<>0,'Monthly Values'!J26,\"\")","v":""},{"$f":"IF('Monthly Values'!K26<>0,'Monthly Values'!K26,\"\")","v":""},{"$f":"IF('Monthly Values'!L26<>0,'Monthly Values'!L26,\"\")","v":""},{"$f":"IF('Monthly Values'!M26<>0,'Monthly Values'!M26,\"\")","v":""},{"$f":"IF('Monthly Values'!N26<>0,'Monthly Values'!N26,\"\")","v":""},{"$f":"IF('Monthly Values'!O26<>0,'Monthly Values'!O26,\"\")","v":""},{"$f":"IF('Monthly Values'!P26<>0,'Monthly Values'!P26,\"\")","v":""},{"$f":"IF('Monthly Values'!Q26<>0,'Monthly Values'!Q26,\"\")","v":""},{"$f":"IF('Monthly Values'!R26<>0,'Monthly Values'!R26,\"\")","v":""},{"$f":"IF('Monthly Values'!S26<>0,'Monthly Values'!S26,\"\")","v":""},{"$f":"IF('Monthly Values'!T26<>0,'Monthly Values'!T26,\"\")","v":""},{"$f":"IF('Monthly Values'!U26<>0,'Monthly Values'!U26,\"\")","v":""},{"$f":"IF('Monthly Values'!V26<>0,'Monthly Values'!V26,\"\")","v":""},{"$f":"IF('Monthly Values'!W26<>0,'Monthly Values'!W26,\"\")","v":""},{"$f":"IF('Monthly Values'!X26<>0,'Monthly Values'!X26,\"\")","v":""},{"$f":"IF('Monthly Values'!Y26<>0,'Monthly Values'!Y26,\"\")","v":""},{"$f":"IF('Monthly Values'!Z26<>0,'Monthly Values'!Z26,\"\")","v":""},{"$f":"IF('Monthly Values'!AA26<>0,'Monthly Values'!AA26,\"\")","v":""},{"$f":"IF('Monthly Values'!AB26<>0,'Monthly Values'!AB26,\"\")","v":""},{"$f":"IF('Monthly Values'!AC26<>0,'Monthly Values'!AC26,\"\")","v":""},{"$f":"IF('Monthly Values'!AD26<>0,'Monthly Values'!AD26,\"\")","v":""},{"$f":"IF('Monthly Values'!AE26<>0,'Monthly Values'!AE26,\"\")","v":""},{"$f":"IF('Monthly Values'!AF26<>0,'Monthly Values'!AF26,\"\")","v":""},{"$f":"IF('Monthly Values'!AG26<>0,'Monthly Values'!AG26,\"\")","v":""},{"$f":"IF('Monthly Values'!AH26<>0,'Monthly Values'!AH26,\"\")","v":""},{"$f":"IF('Monthly Values'!AI26<>0,'Monthly Values'!AI26,\"\")","v":""},{"$f":"IF('Monthly Values'!AJ26<>0,'Monthly Values'!AJ26,\"\")","v":""},{"$f":"IF('Monthly Values'!AK26<>0,'Monthly Values'!AK26,\"\")","v":""},{"$f":"IF('Monthly Values'!AL26<>0,'Monthly Values'!AL26,\"\")","v":""},{"$f":"IF('Monthly Values'!AM26<>0,'Monthly Values'!AM26,\"\")","v":""},{"$f":"IF('Monthly Values'!AN26<>0,'Monthly Values'!AN26,\"\")","v":""},{"$f":"IF('Monthly Values'!AO26<>0,'Monthly Values'!AO26,\"\")","v":""},{"$f":"IF('Monthly Values'!AP26<>0,'Monthly Values'!AP26,\"\")","v":""},{"$f":"IF('Monthly Values'!AQ26<>0,'Monthly Values'!AQ26,\"\")","v":""},{"$f":"IF('Monthly Values'!AR26<>0,'Monthly Values'!AR26,\"\")","v":""},{"$f":"IF('Monthly Values'!AS26<>0,'Monthly Values'!AS26,\"\")","v":""},{"$f":"IF('Monthly Values'!AT26<>0,'Monthly Values'!AT26,\"\")","v":""},{"$f":"IF('Monthly Values'!AU26<>0,'Monthly Values'!AU26,\"\")","v":""},{"$f":"IF('Monthly Values'!AV26<>0,'Monthly Values'!AV26,\"\")","v":""},{"$f":"IF('Monthly Values'!AW26<>0,'Monthly Values'!AW26,\"\")","v":""},{"$f":"IF('Monthly Values'!AX26<>0,'Monthly Values'!AX26,\"\")","v":""},{"$f":"IF('Monthly Values'!AY26<>0,'Monthly Values'!AY26,\"\")","v":""},{"$f":"IF('Monthly Values'!AZ26<>0,'Monthly Values'!AZ26,\"\")","v":""},{"$f":"IF('Monthly Values'!BA26<>0,'Monthly Values'!BA26,\"\")","v":""},{"$f":"IF('Monthly Values'!BB26<>0,'Monthly Values'!BB26,\"\")","v":""},{"$f":"IF('Monthly Values'!BC26<>0,'Monthly Values'!BC26,\"\")","v":""},{"$f":"IF('Monthly Values'!BD26<>0,'Monthly Values'!BD26,\"\")","v":""},{"$f":"IF('Monthly Values'!BE26<>0,'Monthly Values'!BE26,\"\")","v":""},{"$f":"IF('Monthly Values'!BF26<>0,'Monthly Values'!BF26,\"\")","v":""},{"$f":"IF('Monthly Values'!BG26<>0,'Monthly Values'!BG26,\"\")","v":""},{"$f":"IF('Monthly Values'!BH26<>0,'Monthly Values'!BH26,\"\")","v":""},{"$f":"IF('Monthly Values'!BI26<>0,'Monthly Values'!BI26,\"\")","v":""},{"$f":"IF('Monthly Values'!BJ26<>0,'Monthly Values'!BJ26,\"\")","v":""},{"$f":"IF('Monthly Values'!BK26<>0,'Monthly Values'!BK26,\"\")","v":""},{"$f":"IF('Monthly Values'!BL26<>0,'Monthly Values'!BL26,\"\")","v":""},{"$f":"IF('Monthly Values'!BM26<>0,'Monthly Values'!BM26,\"\")","v":""},{"$f":"IF('Monthly Values'!BN26<>0,'Monthly Values'!BN26,\"\")","v":""},{"$f":"IF('Monthly Values'!BO26<>0,'Monthly Values'!BO26,\"\")","v":""},{"$f":"IF('Monthly Values'!BP26<>0,'Monthly Values'!BP26,\"\")","v":""},{"$f":"IF('Monthly Values'!BQ26<>0,'Monthly Values'!BQ26,\"\")","v":""},{"$f":"IF('Monthly Values'!BR26<>0,'Monthly Values'!BR26,\"\")","v":""},{"$f":"IF('Monthly Values'!BS26<>0,'Monthly Values'!BS26,\"\")","v":""},{"$f":"IF('Monthly Values'!BT26<>0,'Monthly Values'!BT26,\"\")","v":""},{"$f":"IF('Monthly Values'!BU26<>0,'Monthly Values'!BU26,\"\")","v":""},{"$f":"IF('Monthly Values'!BV26<>0,'Monthly Values'!BV26,\"\")","v":""},{"$f":"IF('Monthly Values'!BW26<>0,'Monthly Values'!BW26,\"\")","v":""},{"$f":"IF('Monthly Values'!BX26<>0,'Monthly Values'!BX26,\"\")","v":""},{"$f":"IF('Monthly Values'!BY26<>0,'Monthly Values'!BY26,\"\")","v":""},{"$f":"IF('Monthly Values'!BZ26<>0,'Monthly Values'!BZ26,\"\")","v":""},{"$f":"IF('Monthly Values'!CA26<>0,'Monthly Values'!CA26,\"\")","v":""},{"$f":"IF('Monthly Values'!CB26<>0,'Monthly Values'!CB26,\"\")","v":""},{"$f":"IF('Monthly Values'!CC26<>0,'Monthly Values'!CC26,\"\")","v":""},{"$f":"IF('Monthly Values'!CD26<>0,'Monthly Values'!CD26,\"\")","v":""},{"$f":"IF('Monthly Values'!CE26<>0,'Monthly Values'!CE26,\"\")","v":""},{"$f":"IF('Monthly Values'!CF26<>0,'Monthly Values'!CF26,\"\")","v":""},{"$f":"IF('Monthly Values'!CG26<>0,'Monthly Values'!CG26,\"\")","v":""},{"$f":"IF('Monthly Values'!CH26<>0,'Monthly Values'!CH26,\"\")","v":""},{"$f":"IF('Monthly Values'!CI26<>0,'Monthly Values'!CI26,\"\")","v":""},{"$f":"IF('Monthly Values'!CJ26<>0,'Monthly Values'!CJ26,\"\")","v":""},{"$f":"IF('Monthly Values'!CK26<>0,'Monthly Values'!CK26,\"\")","v":""},{"$f":"IF('Monthly Values'!CL26<>0,'Monthly Values'!CL26,\"\")","v":""},{"$f":"IF('Monthly Values'!CM26<>0,'Monthly Values'!CM26,\"\")","v":""},{"$f":"IF('Monthly Values'!CN26<>0,'Monthly Values'!CN26,\"\")","v":""},{"$f":"IF('Monthly Values'!CO26<>0,'Monthly Values'!CO26,\"\")","v":""},{"$f":"IF('Monthly Values'!CP26<>0,'Monthly Values'!CP26,\"\")","v":""},{"$f":"IF('Monthly Values'!CQ26<>0,'Monthly Values'!CQ26,\"\")","v":""},{"$f":"IF('Monthly Values'!CR26<>0,'Monthly Values'!CR26,\"\")","v":""},{"$f":"IF('Monthly Values'!CS26<>0,'Monthly Values'!CS26,\"\")","v":""},{"$f":"IF('Monthly Values'!CT26<>0,'Monthly Values'!CT26,\"\")","v":""},{"$f":"IF('Monthly Values'!CU26<>0,'Monthly Values'!CU26,\"\")","v":""},{"$f":"IF('Monthly Values'!CV26<>0,'Monthly Values'!CV26,\"\")","v":""},{"$f":"IF('Monthly Values'!CW26<>0,'Monthly Values'!CW26,\"\")","v":""},{"$f":"IF('Monthly Values'!CX26<>0,'Monthly Values'!CX26,\"\")","v":""},{"$f":"IF('Monthly Values'!CY26<>0,'Monthly Values'!CY26,\"\")","v":""},{"$f":"IF('Monthly Values'!CZ26<>0,'Monthly Values'!CZ26,\"\")","v":""},{"$f":"IF('Monthly Values'!DA26<>0,'Monthly Values'!DA26,\"\")","v":""},{"$f":"IF('Monthly Values'!DB26<>0,'Monthly Values'!DB26,\"\")","v":""},{"$f":"IF('Monthly Values'!DC26<>0,'Monthly Values'!DC26,\"\")","v":""},{"$f":"IF('Monthly Values'!DD26<>0,'Monthly Values'!DD26,\"\")","v":""},{"$f":"IF('Monthly Values'!DE26<>0,'Monthly Values'!DE26,\"\")","v":""},{"$f":"IF('Monthly Values'!DF26<>0,'Monthly Values'!DF26,\"\")","v":""},{"$f":"IF('Monthly Values'!DG26<>0,'Monthly Values'!DG26,\"\")","v":""},{"$f":"IF('Monthly Values'!DH26<>0,'Monthly Values'!DH26,\"\")","v":""},{"$f":"IF('Monthly Values'!DI26<>0,'Monthly Values'!DI26,\"\")","v":""},{"$f":"IF('Monthly Values'!DJ26<>0,'Monthly Values'!DJ26,\"\")","v":""},{"$f":"IF('Monthly Values'!DK26<>0,'Monthly Values'!DK26,\"\")","v":""},{"$f":"IF('Monthly Values'!DL26<>0,'Monthly Values'!DL26,\"\")","v":""},{"$f":"IF('Monthly Values'!DM26<>0,'Monthly Values'!DM26,\"\")","v":""},{"$f":"IF('Monthly Values'!DN26<>0,'Monthly Values'!DN26,\"\")","v":""},{"$f":"IF('Monthly Values'!DO26<>0,'Monthly Values'!DO26,\"\")","v":""},{"$f":"IF('Monthly Values'!DP26<>0,'Monthly Values'!DP26,\"\")","v":""},{"$f":"IF('Monthly Values'!DQ26<>0,'Monthly Values'!DQ26,\"\")","v":""},{"$f":"IF('Monthly Values'!DR26<>0,'Monthly Values'!DR26,\"\")","v":""},{"$f":"IF('Monthly Values'!DS26<>0,'Monthly Values'!DS26,\"\")","v":""},""]
[null,"RRIF",null,null,null,null,null,null,null,null,null,null,null,1,{"$f":"IF('Account Setup'!B8<>\"Select From Dropdown\",'Account Setup'!B8,\"\")","v":""},{"$f":"IF('Account Setup'!C8<>0,'Account Setup'!C8,\"\")","v":""},{"$f":"IF(AND(O18<>\"\",P18<>\"\"),O18&\" - \"&P18,\"\")","v":""},null,null,5,{"$f":"IF('Monthly Values'!D27<>0,'Monthly Values'!D27,\"\")","v":""},{"$f":"IF('Monthly Values'!E27<>0,'Monthly Values'!E27,\"\")","v":""},{"$f":"IF('Monthly Values'!F27<>0,'Monthly Values'!F27,\"\")","v":""},{"$f":"IF('Monthly Values'!G27<>0,'Monthly Values'!G27,\"\")","v":""},{"$f":"IF('Monthly Values'!H27<>0,'Monthly Values'!H27,\"\")","v":""},{"$f":"IF('Monthly Values'!I27<>0,'Monthly Values'!I27,\"\")","v":""},{"$f":"IF('Monthly Values'!J27<>0,'Monthly Values'!J27,\"\")","v":""},{"$f":"IF('Monthly Values'!K27<>0,'Monthly Values'!K27,\"\")","v":""},{"$f":"IF('Monthly Values'!L27<>0,'Monthly Values'!L27,\"\")","v":""},{"$f":"IF('Monthly Values'!M27<>0,'Monthly Values'!M27,\"\")","v":""},{"$f":"IF('Monthly Values'!N27<>0,'Monthly Values'!N27,\"\")","v":""},{"$f":"IF('Monthly Values'!O27<>0,'Monthly Values'!O27,\"\")","v":""},{"$f":"IF('Monthly Values'!P27<>0,'Monthly Values'!P27,\"\")","v":""},{"$f":"IF('Monthly Values'!Q27<>0,'Monthly Values'!Q27,\"\")","v":""},{"$f":"IF('Monthly Values'!R27<>0,'Monthly Values'!R27,\"\")","v":""},{"$f":"IF('Monthly Values'!S27<>0,'Monthly Values'!S27,\"\")","v":""},{"$f":"IF('Monthly Values'!T27<>0,'Monthly Values'!T27,\"\")","v":""},{"$f":"IF('Monthly Values'!U27<>0,'Monthly Values'!U27,\"\")","v":""},{"$f":"IF('Monthly Values'!V27<>0,'Monthly Values'!V27,\"\")","v":""},{"$f":"IF('Monthly Values'!W27<>0,'Monthly Values'!W27,\"\")","v":""},{"$f":"IF('Monthly Values'!X27<>0,'Monthly Values'!X27,\"\")","v":""},{"$f":"IF('Monthly Values'!Y27<>0,'Monthly Values'!Y27,\"\")","v":""},{"$f":"IF('Monthly Values'!Z27<>0,'Monthly Values'!Z27,\"\")","v":""},{"$f":"IF('Monthly Values'!AA27<>0,'Monthly Values'!AA27,\"\")","v":""},{"$f":"IF('Monthly Values'!AB27<>0,'Monthly Values'!AB27,\"\")","v":""},{"$f":"IF('Monthly Values'!AC27<>0,'Monthly Values'!AC27,\"\")","v":""},{"$f":"IF('Monthly Values'!AD27<>0,'Monthly Values'!AD27,\"\")","v":""},{"$f":"IF('Monthly Values'!AE27<>0,'Monthly Values'!AE27,\"\")","v":""},{"$f":"IF('Monthly Values'!AF27<>0,'Monthly Values'!AF27,\"\")","v":""},{"$f":"IF('Monthly Values'!AG27<>0,'Monthly Values'!AG27,\"\")","v":""},{"$f":"IF('Monthly Values'!AH27<>0,'Monthly Values'!AH27,\"\")","v":""},{"$f":"IF('Monthly Values'!AI27<>0,'Monthly Values'!AI27,\"\")","v":""},{"$f":"IF('Monthly Values'!AJ27<>0,'Monthly Values'!AJ27,\"\")","v":""},{"$f":"IF('Monthly Values'!AK27<>0,'Monthly Values'!AK27,\"\")","v":""},{"$f":"IF('Monthly Values'!AL27<>0,'Monthly Values'!AL27,\"\")","v":""},{"$f":"IF('Monthly Values'!AM27<>0,'Monthly Values'!AM27,\"\")","v":""},{"$f":"IF('Monthly Values'!AN27<>0,'Monthly Values'!AN27,\"\")","v":""},{"$f":"IF('Monthly Values'!AO27<>0,'Monthly Values'!AO27,\"\")","v":""},{"$f":"IF('Monthly Values'!AP27<>0,'Monthly Values'!AP27,\"\")","v":""},{"$f":"IF('Monthly Values'!AQ27<>0,'Monthly Values'!AQ27,\"\")","v":""},{"$f":"IF('Monthly Values'!AR27<>0,'Monthly Values'!AR27,\"\")","v":""},{"$f":"IF('Monthly Values'!AS27<>0,'Monthly Values'!AS27,\"\")","v":""},{"$f":"IF('Monthly Values'!AT27<>0,'Monthly Values'!AT27,\"\")","v":""},{"$f":"IF('Monthly Values'!AU27<>0,'Monthly Values'!AU27,\"\")","v":""},{"$f":"IF('Monthly Values'!AV27<>0,'Monthly Values'!AV27,\"\")","v":""},{"$f":"IF('Monthly Values'!AW27<>0,'Monthly Values'!AW27,\"\")","v":""},{"$f":"IF('Monthly Values'!AX27<>0,'Monthly Values'!AX27,\"\")","v":""},{"$f":"IF('Monthly Values'!AY27<>0,'Monthly Values'!AY27,\"\")","v":""},{"$f":"IF('Monthly Values'!AZ27<>0,'Monthly Values'!AZ27,\"\")","v":""},{"$f":"IF('Monthly Values'!BA27<>0,'Monthly Values'!BA27,\"\")","v":""},{"$f":"IF('Monthly Values'!BB27<>0,'Monthly Values'!BB27,\"\")","v":""},{"$f":"IF('Monthly Values'!BC27<>0,'Monthly Values'!BC27,\"\")","v":""},{"$f":"IF('Monthly Values'!BD27<>0,'Monthly Values'!BD27,\"\")","v":""},{"$f":"IF('Monthly Values'!BE27<>0,'Monthly Values'!BE27,\"\")","v":""},{"$f":"IF('Monthly Values'!BF27<>0,'Monthly Values'!BF27,\"\")","v":""},{"$f":"IF('Monthly Values'!BG27<>0,'Monthly Values'!BG27,\"\")","v":""},{"$f":"IF('Monthly Values'!BH27<>0,'Monthly Values'!BH27,\"\")","v":""},{"$f":"IF('Monthly Values'!BI27<>0,'Monthly Values'!BI27,\"\")","v":""},{"$f":"IF('Monthly Values'!BJ27<>0,'Monthly Values'!BJ27,\"\")","v":""},{"$f":"IF('Monthly Values'!BK27<>0,'Monthly Values'!BK27,\"\")","v":""},{"$f":"IF('Monthly Values'!BL27<>0,'Monthly Values'!BL27,\"\")","v":""},{"$f":"IF('Monthly Values'!BM27<>0,'Monthly Values'!BM27,\"\")","v":""},{"$f":"IF('Monthly Values'!BN27<>0,'Monthly Values'!BN27,\"\")","v":""},{"$f":"IF('Monthly Values'!BO27<>0,'Monthly Values'!BO27,\"\")","v":""},{"$f":"IF('Monthly Values'!BP27<>0,'Monthly Values'!BP27,\"\")","v":""},{"$f":"IF('Monthly Values'!BQ27<>0,'Monthly Values'!BQ27,\"\")","v":""},{"$f":"IF('Monthly Values'!BR27<>0,'Monthly Values'!BR27,\"\")","v":""},{"$f":"IF('Monthly Values'!BS27<>0,'Monthly Values'!BS27,\"\")","v":""},{"$f":"IF('Monthly Values'!BT27<>0,'Monthly Values'!BT27,\"\")","v":""},{"$f":"IF('Monthly Values'!BU27<>0,'Monthly Values'!BU27,\"\")","v":""},{"$f":"IF('Monthly Values'!BV27<>0,'Monthly Values'!BV27,\"\")","v":""},{"$f":"IF('Monthly Values'!BW27<>0,'Monthly Values'!BW27,\"\")","v":""},{"$f":"IF('Monthly Values'!BX27<>0,'Monthly Values'!BX27,\"\")","v":""},{"$f":"IF('Monthly Values'!BY27<>0,'Monthly Values'!BY27,\"\")","v":""},{"$f":"IF('Monthly Values'!BZ27<>0,'Monthly Values'!BZ27,\"\")","v":""},{"$f":"IF('Monthly Values'!CA27<>0,'Monthly Values'!CA27,\"\")","v":""},{"$f":"IF('Monthly Values'!CB27<>0,'Monthly Values'!CB27,\"\")","v":""},{"$f":"IF('Monthly Values'!CC27<>0,'Monthly Values'!CC27,\"\")","v":""},{"$f":"IF('Monthly Values'!CD27<>0,'Monthly Values'!CD27,\"\")","v":""},{"$f":"IF('Monthly Values'!CE27<>0,'Monthly Values'!CE27,\"\")","v":""},{"$f":"IF('Monthly Values'!CF27<>0,'Monthly Values'!CF27,\"\")","v":""},{"$f":"IF('Monthly Values'!CG27<>0,'Monthly Values'!CG27,\"\")","v":""},{"$f":"IF('Monthly Values'!CH27<>0,'Monthly Values'!CH27,\"\")","v":""},{"$f":"IF('Monthly Values'!CI27<>0,'Monthly Values'!CI27,\"\")","v":""},{"$f":"IF('Monthly Values'!CJ27<>0,'Monthly Values'!CJ27,\"\")","v":""},{"$f":"IF('Monthly Values'!CK27<>0,'Monthly Values'!CK27,\"\")","v":""},{"$f":"IF('Monthly Values'!CL27<>0,'Monthly Values'!CL27,\"\")","v":""},{"$f":"IF('Monthly Values'!CM27<>0,'Monthly Values'!CM27,\"\")","v":""},{"$f":"IF('Monthly Values'!CN27<>0,'Monthly Values'!CN27,\"\")","v":""},{"$f":"IF('Monthly Values'!CO27<>0,'Monthly Values'!CO27,\"\")","v":""},{"$f":"IF('Monthly Values'!CP27<>0,'Monthly Values'!CP27,\"\")","v":""},{"$f":"IF('Monthly Values'!CQ27<>0,'Monthly Values'!CQ27,\"\")","v":""},{"$f":"IF('Monthly Values'!CR27<>0,'Monthly Values'!CR27,\"\")","v":""},{"$f":"IF('Monthly Values'!CS27<>0,'Monthly Values'!CS27,\"\")","v":""},{"$f":"IF('Monthly Values'!CT27<>0,'Monthly Values'!CT27,\"\")","v":""},{"$f":"IF('Monthly Values'!CU27<>0,'Monthly Values'!CU27,\"\")","v":""},{"$f":"IF('Monthly Values'!CV27<>0,'Monthly Values'!CV27,\"\")","v":""},{"$f":"IF('Monthly Values'!CW27<>0,'Monthly Values'!CW27,\"\")","v":""},{"$f":"IF('Monthly Values'!CX27<>0,'Monthly Values'!CX27,\"\")","v":""},{"$f":"IF('Monthly Values'!CY27<>0,'Monthly Values'!CY27,\"\")","v":""},{"$f":"IF('Monthly Values'!CZ27<>0,'Monthly Values'!CZ27,\"\")","v":""},{"$f":"IF('Monthly Values'!DA27<>0,'Monthly Values'!DA27,\"\")","v":""},{"$f":"IF('Monthly Values'!DB27<>0,'Monthly Values'!DB27,\"\")","v":""},{"$f":"IF('Monthly Values'!DC27<>0,'Monthly Values'!DC27,\"\")","v":""},{"$f":"IF('Monthly Values'!DD27<>0,'Monthly Values'!DD27,\"\")","v":""},{"$f":"IF('Monthly Values'!DE27<>0,'Monthly Values'!DE27,\"\")","v":""},{"$f":"IF('Monthly Values'!DF27<>0,'Monthly Values'!DF27,\"\")","v":""},{"$f":"IF('Monthly Values'!DG27<>0,'Monthly Values'!DG27,\"\")","v":""},{"$f":"IF('Monthly Values'!DH27<>0,'Monthly Values'!DH27,\"\")","v":""},{"$f":"IF('Monthly Values'!DI27<>0,'Monthly Values'!DI27,\"\")","v":""},{"$f":"IF('Monthly Values'!DJ27<>0,'Monthly Values'!DJ27,\"\")","v":""},{"$f":"IF('Monthly Values'!DK27<>0,'Monthly Values'!DK27,\"\")","v":""},{"$f":"IF('Monthly Values'!DL27<>0,'Monthly Values'!DL27,\"\")","v":""},{"$f":"IF('Monthly Values'!DM27<>0,'Monthly Values'!DM27,\"\")","v":""},{"$f":"IF('Monthly Values'!DN27<>0,'Monthly Values'!DN27,\"\")","v":""},{"$f":"IF('Monthly Values'!DO27<>0,'Monthly Values'!DO27,\"\")","v":""},{"$f":"IF('Monthly Values'!DP27<>0,'Monthly Values'!DP27,\"\")","v":""},{"$f":"IF('Monthly Values'!DQ27<>0,'Monthly Values'!DQ27,\"\")","v":""},{"$f":"IF('Monthly Values'!DR27<>0,'Monthly Values'!DR27,\"\")","v":""},{"$f":"IF('Monthly Values'!DS27<>0,'Monthly Values'!DS27,\"\")","v":""},""]
[null,"Spousal RRIF",null,null,null,null,null,null,null,null,null,null,null,2,{"$f":"IF('Account Setup'!B9<>\"Select From Dropdown\",'Account Setup'!B9,\"\")","v":""},{"$f":"IF('Account Setup'!C9<>0,'Account Setup'!C9,\"\")","v":""},{"$f":"IF(AND(O19<>\"\",P19<>\"\"),O19&\" - \"&P19,\"\")","v":""},null,null,6,{"$f":"IF('Monthly Values'!D28<>0,'Monthly Values'!D28,\"\")","v":""},{"$f":"IF('Monthly Values'!E28<>0,'Monthly Values'!E28,\"\")","v":""},{"$f":"IF('Monthly Values'!F28<>0,'Monthly Values'!F28,\"\")","v":""},{"$f":"IF('Monthly Values'!G28<>0,'Monthly Values'!G28,\"\")","v":""},{"$f":"IF('Monthly Values'!H28<>0,'Monthly Values'!H28,\"\")","v":""},{"$f":"IF('Monthly Values'!I28<>0,'Monthly Values'!I28,\"\")","v":""},{"$f":"IF('Monthly Values'!J28<>0,'Monthly Values'!J28,\"\")","v":""},{"$f":"IF('Monthly Values'!K28<>0,'Monthly Values'!K28,\"\")","v":""},{"$f":"IF('Monthly Values'!L28<>0,'Monthly Values'!L28,\"\")","v":""},{"$f":"IF('Monthly Values'!M28<>0,'Monthly Values'!M28,\"\")","v":""},{"$f":"IF('Monthly Values'!N28<>0,'Monthly Values'!N28,\"\")","v":""},{"$f":"IF('Monthly Values'!O28<>0,'Monthly Values'!O28,\"\")","v":""},{"$f":"IF('Monthly Values'!P28<>0,'Monthly Values'!P28,\"\")","v":""},{"$f":"IF('Monthly Values'!Q28<>0,'Monthly Values'!Q28,\"\")","v":""},{"$f":"IF('Monthly Values'!R28<>0,'Monthly Values'!R28,\"\")","v":""},{"$f":"IF('Monthly Values'!S28<>0,'Monthly Values'!S28,\"\")","v":""},{"$f":"IF('Monthly Values'!T28<>0,'Monthly Values'!T28,\"\")","v":""},{"$f":"IF('Monthly Values'!U28<>0,'Monthly Values'!U28,\"\")","v":""},{"$f":"IF('Monthly Values'!V28<>0,'Monthly Values'!V28,\"\")","v":""},{"$f":"IF('Monthly Values'!W28<>0,'Monthly Values'!W28,\"\")","v":""},{"$f":"IF('Monthly Values'!X28<>0,'Monthly Values'!X28,\"\")","v":""},{"$f":"IF('Monthly Values'!Y28<>0,'Monthly Values'!Y28,\"\")","v":""},{"$f":"IF('Monthly Values'!Z28<>0,'Monthly Values'!Z28,\"\")","v":""},{"$f":"IF('Monthly Values'!AA28<>0,'Monthly Values'!AA28,\"\")","v":""},{"$f":"IF('Monthly Values'!AB28<>0,'Monthly Values'!AB28,\"\")","v":""},{"$f":"IF('Monthly Values'!AC28<>0,'Monthly Values'!AC28,\"\")","v":""},{"$f":"IF('Monthly Values'!AD28<>0,'Monthly Values'!AD28,\"\")","v":""},{"$f":"IF('Monthly Values'!AE28<>0,'Monthly Values'!AE28,\"\")","v":""},{"$f":"IF('Monthly Values'!AF28<>0,'Monthly Values'!AF28,\"\")","v":""},{"$f":"IF('Monthly Values'!AG28<>0,'Monthly Values'!AG28,\"\")","v":""},{"$f":"IF('Monthly Values'!AH28<>0,'Monthly Values'!AH28,\"\")","v":""},{"$f":"IF('Monthly Values'!AI28<>0,'Monthly Values'!AI28,\"\")","v":""},{"$f":"IF('Monthly Values'!AJ28<>0,'Monthly Values'!AJ28,\"\")","v":""},{"$f":"IF('Monthly Values'!AK28<>0,'Monthly Values'!AK28,\"\")","v":""},{"$f":"IF('Monthly Values'!AL28<>0,'Monthly Values'!AL28,\"\")","v":""},{"$f":"IF('Monthly Values'!AM28<>0,'Monthly Values'!AM28,\"\")","v":""},{"$f":"IF('Monthly Values'!AN28<>0,'Monthly Values'!AN28,\"\")","v":""},{"$f":"IF('Monthly Values'!AO28<>0,'Monthly Values'!AO28,\"\")","v":""},{"$f":"IF('Monthly Values'!AP28<>0,'Monthly Values'!AP28,\"\")","v":""},{"$f":"IF('Monthly Values'!AQ28<>0,'Monthly Values'!AQ28,\"\")","v":""},{"$f":"IF('Monthly Values'!AR28<>0,'Monthly Values'!AR28,\"\")","v":""},{"$f":"IF('Monthly Values'!AS28<>0,'Monthly Values'!AS28,\"\")","v":""},{"$f":"IF('Monthly Values'!AT28<>0,'Monthly Values'!AT28,\"\")","v":""},{"$f":"IF('Monthly Values'!AU28<>0,'Monthly Values'!AU28,\"\")","v":""},{"$f":"IF('Monthly Values'!AV28<>0,'Monthly Values'!AV28,\"\")","v":""},{"$f":"IF('Monthly Values'!AW28<>0,'Monthly Values'!AW28,\"\")","v":""},{"$f":"IF('Monthly Values'!AX28<>0,'Monthly Values'!AX28,\"\")","v":""},{"$f":"IF('Monthly Values'!AY28<>0,'Monthly Values'!AY28,\"\")","v":""},{"$f":"IF('Monthly Values'!AZ28<>0,'Monthly Values'!AZ28,\"\")","v":""},{"$f":"IF('Monthly Values'!BA28<>0,'Monthly Values'!BA28,\"\")","v":""},{"$f":"IF('Monthly Values'!BB28<>0,'Monthly Values'!BB28,\"\")","v":""},{"$f":"IF('Monthly Values'!BC28<>0,'Monthly Values'!BC28,\"\")","v":""},{"$f":"IF('Monthly Values'!BD28<>0,'Monthly Values'!BD28,\"\")","v":""},{"$f":"IF('Monthly Values'!BE28<>0,'Monthly Values'!BE28,\"\")","v":""},{"$f":"IF('Monthly Values'!BF28<>0,'Monthly Values'!BF28,\"\")","v":""},{"$f":"IF('Monthly Values'!BG28<>0,'Monthly Values'!BG28,\"\")","v":""},{"$f":"IF('Monthly Values'!BH28<>0,'Monthly Values'!BH28,\"\")","v":""},{"$f":"IF('Monthly Values'!BI28<>0,'Monthly Values'!BI28,\"\")","v":""},{"$f":"IF('Monthly Values'!BJ28<>0,'Monthly Values'!BJ28,\"\")","v":""},{"$f":"IF('Monthly Values'!BK28<>0,'Monthly Values'!BK28,\"\")","v":""},{"$f":"IF('Monthly Values'!BL28<>0,'Monthly Values'!BL28,\"\")","v":""},{"$f":"IF('Monthly Values'!BM28<>0,'Monthly Values'!BM28,\"\")","v":""},{"$f":"IF('Monthly Values'!BN28<>0,'Monthly Values'!BN28,\"\")","v":""},{"$f":"IF('Monthly Values'!BO28<>0,'Monthly Values'!BO28,\"\")","v":""},{"$f":"IF('Monthly Values'!BP28<>0,'Monthly Values'!BP28,\"\")","v":""},{"$f":"IF('Monthly Values'!BQ28<>0,'Monthly Values'!BQ28,\"\")","v":""},{"$f":"IF('Monthly Values'!BR28<>0,'Monthly Values'!BR28,\"\")","v":""},{"$f":"IF('Monthly Values'!BS28<>0,'Monthly Values'!BS28,\"\")","v":""},{"$f":"IF('Monthly Values'!BT28<>0,'Monthly Values'!BT28,\"\")","v":""},{"$f":"IF('Monthly Values'!BU28<>0,'Monthly Values'!BU28,\"\")","v":""},{"$f":"IF('Monthly Values'!BV28<>0,'Monthly Values'!BV28,\"\")","v":""},{"$f":"IF('Monthly Values'!BW28<>0,'Monthly Values'!BW28,\"\")","v":""},{"$f":"IF('Monthly Values'!BX28<>0,'Monthly Values'!BX28,\"\")","v":""},{"$f":"IF('Monthly Values'!BY28<>0,'Monthly Values'!BY28,\"\")","v":""},{"$f":"IF('Monthly Values'!BZ28<>0,'Monthly Values'!BZ28,\"\")","v":""},{"$f":"IF('Monthly Values'!CA28<>0,'Monthly Values'!CA28,\"\")","v":""},{"$f":"IF('Monthly Values'!CB28<>0,'Monthly Values'!CB28,\"\")","v":""},{"$f":"IF('Monthly Values'!CC28<>0,'Monthly Values'!CC28,\"\")","v":""},{"$f":"IF('Monthly Values'!CD28<>0,'Monthly Values'!CD28,\"\")","v":""},{"$f":"IF('Monthly Values'!CE28<>0,'Monthly Values'!CE28,\"\")","v":""},{"$f":"IF('Monthly Values'!CF28<>0,'Monthly Values'!CF28,\"\")","v":""},{"$f":"IF('Monthly Values'!CG28<>0,'Monthly Values'!CG28,\"\")","v":""},{"$f":"IF('Monthly Values'!CH28<>0,'Monthly Values'!CH28,\"\")","v":""},{"$f":"IF('Monthly Values'!CI28<>0,'Monthly Values'!CI28,\"\")","v":""},{"$f":"IF('Monthly Values'!CJ28<>0,'Monthly Values'!CJ28,\"\")","v":""},{"$f":"IF('Monthly Values'!CK28<>0,'Monthly Values'!CK28,\"\")","v":""},{"$f":"IF('Monthly Values'!CL28<>0,'Monthly Values'!CL28,\"\")","v":""},{"$f":"IF('Monthly Values'!CM28<>0,'Monthly Values'!CM28,\"\")","v":""},{"$f":"IF('Monthly Values'!CN28<>0,'Monthly Values'!CN28,\"\")","v":""},{"$f":"IF('Monthly Values'!CO28<>0,'Monthly Values'!CO28,\"\")","v":""},{"$f":"IF('Monthly Values'!CP28<>0,'Monthly Values'!CP28,\"\")","v":""},{"$f":"IF('Monthly Values'!CQ28<>0,'Monthly Values'!CQ28,\"\")","v":""},{"$f":"IF('Monthly Values'!CR28<>0,'Monthly Values'!CR28,\"\")","v":""},{"$f":"IF('Monthly Values'!CS28<>0,'Monthly Values'!CS28,\"\")","v":""},{"$f":"IF('Monthly Values'!CT28<>0,'Monthly Values'!CT28,\"\")","v":""},{"$f":"IF('Monthly Values'!CU28<>0,'Monthly Values'!CU28,\"\")","v":""},{"$f":"IF('Monthly Values'!CV28<>0,'Monthly Values'!CV28,\"\")","v":""},{"$f":"IF('Monthly Values'!CW28<>0,'Monthly Values'!CW28,\"\")","v":""},{"$f":"IF('Monthly Values'!CX28<>0,'Monthly Values'!CX28,\"\")","v":""},{"$f":"IF('Monthly Values'!CY28<>0,'Monthly Values'!CY28,\"\")","v":""},{"$f":"IF('Monthly Values'!CZ28<>0,'Monthly Values'!CZ28,\"\")","v":""},{"$f":"IF('Monthly Values'!DA28<>0,'Monthly Values'!DA28,\"\")","v":""},{"$f":"IF('Monthly Values'!DB28<>0,'Monthly Values'!DB28,\"\")","v":""},{"$f":"IF('Monthly Values'!DC28<>0,'Monthly Values'!DC28,\"\")","v":""},{"$f":"IF('Monthly Values'!DD28<>0,'Monthly Values'!DD28,\"\")","v":""},{"$f":"IF('Monthly Values'!DE28<>0,'Monthly Values'!DE28,\"\")","v":""},{"$f":"IF('Monthly Values'!DF28<>0,'Monthly Values'!DF28,\"\")","v":""},{"$f":"IF('Monthly Values'!DG28<>0,'Monthly Values'!DG28,\"\")","v":""},{"$f":"IF('Monthly Values'!DH28<>0,'Monthly Values'!DH28,\"\")","v":""},{"$f":"IF('Monthly Values'!DI28<>0,'Monthly Values'!DI28,\"\")","v":""},{"$f":"IF('Monthly Values'!DJ28<>0,'Monthly Values'!DJ28,\"\")","v":""},{"$f":"IF('Monthly Values'!DK28<>0,'Monthly Values'!DK28,\"\")","v":""},{"$f":"IF('Monthly Values'!DL28<>0,'Monthly Values'!DL28,\"\")","v":""},{"$f":"IF('Monthly Values'!DM28<>0,'Monthly Values'!DM28,\"\")","v":""},{"$f":"IF('Monthly Values'!DN28<>0,'Monthly Values'!DN28,\"\")","v":""},{"$f":"IF('Monthly Values'!DO28<>0,'Monthly Values'!DO28,\"\")","v":""},{"$f":"IF('Monthly Values'!DP28<>0,'Monthly Values'!DP28,\"\")","v":""},{"$f":"IF('Monthly Values'!DQ28<>0,'Monthly Values'!DQ28,\"\")","v":""},{"$f":"IF('Monthly Values'!DR28<>0,'Monthly Values'!DR28,\"\")","v":""},{"$f":"IF('Monthly Values'!DS28<>0,'Monthly Values'!DS28,\"\")","v":""},""]
[null,"RESP",null,null,null,null,null,null,null,null,null,null,null,3,{"$f":"IF('Account Setup'!B10<>\"Select From Dropdown\",'Account Setup'!B10,\"\")","v":""},{"$f":"IF('Account Setup'!C10<>0,'Account Setup'!C10,\"\")","v":""},"",null,null,7,{"$f":"IF('Monthly Values'!D29<>0,'Monthly Values'!D29,\"\")","v":""},{"$f":"IF('Monthly Values'!E29<>0,'Monthly Values'!E29,\"\")","v":""},{"$f":"IF('Monthly Values'!F29<>0,'Monthly Values'!F29,\"\")","v":""},{"$f":"IF('Monthly Values'!G29<>0,'Monthly Values'!G29,\"\")","v":""},{"$f":"IF('Monthly Values'!H29<>0,'Monthly Values'!H29,\"\")","v":""},{"$f":"IF('Monthly Values'!I29<>0,'Monthly Values'!I29,\"\")","v":""},{"$f":"IF('Monthly Values'!J29<>0,'Monthly Values'!J29,\"\")","v":""},{"$f":"IF('Monthly Values'!K29<>0,'Monthly Values'!K29,\"\")","v":""},{"$f":"IF('Monthly Values'!L29<>0,'Monthly Values'!L29,\"\")","v":""},{"$f":"IF('Monthly Values'!M29<>0,'Monthly Values'!M29,\"\")","v":""},{"$f":"IF('Monthly Values'!N29<>0,'Monthly Values'!N29,\"\")","v":""},{"$f":"IF('Monthly Values'!O29<>0,'Monthly Values'!O29,\"\")","v":""},{"$f":"IF('Monthly Values'!P29<>0,'Monthly Values'!P29,\"\")","v":""},{"$f":"IF('Monthly Values'!Q29<>0,'Monthly Values'!Q29,\"\")","v":""},{"$f":"IF('Monthly Values'!R29<>0,'Monthly Values'!R29,\"\")","v":""},{"$f":"IF('Monthly Values'!S29<>0,'Monthly Values'!S29,\"\")","v":""},{"$f":"IF('Monthly Values'!T29<>0,'Monthly Values'!T29,\"\")","v":""},{"$f":"IF('Monthly Values'!U29<>0,'Monthly Values'!U29,\"\")","v":""},{"$f":"IF('Monthly Values'!V29<>0,'Monthly Values'!V29,\"\")","v":""},{"$f":"IF('Monthly Values'!W29<>0,'Monthly Values'!W29,\"\")","v":""},{"$f":"IF('Monthly Values'!X29<>0,'Monthly Values'!X29,\"\")","v":""},{"$f":"IF('Monthly Values'!Y29<>0,'Monthly Values'!Y29,\"\")","v":""},{"$f":"IF('Monthly Values'!Z29<>0,'Monthly Values'!Z29,\"\")","v":""},{"$f":"IF('Monthly Values'!AA29<>0,'Monthly Values'!AA29,\"\")","v":""},{"$f":"IF('Monthly Values'!AB29<>0,'Monthly Values'!AB29,\"\")","v":""},{"$f":"IF('Monthly Values'!AC29<>0,'Monthly Values'!AC29,\"\")","v":""},{"$f":"IF('Monthly Values'!AD29<>0,'Monthly Values'!AD29,\"\")","v":""},{"$f":"IF('Monthly Values'!AE29<>0,'Monthly Values'!AE29,\"\")","v":""},{"$f":"IF('Monthly Values'!AF29<>0,'Monthly Values'!AF29,\"\")","v":""},{"$f":"IF('Monthly Values'!AG29<>0,'Monthly Values'!AG29,\"\")","v":""},{"$f":"IF('Monthly Values'!AH29<>0,'Monthly Values'!AH29,\"\")","v":""},{"$f":"IF('Monthly Values'!AI29<>0,'Monthly Values'!AI29,\"\")","v":""},{"$f":"IF('Monthly Values'!AJ29<>0,'Monthly Values'!AJ29,\"\")","v":""},{"$f":"IF('Monthly Values'!AK29<>0,'Monthly Values'!AK29,\"\")","v":""},{"$f":"IF('Monthly Values'!AL29<>0,'Monthly Values'!AL29,\"\")","v":""},{"$f":"IF('Monthly Values'!AM29<>0,'Monthly Values'!AM29,\"\")","v":""},{"$f":"IF('Monthly Values'!AN29<>0,'Monthly Values'!AN29,\"\")","v":""},{"$f":"IF('Monthly Values'!AO29<>0,'Monthly Values'!AO29,\"\")","v":""},{"$f":"IF('Monthly Values'!AP29<>0,'Monthly Values'!AP29,\"\")","v":""},{"$f":"IF('Monthly Values'!AQ29<>0,'Monthly Values'!AQ29,\"\")","v":""},{"$f":"IF('Monthly Values'!AR29<>0,'Monthly Values'!AR29,\"\")","v":""},{"$f":"IF('Monthly Values'!AS29<>0,'Monthly Values'!AS29,\"\")","v":""},{"$f":"IF('Monthly Values'!AT29<>0,'Monthly Values'!AT29,\"\")","v":""},{"$f":"IF('Monthly Values'!AU29<>0,'Monthly Values'!AU29,\"\")","v":""},{"$f":"IF('Monthly Values'!AV29<>0,'Monthly Values'!AV29,\"\")","v":""},{"$f":"IF('Monthly Values'!AW29<>0,'Monthly Values'!AW29,\"\")","v":""},{"$f":"IF('Monthly Values'!AX29<>0,'Monthly Values'!AX29,\"\")","v":""},{"$f":"IF('Monthly Values'!AY29<>0,'Monthly Values'!AY29,\"\")","v":""},{"$f":"IF('Monthly Values'!AZ29<>0,'Monthly Values'!AZ29,\"\")","v":""},{"$f":"IF('Monthly Values'!BA29<>0,'Monthly Values'!BA29,\"\")","v":""},{"$f":"IF('Monthly Values'!BB29<>0,'Monthly Values'!BB29,\"\")","v":""},{"$f":"IF('Monthly Values'!BC29<>0,'Monthly Values'!BC29,\"\")","v":""},{"$f":"IF('Monthly Values'!BD29<>0,'Monthly Values'!BD29,\"\")","v":""},{"$f":"IF('Monthly Values'!BE29<>0,'Monthly Values'!BE29,\"\")","v":""},{"$f":"IF('Monthly Values'!BF29<>0,'Monthly Values'!BF29,\"\")","v":""},{"$f":"IF('Monthly Values'!BG29<>0,'Monthly Values'!BG29,\"\")","v":""},{"$f":"IF('Monthly Values'!BH29<>0,'Monthly Values'!BH29,\"\")","v":""},{"$f":"IF('Monthly Values'!BI29<>0,'Monthly Values'!BI29,\"\")","v":""},{"$f":"IF('Monthly Values'!BJ29<>0,'Monthly Values'!BJ29,\"\")","v":""},{"$f":"IF('Monthly Values'!BK29<>0,'Monthly Values'!BK29,\"\")","v":""},{"$f":"IF('Monthly Values'!BL29<>0,'Monthly Values'!BL29,\"\")","v":""},{"$f":"IF('Monthly Values'!BM29<>0,'Monthly Values'!BM29,\"\")","v":""},{"$f":"IF('Monthly Values'!BN29<>0,'Monthly Values'!BN29,\"\")","v":""},{"$f":"IF('Monthly Values'!BO29<>0,'Monthly Values'!BO29,\"\")","v":""},{"$f":"IF('Monthly Values'!BP29<>0,'Monthly Values'!BP29,\"\")","v":""},{"$f":"IF('Monthly Values'!BQ29<>0,'Monthly Values'!BQ29,\"\")","v":""},{"$f":"IF('Monthly Values'!BR29<>0,'Monthly Values'!BR29,\"\")","v":""},{"$f":"IF('Monthly Values'!BS29<>0,'Monthly Values'!BS29,\"\")","v":""},{"$f":"IF('Monthly Values'!BT29<>0,'Monthly Values'!BT29,\"\")","v":""},{"$f":"IF('Monthly Values'!BU29<>0,'Monthly Values'!BU29,\"\")","v":""},{"$f":"IF('Monthly Values'!BV29<>0,'Monthly Values'!BV29,\"\")","v":""},{"$f":"IF('Monthly Values'!BW29<>0,'Monthly Values'!BW29,\"\")","v":""},{"$f":"IF('Monthly Values'!BX29<>0,'Monthly Values'!BX29,\"\")","v":""},{"$f":"IF('Monthly Values'!BY29<>0,'Monthly Values'!BY29,\"\")","v":""},{"$f":"IF('Monthly Values'!BZ29<>0,'Monthly Values'!BZ29,\"\")","v":""},{"$f":"IF('Monthly Values'!CA29<>0,'Monthly Values'!CA29,\"\")","v":""},{"$f":"IF('Monthly Values'!CB29<>0,'Monthly Values'!CB29,\"\")","v":""},{"$f":"IF('Monthly Values'!CC29<>0,'Monthly Values'!CC29,\"\")","v":""},{"$f":"IF('Monthly Values'!CD29<>0,'Monthly Values'!CD29,\"\")","v":""},{"$f":"IF('Monthly Values'!CE29<>0,'Monthly Values'!CE29,\"\")","v":""},{"$f":"IF('Monthly Values'!CF29<>0,'Monthly Values'!CF29,\"\")","v":""},{"$f":"IF('Monthly Values'!CG29<>0,'Monthly Values'!CG29,\"\")","v":""},{"$f":"IF('Monthly Values'!CH29<>0,'Monthly Values'!CH29,\"\")","v":""},{"$f":"IF('Monthly Values'!CI29<>0,'Monthly Values'!CI29,\"\")","v":""},{"$f":"IF('Monthly Values'!CJ29<>0,'Monthly Values'!CJ29,\"\")","v":""},{"$f":"IF('Monthly Values'!CK29<>0,'Monthly Values'!CK29,\"\")","v":""},{"$f":"IF('Monthly Values'!CL29<>0,'Monthly Values'!CL29,\"\")","v":""},{"$f":"IF('Monthly Values'!CM29<>0,'Monthly Values'!CM29,\"\")","v":""},{"$f":"IF('Monthly Values'!CN29<>0,'Monthly Values'!CN29,\"\")","v":""},{"$f":"IF('Monthly Values'!CO29<>0,'Monthly Values'!CO29,\"\")","v":""},{"$f":"IF('Monthly Values'!CP29<>0,'Monthly Values'!CP29,\"\")","v":""},{"$f":"IF('Monthly Values'!CQ29<>0,'Monthly Values'!CQ29,\"\")","v":""},{"$f":"IF('Monthly Values'!CR29<>0,'Monthly Values'!CR29,\"\")","v":""},{"$f":"IF('Monthly Values'!CS29<>0,'Monthly Values'!CS29,\"\")","v":""},{"$f":"IF('Monthly Values'!CT29<>0,'Monthly Values'!CT29,\"\")","v":""},{"$f":"IF('Monthly Values'!CU29<>0,'Monthly Values'!CU29,\"\")","v":""},{"$f":"IF('Monthly Values'!CV29<>0,'Monthly Values'!CV29,\"\")","v":""},{"$f":"IF('Monthly Values'!CW29<>0,'Monthly Values'!CW29,\"\")","v":""},{"$f":"IF('Monthly Values'!CX29<>0,'Monthly Values'!CX29,\"\")","v":""},{"$f":"IF('Monthly Values'!CY29<>0,'Monthly Values'!CY29,\"\")","v":""},{"$f":"IF('Monthly Values'!CZ29<>0,'Monthly Values'!CZ29,\"\")","v":""},{"$f":"IF('Monthly Values'!DA29<>0,'Monthly Values'!DA29,\"\")","v":""},{"$f":"IF('Monthly Values'!DB29<>0,'Monthly Values'!DB29,\"\")","v":""},{"$f":"IF('Monthly Values'!DC29<>0,'Monthly Values'!DC29,\"\")","v":""},{"$f":"IF('Monthly Values'!DD29<>0,'Monthly Values'!DD29,\"\")","v":""},{"$f":"IF('Monthly Values'!DE29<>0,'Monthly Values'!DE29,\"\")","v":""},{"$f":"IF('Monthly Values'!DF29<>0,'Monthly Values'!DF29,\"\")","v":""},{"$f":"IF('Monthly Values'!DG29<>0,'Monthly Values'!DG29,\"\")","v":""},{"$f":"IF('Monthly Values'!DH29<>0,'Monthly Values'!DH29,\"\")","v":""},{"$f":"IF('Monthly Values'!DI29<>0,'Monthly Values'!DI29,\"\")","v":""},{"$f":"IF('Monthly Values'!DJ29<>0,'Monthly Values'!DJ29,\"\")","v":""},{"$f":"IF('Monthly Values'!DK29<>0,'Monthly Values'!DK29,\"\")","v":""},{"$f":"IF('Monthly Values'!DL29<>0,'Monthly Values'!DL29,\"\")","v":""},{"$f":"IF('Monthly Values'!DM29<>0,'Monthly Values'!DM29,\"\")","v":""},{"$f":"IF('Monthly Values'!DN29<>0,'Monthly Values'!DN29,\"\")","v":""},{"$f":"IF('Monthly Values'!DO29<>0,'Monthly Values'!DO29,\"\")","v":""},{"$f":"IF('Monthly Values'!DP29<>0,'Monthly Values'!DP29,\"\")","v":""},{"$f":"IF('Monthly Values'!DQ29<>0,'Monthly Values'!DQ29,\"\")","v":""},{"$f":"IF('Monthly Values'!DR29<>0,'Monthly Values'!DR29,\"\")","v":""},{"$f":"IF('Monthly Values'!DS29<>0,'Monthly Values'!DS29,\"\")","v":""},""]
[null,"RDSP",null,null,null,null,null,"Data Validation For Corporate Drop Down",null,null,null,null,null,4,{"$f":"IF('Account Setup'!B11<>\"Select From Dropdown\",'Account Setup'!B11,\"\")","v":""},{"$f":"IF('Account Setup'!C11<>0,'Account Setup'!C11,\"\")","v":""},"",null,null,8,{"$f":"IF('Monthly Values'!D30<>0,'Monthly Values'!D30,\"\")","v":""},{"$f":"IF('Monthly Values'!E30<>0,'Monthly Values'!E30,\"\")","v":""},{"$f":"IF('Monthly Values'!F30<>0,'Monthly Values'!F30,\"\")","v":""},{"$f":"IF('Monthly Values'!G30<>0,'Monthly Values'!G30,\"\")","v":""},{"$f":"IF('Monthly Values'!H30<>0,'Monthly Values'!H30,\"\")","v":""},{"$f":"IF('Monthly Values'!I30<>0,'Monthly Values'!I30,\"\")","v":""},{"$f":"IF('Monthly Values'!J30<>0,'Monthly Values'!J30,\"\")","v":""},{"$f":"IF('Monthly Values'!K30<>0,'Monthly Values'!K30,\"\")","v":""},{"$f":"IF('Monthly Values'!L30<>0,'Monthly Values'!L30,\"\")","v":""},{"$f":"IF('Monthly Values'!M30<>0,'Monthly Values'!M30,\"\")","v":""},{"$f":"IF('Monthly Values'!N30<>0,'Monthly Values'!N30,\"\")","v":""},{"$f":"IF('Monthly Values'!O30<>0,'Monthly Values'!O30,\"\")","v":""},{"$f":"IF('Monthly Values'!P30<>0,'Monthly Values'!P30,\"\")","v":""},{"$f":"IF('Monthly Values'!Q30<>0,'Monthly Values'!Q30,\"\")","v":""},{"$f":"IF('Monthly Values'!R30<>0,'Monthly Values'!R30,\"\")","v":""},{"$f":"IF('Monthly Values'!S30<>0,'Monthly Values'!S30,\"\")","v":""},{"$f":"IF('Monthly Values'!T30<>0,'Monthly Values'!T30,\"\")","v":""},{"$f":"IF('Monthly Values'!U30<>0,'Monthly Values'!U30,\"\")","v":""},{"$f":"IF('Monthly Values'!V30<>0,'Monthly Values'!V30,\"\")","v":""},{"$f":"IF('Monthly Values'!W30<>0,'Monthly Values'!W30,\"\")","v":""},{"$f":"IF('Monthly Values'!X30<>0,'Monthly Values'!X30,\"\")","v":""},{"$f":"IF('Monthly Values'!Y30<>0,'Monthly Values'!Y30,\"\")","v":""},{"$f":"IF('Monthly Values'!Z30<>0,'Monthly Values'!Z30,\"\")","v":""},{"$f":"IF('Monthly Values'!AA30<>0,'Monthly Values'!AA30,\"\")","v":""},{"$f":"IF('Monthly Values'!AB30<>0,'Monthly Values'!AB30,\"\")","v":""},{"$f":"IF('Monthly Values'!AC30<>0,'Monthly Values'!AC30,\"\")","v":""},{"$f":"IF('Monthly Values'!AD30<>0,'Monthly Values'!AD30,\"\")","v":""},{"$f":"IF('Monthly Values'!AE30<>0,'Monthly Values'!AE30,\"\")","v":""},{"$f":"IF('Monthly Values'!AF30<>0,'Monthly Values'!AF30,\"\")","v":""},{"$f":"IF('Monthly Values'!AG30<>0,'Monthly Values'!AG30,\"\")","v":""},{"$f":"IF('Monthly Values'!AH30<>0,'Monthly Values'!AH30,\"\")","v":""},{"$f":"IF('Monthly Values'!AI30<>0,'Monthly Values'!AI30,\"\")","v":""},{"$f":"IF('Monthly Values'!AJ30<>0,'Monthly Values'!AJ30,\"\")","v":""},{"$f":"IF('Monthly Values'!AK30<>0,'Monthly Values'!AK30,\"\")","v":""},{"$f":"IF('Monthly Values'!AL30<>0,'Monthly Values'!AL30,\"\")","v":""},{"$f":"IF('Monthly Values'!AM30<>0,'Monthly Values'!AM30,\"\")","v":""},{"$f":"IF('Monthly Values'!AN30<>0,'Monthly Values'!AN30,\"\")","v":""},{"$f":"IF('Monthly Values'!AO30<>0,'Monthly Values'!AO30,\"\")","v":""},{"$f":"IF('Monthly Values'!AP30<>0,'Monthly Values'!AP30,\"\")","v":""},{"$f":"IF('Monthly Values'!AQ30<>0,'Monthly Values'!AQ30,\"\")","v":""},{"$f":"IF('Monthly Values'!AR30<>0,'Monthly Values'!AR30,\"\")","v":""},{"$f":"IF('Monthly Values'!AS30<>0,'Monthly Values'!AS30,\"\")","v":""},{"$f":"IF('Monthly Values'!AT30<>0,'Monthly Values'!AT30,\"\")","v":""},{"$f":"IF('Monthly Values'!AU30<>0,'Monthly Values'!AU30,\"\")","v":""},{"$f":"IF('Monthly Values'!AV30<>0,'Monthly Values'!AV30,\"\")","v":""},{"$f":"IF('Monthly Values'!AW30<>0,'Monthly Values'!AW30,\"\")","v":""},{"$f":"IF('Monthly Values'!AX30<>0,'Monthly Values'!AX30,\"\")","v":""},{"$f":"IF('Monthly Values'!AY30<>0,'Monthly Values'!AY30,\"\")","v":""},{"$f":"IF('Monthly Values'!AZ30<>0,'Monthly Values'!AZ30,\"\")","v":""},{"$f":"IF('Monthly Values'!BA30<>0,'Monthly Values'!BA30,\"\")","v":""},{"$f":"IF('Monthly Values'!BB30<>0,'Monthly Values'!BB30,\"\")","v":""},{"$f":"IF('Monthly Values'!BC30<>0,'Monthly Values'!BC30,\"\")","v":""},{"$f":"IF('Monthly Values'!BD30<>0,'Monthly Values'!BD30,\"\")","v":""},{"$f":"IF('Monthly Values'!BE30<>0,'Monthly Values'!BE30,\"\")","v":""},{"$f":"IF('Monthly Values'!BF30<>0,'Monthly Values'!BF30,\"\")","v":""},{"$f":"IF('Monthly Values'!BG30<>0,'Monthly Values'!BG30,\"\")","v":""},{"$f":"IF('Monthly Values'!BH30<>0,'Monthly Values'!BH30,\"\")","v":""},{"$f":"IF('Monthly Values'!BI30<>0,'Monthly Values'!BI30,\"\")","v":""},{"$f":"IF('Monthly Values'!BJ30<>0,'Monthly Values'!BJ30,\"\")","v":""},{"$f":"IF('Monthly Values'!BK30<>0,'Monthly Values'!BK30,\"\")","v":""},{"$f":"IF('Monthly Values'!BL30<>0,'Monthly Values'!BL30,\"\")","v":""},{"$f":"IF('Monthly Values'!BM30<>0,'Monthly Values'!BM30,\"\")","v":""},{"$f":"IF('Monthly Values'!BN30<>0,'Monthly Values'!BN30,\"\")","v":""},{"$f":"IF('Monthly Values'!BO30<>0,'Monthly Values'!BO30,\"\")","v":""},{"$f":"IF('Monthly Values'!BP30<>0,'Monthly Values'!BP30,\"\")","v":""},{"$f":"IF('Monthly Values'!BQ30<>0,'Monthly Values'!BQ30,\"\")","v":""},{"$f":"IF('Monthly Values'!BR30<>0,'Monthly Values'!BR30,\"\")","v":""},{"$f":"IF('Monthly Values'!BS30<>0,'Monthly Values'!BS30,\"\")","v":""},{"$f":"IF('Monthly Values'!BT30<>0,'Monthly Values'!BT30,\"\")","v":""},{"$f":"IF('Monthly Values'!BU30<>0,'Monthly Values'!BU30,\"\")","v":""},{"$f":"IF('Monthly Values'!BV30<>0,'Monthly Values'!BV30,\"\")","v":""},{"$f":"IF('Monthly Values'!BW30<>0,'Monthly Values'!BW30,\"\")","v":""},{"$f":"IF('Monthly Values'!BX30<>0,'Monthly Values'!BX30,\"\")","v":""},{"$f":"IF('Monthly Values'!BY30<>0,'Monthly Values'!BY30,\"\")","v":""},{"$f":"IF('Monthly Values'!BZ30<>0,'Monthly Values'!BZ30,\"\")","v":""},{"$f":"IF('Monthly Values'!CA30<>0,'Monthly Values'!CA30,\"\")","v":""},{"$f":"IF('Monthly Values'!CB30<>0,'Monthly Values'!CB30,\"\")","v":""},{"$f":"IF('Monthly Values'!CC30<>0,'Monthly Values'!CC30,\"\")","v":""},{"$f":"IF('Monthly Values'!CD30<>0,'Monthly Values'!CD30,\"\")","v":""},{"$f":"IF('Monthly Values'!CE30<>0,'Monthly Values'!CE30,\"\")","v":""},{"$f":"IF('Monthly Values'!CF30<>0,'Monthly Values'!CF30,\"\")","v":""},{"$f":"IF('Monthly Values'!CG30<>0,'Monthly Values'!CG30,\"\")","v":""},{"$f":"IF('Monthly Values'!CH30<>0,'Monthly Values'!CH30,\"\")","v":""},{"$f":"IF('Monthly Values'!CI30<>0,'Monthly Values'!CI30,\"\")","v":""},{"$f":"IF('Monthly Values'!CJ30<>0,'Monthly Values'!CJ30,\"\")","v":""},{"$f":"IF('Monthly Values'!CK30<>0,'Monthly Values'!CK30,\"\")","v":""},{"$f":"IF('Monthly Values'!CL30<>0,'Monthly Values'!CL30,\"\")","v":""},{"$f":"IF('Monthly Values'!CM30<>0,'Monthly Values'!CM30,\"\")","v":""},{"$f":"IF('Monthly Values'!CN30<>0,'Monthly Values'!CN30,\"\")","v":""},{"$f":"IF('Monthly Values'!CO30<>0,'Monthly Values'!CO30,\"\")","v":""},{"$f":"IF('Monthly Values'!CP30<>0,'Monthly Values'!CP30,\"\")","v":""},{"$f":"IF('Monthly Values'!CQ30<>0,'Monthly Values'!CQ30,\"\")","v":""},{"$f":"IF('Monthly Values'!CR30<>0,'Monthly Values'!CR30,\"\")","v":""},{"$f":"IF('Monthly Values'!CS30<>0,'Monthly Values'!CS30,\"\")","v":""},{"$f":"IF('Monthly Values'!CT30<>0,'Monthly Values'!CT30,\"\")","v":""},{"$f":"IF('Monthly Values'!CU30<>0,'Monthly Values'!CU30,\"\")","v":""},{"$f":"IF('Monthly Values'!CV30<>0,'Monthly Values'!CV30,\"\")","v":""},{"$f":"IF('Monthly Values'!CW30<>0,'Monthly Values'!CW30,\"\")","v":""},{"$f":"IF('Monthly Values'!CX30<>0,'Monthly Values'!CX30,\"\")","v":""},{"$f":"IF('Monthly Values'!CY30<>0,'Monthly Values'!CY30,\"\")","v":""},{"$f":"IF('Monthly Values'!CZ30<>0,'Monthly Values'!CZ30,\"\")","v":""},{"$f":"IF('Monthly Values'!DA30<>0,'Monthly Values'!DA30,\"\")","v":""},{"$f":"IF('Monthly Values'!DB30<>0,'Monthly Values'!DB30,\"\")","v":""},{"$f":"IF('Monthly Values'!DC30<>0,'Monthly Values'!DC30,\"\")","v":""},{"$f":"IF('Monthly Values'!DD30<>0,'Monthly Values'!DD30,\"\")","v":""},{"$f":"IF('Monthly Values'!DE30<>0,'Monthly Values'!DE30,\"\")","v":""},{"$f":"IF('Monthly Values'!DF30<>0,'Monthly Values'!DF30,\"\")","v":""},{"$f":"IF('Monthly Values'!DG30<>0,'Monthly Values'!DG30,\"\")","v":""},{"$f":"IF('Monthly Values'!DH30<>0,'Monthly Values'!DH30,\"\")","v":""},{"$f":"IF('Monthly Values'!DI30<>0,'Monthly Values'!DI30,\"\")","v":""},{"$f":"IF('Monthly Values'!DJ30<>0,'Monthly Values'!DJ30,\"\")","v":""},{"$f":"IF('Monthly Values'!DK30<>0,'Monthly Values'!DK30,\"\")","v":""},{"$f":"IF('Monthly Values'!DL30<>0,'Monthly Values'!DL30,\"\")","v":""},{"$f":"IF('Monthly Values'!DM30<>0,'Monthly Values'!DM30,\"\")","v":""},{"$f":"IF('Monthly Values'!DN30<>0,'Monthly Values'!DN30,\"\")","v":""},{"$f":"IF('Monthly Values'!DO30<>0,'Monthly Values'!DO30,\"\")","v":""},{"$f":"IF('Monthly Values'!DP30<>0,'Monthly Values'!DP30,\"\")","v":""},{"$f":"IF('Monthly Values'!DQ30<>0,'Monthly Values'!DQ30,\"\")","v":""},{"$f":"IF('Monthly Values'!DR30<>0,'Monthly Values'!DR30,\"\")","v":""},{"$f":"IF('Monthly Values'!DS30<>0,'Monthly Values'!DS30,\"\")","v":""},""]
[null,"LIF",null,null,null,null,null,"Select From Dropdown",null,null,null,null,null,5,{"$f":"IF('Account Setup'!B12<>\"Select From Dropdown\",'Account Setup'!B12,\"\")","v":""},{"$f":"IF('Account Setup'!C12<>0,'Account Setup'!C12,\"\")","v":""},"",null,null,9,{"$f":"IF('Monthly Values'!D31<>0,'Monthly Values'!D31,\"\")","v":""},{"$f":"IF('Monthly Values'!E31<>0,'Monthly Values'!E31,\"\")","v":""},{"$f":"IF('Monthly Values'!F31<>0,'Monthly Values'!F31,\"\")","v":""},{"$f":"IF('Monthly Values'!G31<>0,'Monthly Values'!G31,\"\")","v":""},{"$f":"IF('Monthly Values'!H31<>0,'Monthly Values'!H31,\"\")","v":""},{"$f":"IF('Monthly Values'!I31<>0,'Monthly Values'!I31,\"\")","v":""},{"$f":"IF('Monthly Values'!J31<>0,'Monthly Values'!J31,\"\")","v":""},{"$f":"IF('Monthly Values'!K31<>0,'Monthly Values'!K31,\"\")","v":""},{"$f":"IF('Monthly Values'!L31<>0,'Monthly Values'!L31,\"\")","v":""},{"$f":"IF('Monthly Values'!M31<>0,'Monthly Values'!M31,\"\")","v":""},{"$f":"IF('Monthly Values'!N31<>0,'Monthly Values'!N31,\"\")","v":""},{"$f":"IF('Monthly Values'!O31<>0,'Monthly Values'!O31,\"\")","v":""},{"$f":"IF('Monthly Values'!P31<>0,'Monthly Values'!P31,\"\")","v":""},{"$f":"IF('Monthly Values'!Q31<>0,'Monthly Values'!Q31,\"\")","v":""},{"$f":"IF('Monthly Values'!R31<>0,'Monthly Values'!R31,\"\")","v":""},{"$f":"IF('Monthly Values'!S31<>0,'Monthly Values'!S31,\"\")","v":""},{"$f":"IF('Monthly Values'!T31<>0,'Monthly Values'!T31,\"\")","v":""},{"$f":"IF('Monthly Values'!U31<>0,'Monthly Values'!U31,\"\")","v":""},{"$f":"IF('Monthly Values'!V31<>0,'Monthly Values'!V31,\"\")","v":""},{"$f":"IF('Monthly Values'!W31<>0,'Monthly Values'!W31,\"\")","v":""},{"$f":"IF('Monthly Values'!X31<>0,'Monthly Values'!X31,\"\")","v":""},{"$f":"IF('Monthly Values'!Y31<>0,'Monthly Values'!Y31,\"\")","v":""},{"$f":"IF('Monthly Values'!Z31<>0,'Monthly Values'!Z31,\"\")","v":""},{"$f":"IF('Monthly Values'!AA31<>0,'Monthly Values'!AA31,\"\")","v":""},{"$f":"IF('Monthly Values'!AB31<>0,'Monthly Values'!AB31,\"\")","v":""},{"$f":"IF('Monthly Values'!AC31<>0,'Monthly Values'!AC31,\"\")","v":""},{"$f":"IF('Monthly Values'!AD31<>0,'Monthly Values'!AD31,\"\")","v":""},{"$f":"IF('Monthly Values'!AE31<>0,'Monthly Values'!AE31,\"\")","v":""},{"$f":"IF('Monthly Values'!AF31<>0,'Monthly Values'!AF31,\"\")","v":""},{"$f":"IF('Monthly Values'!AG31<>0,'Monthly Values'!AG31,\"\")","v":""},{"$f":"IF('Monthly Values'!AH31<>0,'Monthly Values'!AH31,\"\")","v":""},{"$f":"IF('Monthly Values'!AI31<>0,'Monthly Values'!AI31,\"\")","v":""},{"$f":"IF('Monthly Values'!AJ31<>0,'Monthly Values'!AJ31,\"\")","v":""},{"$f":"IF('Monthly Values'!AK31<>0,'Monthly Values'!AK31,\"\")","v":""},{"$f":"IF('Monthly Values'!AL31<>0,'Monthly Values'!AL31,\"\")","v":""},{"$f":"IF('Monthly Values'!AM31<>0,'Monthly Values'!AM31,\"\")","v":""},{"$f":"IF('Monthly Values'!AN31<>0,'Monthly Values'!AN31,\"\")","v":""},{"$f":"IF('Monthly Values'!AO31<>0,'Monthly Values'!AO31,\"\")","v":""},{"$f":"IF('Monthly Values'!AP31<>0,'Monthly Values'!AP31,\"\")","v":""},{"$f":"IF('Monthly Values'!AQ31<>0,'Monthly Values'!AQ31,\"\")","v":""},{"$f":"IF('Monthly Values'!AR31<>0,'Monthly Values'!AR31,\"\")","v":""},{"$f":"IF('Monthly Values'!AS31<>0,'Monthly Values'!AS31,\"\")","v":""},{"$f":"IF('Monthly Values'!AT31<>0,'Monthly Values'!AT31,\"\")","v":""},{"$f":"IF('Monthly Values'!AU31<>0,'Monthly Values'!AU31,\"\")","v":""},{"$f":"IF('Monthly Values'!AV31<>0,'Monthly Values'!AV31,\"\")","v":""},{"$f":"IF('Monthly Values'!AW31<>0,'Monthly Values'!AW31,\"\")","v":""},{"$f":"IF('Monthly Values'!AX31<>0,'Monthly Values'!AX31,\"\")","v":""},{"$f":"IF('Monthly Values'!AY31<>0,'Monthly Values'!AY31,\"\")","v":""},{"$f":"IF('Monthly Values'!AZ31<>0,'Monthly Values'!AZ31,\"\")","v":""},{"$f":"IF('Monthly Values'!BA31<>0,'Monthly Values'!BA31,\"\")","v":""},{"$f":"IF('Monthly Values'!BB31<>0,'Monthly Values'!BB31,\"\")","v":""},{"$f":"IF('Monthly Values'!BC31<>0,'Monthly Values'!BC31,\"\")","v":""},{"$f":"IF('Monthly Values'!BD31<>0,'Monthly Values'!BD31,\"\")","v":""},{"$f":"IF('Monthly Values'!BE31<>0,'Monthly Values'!BE31,\"\")","v":""},{"$f":"IF('Monthly Values'!BF31<>0,'Monthly Values'!BF31,\"\")","v":""},{"$f":"IF('Monthly Values'!BG31<>0,'Monthly Values'!BG31,\"\")","v":""},{"$f":"IF('Monthly Values'!BH31<>0,'Monthly Values'!BH31,\"\")","v":""},{"$f":"IF('Monthly Values'!BI31<>0,'Monthly Values'!BI31,\"\")","v":""},{"$f":"IF('Monthly Values'!BJ31<>0,'Monthly Values'!BJ31,\"\")","v":""},{"$f":"IF('Monthly Values'!BK31<>0,'Monthly Values'!BK31,\"\")","v":""},{"$f":"IF('Monthly Values'!BL31<>0,'Monthly Values'!BL31,\"\")","v":""},{"$f":"IF('Monthly Values'!BM31<>0,'Monthly Values'!BM31,\"\")","v":""},{"$f":"IF('Monthly Values'!BN31<>0,'Monthly Values'!BN31,\"\")","v":""},{"$f":"IF('Monthly Values'!BO31<>0,'Monthly Values'!BO31,\"\")","v":""},{"$f":"IF('Monthly Values'!BP31<>0,'Monthly Values'!BP31,\"\")","v":""},{"$f":"IF('Monthly Values'!BQ31<>0,'Monthly Values'!BQ31,\"\")","v":""},{"$f":"IF('Monthly Values'!BR31<>0,'Monthly Values'!BR31,\"\")","v":""},{"$f":"IF('Monthly Values'!BS31<>0,'Monthly Values'!BS31,\"\")","v":""},{"$f":"IF('Monthly Values'!BT31<>0,'Monthly Values'!BT31,\"\")","v":""},{"$f":"IF('Monthly Values'!BU31<>0,'Monthly Values'!BU31,\"\")","v":""},{"$f":"IF('Monthly Values'!BV31<>0,'Monthly Values'!BV31,\"\")","v":""},{"$f":"IF('Monthly Values'!BW31<>0,'Monthly Values'!BW31,\"\")","v":""},{"$f":"IF('Monthly Values'!BX31<>0,'Monthly Values'!BX31,\"\")","v":""},{"$f":"IF('Monthly Values'!BY31<>0,'Monthly Values'!BY31,\"\")","v":""},{"$f":"IF('Monthly Values'!BZ31<>0,'Monthly Values'!BZ31,\"\")","v":""},{"$f":"IF('Monthly Values'!CA31<>0,'Monthly Values'!CA31,\"\")","v":""},{"$f":"IF('Monthly Values'!CB31<>0,'Monthly Values'!CB31,\"\")","v":""},{"$f":"IF('Monthly Values'!CC31<>0,'Monthly Values'!CC31,\"\")","v":""},{"$f":"IF('Monthly Values'!CD31<>0,'Monthly Values'!CD31,\"\")","v":""},{"$f":"IF('Monthly Values'!CE31<>0,'Monthly Values'!CE31,\"\")","v":""},{"$f":"IF('Monthly Values'!CF31<>0,'Monthly Values'!CF31,\"\")","v":""},{"$f":"IF('Monthly Values'!CG31<>0,'Monthly Values'!CG31,\"\")","v":""},{"$f":"IF('Monthly Values'!CH31<>0,'Monthly Values'!CH31,\"\")","v":""},{"$f":"IF('Monthly Values'!CI31<>0,'Monthly Values'!CI31,\"\")","v":""},{"$f":"IF('Monthly Values'!CJ31<>0,'Monthly Values'!CJ31,\"\")","v":""},{"$f":"IF('Monthly Values'!CK31<>0,'Monthly Values'!CK31,\"\")","v":""},{"$f":"IF('Monthly Values'!CL31<>0,'Monthly Values'!CL31,\"\")","v":""},{"$f":"IF('Monthly Values'!CM31<>0,'Monthly Values'!CM31,\"\")","v":""},{"$f":"IF('Monthly Values'!CN31<>0,'Monthly Values'!CN31,\"\")","v":""},{"$f":"IF('Monthly Values'!CO31<>0,'Monthly Values'!CO31,\"\")","v":""},{"$f":"IF('Monthly Values'!CP31<>0,'Monthly Values'!CP31,\"\")","v":""},{"$f":"IF('Monthly Values'!CQ31<>0,'Monthly Values'!CQ31,\"\")","v":""},{"$f":"IF('Monthly Values'!CR31<>0,'Monthly Values'!CR31,\"\")","v":""},{"$f":"IF('Monthly Values'!CS31<>0,'Monthly Values'!CS31,\"\")","v":""},{"$f":"IF('Monthly Values'!CT31<>0,'Monthly Values'!CT31,\"\")","v":""},{"$f":"IF('Monthly Values'!CU31<>0,'Monthly Values'!CU31,\"\")","v":""},{"$f":"IF('Monthly Values'!CV31<>0,'Monthly Values'!CV31,\"\")","v":""},{"$f":"IF('Monthly Values'!CW31<>0,'Monthly Values'!CW31,\"\")","v":""},{"$f":"IF('Monthly Values'!CX31<>0,'Monthly Values'!CX31,\"\")","v":""},{"$f":"IF('Monthly Values'!CY31<>0,'Monthly Values'!CY31,\"\")","v":""},{"$f":"IF('Monthly Values'!CZ31<>0,'Monthly Values'!CZ31,\"\")","v":""},{"$f":"IF('Monthly Values'!DA31<>0,'Monthly Values'!DA31,\"\")","v":""},{"$f":"IF('Monthly Values'!DB31<>0,'Monthly Values'!DB31,\"\")","v":""},{"$f":"IF('Monthly Values'!DC31<>0,'Monthly Values'!DC31,\"\")","v":""},{"$f":"IF('Monthly Values'!DD31<>0,'Monthly Values'!DD31,\"\")","v":""},{"$f":"IF('Monthly Values'!DE31<>0,'Monthly Values'!DE31,\"\")","v":""},{"$f":"IF('Monthly Values'!DF31<>0,'Monthly Values'!DF31,\"\")","v":""},{"$f":"IF('Monthly Values'!DG31<>0,'Monthly Values'!DG31,\"\")","v":""},{"$f":"IF('Monthly Values'!DH31<>0,'Monthly Values'!DH31,\"\")","v":""},{"$f":"IF('Monthly Values'!DI31<>0,'Monthly Values'!DI31,\"\")","v":""},{"$f":"IF('Monthly Values'!DJ31<>0,'Monthly Values'!DJ31,\"\")","v":""},{"$f":"IF('Monthly Values'!DK31<>0,'Monthly Values'!DK31,\"\")","v":""},{"$f":"IF('Monthly Values'!DL31<>0,'Monthly Values'!DL31,\"\")","v":""},{"$f":"IF('Monthly Values'!DM31<>0,'Monthly Values'!DM31,\"\")","v":""},{"$f":"IF('Monthly Values'!DN31<>0,'Monthly Values'!DN31,\"\")","v":""},{"$f":"IF('Monthly Values'!DO31<>0,'Monthly Values'!DO31,\"\")","v":""},{"$f":"IF('Monthly Values'!DP31<>0,'Monthly Values'!DP31,\"\")","v":""},{"$f":"IF('Monthly Values'!DQ31<>0,'Monthly Values'!DQ31,\"\")","v":""},{"$f":"IF('Monthly Values'!DR31<>0,'Monthly Values'!DR31,\"\")","v":""},{"$f":"IF('Monthly Values'!DS31<>0,'Monthly Values'!DS31,\"\")","v":""},""]
[null,"LIRA",null,null,null,null,null,"Investment",null,null,null,null,null,6,{"$f":"IF('Account Setup'!B13<>\"Select From Dropdown\",'Account Setup'!B13,\"\")","v":""},{"$f":"IF('Account Setup'!C13<>0,'Account Setup'!C13,\"\")","v":""},"",null,null,10,{"$f":"IF('Monthly Values'!D32<>0,'Monthly Values'!D32,\"\")","v":""},{"$f":"IF('Monthly Values'!E32<>0,'Monthly Values'!E32,\"\")","v":""},{"$f":"IF('Monthly Values'!F32<>0,'Monthly Values'!F32,\"\")","v":""},{"$f":"IF('Monthly Values'!G32<>0,'Monthly Values'!G32,\"\")","v":""},{"$f":"IF('Monthly Values'!H32<>0,'Monthly Values'!H32,\"\")","v":""},{"$f":"IF('Monthly Values'!I32<>0,'Monthly Values'!I32,\"\")","v":""},{"$f":"IF('Monthly Values'!J32<>0,'Monthly Values'!J32,\"\")","v":""},{"$f":"IF('Monthly Values'!K32<>0,'Monthly Values'!K32,\"\")","v":""},{"$f":"IF('Monthly Values'!L32<>0,'Monthly Values'!L32,\"\")","v":""},{"$f":"IF('Monthly Values'!M32<>0,'Monthly Values'!M32,\"\")","v":""},{"$f":"IF('Monthly Values'!N32<>0,'Monthly Values'!N32,\"\")","v":""},{"$f":"IF('Monthly Values'!O32<>0,'Monthly Values'!O32,\"\")","v":""},{"$f":"IF('Monthly Values'!P32<>0,'Monthly Values'!P32,\"\")","v":""},{"$f":"IF('Monthly Values'!Q32<>0,'Monthly Values'!Q32,\"\")","v":""},{"$f":"IF('Monthly Values'!R32<>0,'Monthly Values'!R32,\"\")","v":""},{"$f":"IF('Monthly Values'!S32<>0,'Monthly Values'!S32,\"\")","v":""},{"$f":"IF('Monthly Values'!T32<>0,'Monthly Values'!T32,\"\")","v":""},{"$f":"IF('Monthly Values'!U32<>0,'Monthly Values'!U32,\"\")","v":""},{"$f":"IF('Monthly Values'!V32<>0,'Monthly Values'!V32,\"\")","v":""},{"$f":"IF('Monthly Values'!W32<>0,'Monthly Values'!W32,\"\")","v":""},{"$f":"IF('Monthly Values'!X32<>0,'Monthly Values'!X32,\"\")","v":""},{"$f":"IF('Monthly Values'!Y32<>0,'Monthly Values'!Y32,\"\")","v":""},{"$f":"IF('Monthly Values'!Z32<>0,'Monthly Values'!Z32,\"\")","v":""},{"$f":"IF('Monthly Values'!AA32<>0,'Monthly Values'!AA32,\"\")","v":""},{"$f":"IF('Monthly Values'!AB32<>0,'Monthly Values'!AB32,\"\")","v":""},{"$f":"IF('Monthly Values'!AC32<>0,'Monthly Values'!AC32,\"\")","v":""},{"$f":"IF('Monthly Values'!AD32<>0,'Monthly Values'!AD32,\"\")","v":""},{"$f":"IF('Monthly Values'!AE32<>0,'Monthly Values'!AE32,\"\")","v":""},{"$f":"IF('Monthly Values'!AF32<>0,'Monthly Values'!AF32,\"\")","v":""},{"$f":"IF('Monthly Values'!AG32<>0,'Monthly Values'!AG32,\"\")","v":""},{"$f":"IF('Monthly Values'!AH32<>0,'Monthly Values'!AH32,\"\")","v":""},{"$f":"IF('Monthly Values'!AI32<>0,'Monthly Values'!AI32,\"\")","v":""},{"$f":"IF('Monthly Values'!AJ32<>0,'Monthly Values'!AJ32,\"\")","v":""},{"$f":"IF('Monthly Values'!AK32<>0,'Monthly Values'!AK32,\"\")","v":""},{"$f":"IF('Monthly Values'!AL32<>0,'Monthly Values'!AL32,\"\")","v":""},{"$f":"IF('Monthly Values'!AM32<>0,'Monthly Values'!AM32,\"\")","v":""},{"$f":"IF('Monthly Values'!AN32<>0,'Monthly Values'!AN32,\"\")","v":""},{"$f":"IF('Monthly Values'!AO32<>0,'Monthly Values'!AO32,\"\")","v":""},{"$f":"IF('Monthly Values'!AP32<>0,'Monthly Values'!AP32,\"\")","v":""},{"$f":"IF('Monthly Values'!AQ32<>0,'Monthly Values'!AQ32,\"\")","v":""},{"$f":"IF('Monthly Values'!AR32<>0,'Monthly Values'!AR32,\"\")","v":""},{"$f":"IF('Monthly Values'!AS32<>0,'Monthly Values'!AS32,\"\")","v":""},{"$f":"IF('Monthly Values'!AT32<>0,'Monthly Values'!AT32,\"\")","v":""},{"$f":"IF('Monthly Values'!AU32<>0,'Monthly Values'!AU32,\"\")","v":""},{"$f":"IF('Monthly Values'!AV32<>0,'Monthly Values'!AV32,\"\")","v":""},{"$f":"IF('Monthly Values'!AW32<>0,'Monthly Values'!AW32,\"\")","v":""},{"$f":"IF('Monthly Values'!AX32<>0,'Monthly Values'!AX32,\"\")","v":""},{"$f":"IF('Monthly Values'!AY32<>0,'Monthly Values'!AY32,\"\")","v":""},{"$f":"IF('Monthly Values'!AZ32<>0,'Monthly Values'!AZ32,\"\")","v":""},{"$f":"IF('Monthly Values'!BA32<>0,'Monthly Values'!BA32,\"\")","v":""},{"$f":"IF('Monthly Values'!BB32<>0,'Monthly Values'!BB32,\"\")","v":""},{"$f":"IF('Monthly Values'!BC32<>0,'Monthly Values'!BC32,\"\")","v":""},{"$f":"IF('Monthly Values'!BD32<>0,'Monthly Values'!BD32,\"\")","v":""},{"$f":"IF('Monthly Values'!BE32<>0,'Monthly Values'!BE32,\"\")","v":""},{"$f":"IF('Monthly Values'!BF32<>0,'Monthly Values'!BF32,\"\")","v":""},{"$f":"IF('Monthly Values'!BG32<>0,'Monthly Values'!BG32,\"\")","v":""},{"$f":"IF('Monthly Values'!BH32<>0,'Monthly Values'!BH32,\"\")","v":""},{"$f":"IF('Monthly Values'!BI32<>0,'Monthly Values'!BI32,\"\")","v":""},{"$f":"IF('Monthly Values'!BJ32<>0,'Monthly Values'!BJ32,\"\")","v":""},{"$f":"IF('Monthly Values'!BK32<>0,'Monthly Values'!BK32,\"\")","v":""},{"$f":"IF('Monthly Values'!BL32<>0,'Monthly Values'!BL32,\"\")","v":""},{"$f":"IF('Monthly Values'!BM32<>0,'Monthly Values'!BM32,\"\")","v":""},{"$f":"IF('Monthly Values'!BN32<>0,'Monthly Values'!BN32,\"\")","v":""},{"$f":"IF('Monthly Values'!BO32<>0,'Monthly Values'!BO32,\"\")","v":""},{"$f":"IF('Monthly Values'!BP32<>0,'Monthly Values'!BP32,\"\")","v":""},{"$f":"IF('Monthly Values'!BQ32<>0,'Monthly Values'!BQ32,\"\")","v":""},{"$f":"IF('Monthly Values'!BR32<>0,'Monthly Values'!BR32,\"\")","v":""},{"$f":"IF('Monthly Values'!BS32<>0,'Monthly Values'!BS32,\"\")","v":""},{"$f":"IF('Monthly Values'!BT32<>0,'Monthly Values'!BT32,\"\")","v":""},{"$f":"IF('Monthly Values'!BU32<>0,'Monthly Values'!BU32,\"\")","v":""},{"$f":"IF('Monthly Values'!BV32<>0,'Monthly Values'!BV32,\"\")","v":""},{"$f":"IF('Monthly Values'!BW32<>0,'Monthly Values'!BW32,\"\")","v":""},{"$f":"IF('Monthly Values'!BX32<>0,'Monthly Values'!BX32,\"\")","v":""},{"$f":"IF('Monthly Values'!BY32<>0,'Monthly Values'!BY32,\"\")","v":""},{"$f":"IF('Monthly Values'!BZ32<>0,'Monthly Values'!BZ32,\"\")","v":""},{"$f":"IF('Monthly Values'!CA32<>0,'Monthly Values'!CA32,\"\")","v":""},{"$f":"IF('Monthly Values'!CB32<>0,'Monthly Values'!CB32,\"\")","v":""},{"$f":"IF('Monthly Values'!CC32<>0,'Monthly Values'!CC32,\"\")","v":""},{"$f":"IF('Monthly Values'!CD32<>0,'Monthly Values'!CD32,\"\")","v":""},{"$f":"IF('Monthly Values'!CE32<>0,'Monthly Values'!CE32,\"\")","v":""},{"$f":"IF('Monthly Values'!CF32<>0,'Monthly Values'!CF32,\"\")","v":""},{"$f":"IF('Monthly Values'!CG32<>0,'Monthly Values'!CG32,\"\")","v":""},{"$f":"IF('Monthly Values'!CH32<>0,'Monthly Values'!CH32,\"\")","v":""},{"$f":"IF('Monthly Values'!CI32<>0,'Monthly Values'!CI32,\"\")","v":""},{"$f":"IF('Monthly Values'!CJ32<>0,'Monthly Values'!CJ32,\"\")","v":""},{"$f":"IF('Monthly Values'!CK32<>0,'Monthly Values'!CK32,\"\")","v":""},{"$f":"IF('Monthly Values'!CL32<>0,'Monthly Values'!CL32,\"\")","v":""},{"$f":"IF('Monthly Values'!CM32<>0,'Monthly Values'!CM32,\"\")","v":""},{"$f":"IF('Monthly Values'!CN32<>0,'Monthly Values'!CN32,\"\")","v":""},{"$f":"IF('Monthly Values'!CO32<>0,'Monthly Values'!CO32,\"\")","v":""},{"$f":"IF('Monthly Values'!CP32<>0,'Monthly Values'!CP32,\"\")","v":""},{"$f":"IF('Monthly Values'!CQ32<>0,'Monthly Values'!CQ32,\"\")","v":""},{"$f":"IF('Monthly Values'!CR32<>0,'Monthly Values'!CR32,\"\")","v":""},{"$f":"IF('Monthly Values'!CS32<>0,'Monthly Values'!CS32,\"\")","v":""},{"$f":"IF('Monthly Values'!CT32<>0,'Monthly Values'!CT32,\"\")","v":""},{"$f":"IF('Monthly Values'!CU32<>0,'Monthly Values'!CU32,\"\")","v":""},{"$f":"IF('Monthly Values'!CV32<>0,'Monthly Values'!CV32,\"\")","v":""},{"$f":"IF('Monthly Values'!CW32<>0,'Monthly Values'!CW32,\"\")","v":""},{"$f":"IF('Monthly Values'!CX32<>0,'Monthly Values'!CX32,\"\")","v":""},{"$f":"IF('Monthly Values'!CY32<>0,'Monthly Values'!CY32,\"\")","v":""},{"$f":"IF('Monthly Values'!CZ32<>0,'Monthly Values'!CZ32,\"\")","v":""},{"$f":"IF('Monthly Values'!DA32<>0,'Monthly Values'!DA32,\"\")","v":""},{"$f":"IF('Monthly Values'!DB32<>0,'Monthly Values'!DB32,\"\")","v":""},{"$f":"IF('Monthly Values'!DC32<>0,'Monthly Values'!DC32,\"\")","v":""},{"$f":"IF('Monthly Values'!DD32<>0,'Monthly Values'!DD32,\"\")","v":""},{"$f":"IF('Monthly Values'!DE32<>0,'Monthly Values'!DE32,\"\")","v":""},{"$f":"IF('Monthly Values'!DF32<>0,'Monthly Values'!DF32,\"\")","v":""},{"$f":"IF('Monthly Values'!DG32<>0,'Monthly Values'!DG32,\"\")","v":""},{"$f":"IF('Monthly Values'!DH32<>0,'Monthly Values'!DH32,\"\")","v":""},{"$f":"IF('Monthly Values'!DI32<>0,'Monthly Values'!DI32,\"\")","v":""},{"$f":"IF('Monthly Values'!DJ32<>0,'Monthly Values'!DJ32,\"\")","v":""},{"$f":"IF('Monthly Values'!DK32<>0,'Monthly Values'!DK32,\"\")","v":""},{"$f":"IF('Monthly Values'!DL32<>0,'Monthly Values'!DL32,\"\")","v":""},{"$f":"IF('Monthly Values'!DM32<>0,'Monthly Values'!DM32,\"\")","v":""},{"$f":"IF('Monthly Values'!DN32<>0,'Monthly Values'!DN32,\"\")","v":""},{"$f":"IF('Monthly Values'!DO32<>0,'Monthly Values'!DO32,\"\")","v":""},{"$f":"IF('Monthly Values'!DP32<>0,'Monthly Values'!DP32,\"\")","v":""},{"$f":"IF('Monthly Values'!DQ32<>0,'Monthly Values'!DQ32,\"\")","v":""},{"$f":"IF('Monthly Values'!DR32<>0,'Monthly Values'!DR32,\"\")","v":""},{"$f":"IF('Monthly Values'!DS32<>0,'Monthly Values'!DS32,\"\")","v":""},""]
[null,"Other",null,null,null,null,null,"Banking",null,null,null,null,null,7,{"$f":"IF('Account Setup'!B14<>\"Select From Dropdown\",'Account Setup'!B14,\"\")","v":""},{"$f":"IF('Account Setup'!C14<>0,'Account Setup'!C14,\"\")","v":""},"",null,"Real Estate",1,{"$f":"IF('Monthly Values'!D39<>0,'Monthly Values'!D39,\"\")","v":""},{"$f":"IF('Monthly Values'!E39<>0,'Monthly Values'!E39,\"\")","v":""},{"$f":"IF('Monthly Values'!F39<>0,'Monthly Values'!F39,\"\")","v":""},{"$f":"IF('Monthly Values'!G39<>0,'Monthly Values'!G39,\"\")","v":""},{"$f":"IF('Monthly Values'!H39<>0,'Monthly Values'!H39,\"\")","v":""},{"$f":"IF('Monthly Values'!I39<>0,'Monthly Values'!I39,\"\")","v":""},{"$f":"IF('Monthly Values'!J39<>0,'Monthly Values'!J39,\"\")","v":""},{"$f":"IF('Monthly Values'!K39<>0,'Monthly Values'!K39,\"\")","v":""},{"$f":"IF('Monthly Values'!L39<>0,'Monthly Values'!L39,\"\")","v":""},{"$f":"IF('Monthly Values'!M39<>0,'Monthly Values'!M39,\"\")","v":""},{"$f":"IF('Monthly Values'!N39<>0,'Monthly Values'!N39,\"\")","v":""},{"$f":"IF('Monthly Values'!O39<>0,'Monthly Values'!O39,\"\")","v":""},{"$f":"IF('Monthly Values'!P39<>0,'Monthly Values'!P39,\"\")","v":""},{"$f":"IF('Monthly Values'!Q39<>0,'Monthly Values'!Q39,\"\")","v":""},{"$f":"IF('Monthly Values'!R39<>0,'Monthly Values'!R39,\"\")","v":""},{"$f":"IF('Monthly Values'!S39<>0,'Monthly Values'!S39,\"\")","v":""},{"$f":"IF('Monthly Values'!T39<>0,'Monthly Values'!T39,\"\")","v":""},{"$f":"IF('Monthly Values'!U39<>0,'Monthly Values'!U39,\"\")","v":""},{"$f":"IF('Monthly Values'!V39<>0,'Monthly Values'!V39,\"\")","v":""},{"$f":"IF('Monthly Values'!W39<>0,'Monthly Values'!W39,\"\")","v":""},{"$f":"IF('Monthly Values'!X39<>0,'Monthly Values'!X39,\"\")","v":""},{"$f":"IF('Monthly Values'!Y39<>0,'Monthly Values'!Y39,\"\")","v":""},{"$f":"IF('Monthly Values'!Z39<>0,'Monthly Values'!Z39,\"\")","v":""},{"$f":"IF('Monthly Values'!AA39<>0,'Monthly Values'!AA39,\"\")","v":""},{"$f":"IF('Monthly Values'!AB39<>0,'Monthly Values'!AB39,\"\")","v":""},{"$f":"IF('Monthly Values'!AC39<>0,'Monthly Values'!AC39,\"\")","v":""},{"$f":"IF('Monthly Values'!AD39<>0,'Monthly Values'!AD39,\"\")","v":""},{"$f":"IF('Monthly Values'!AE39<>0,'Monthly Values'!AE39,\"\")","v":""},{"$f":"IF('Monthly Values'!AF39<>0,'Monthly Values'!AF39,\"\")","v":""},{"$f":"IF('Monthly Values'!AG39<>0,'Monthly Values'!AG39,\"\")","v":""},{"$f":"IF('Monthly Values'!AH39<>0,'Monthly Values'!AH39,\"\")","v":""},{"$f":"IF('Monthly Values'!AI39<>0,'Monthly Values'!AI39,\"\")","v":""},{"$f":"IF('Monthly Values'!AJ39<>0,'Monthly Values'!AJ39,\"\")","v":""},{"$f":"IF('Monthly Values'!AK39<>0,'Monthly Values'!AK39,\"\")","v":""},{"$f":"IF('Monthly Values'!AL39<>0,'Monthly Values'!AL39,\"\")","v":""},{"$f":"IF('Monthly Values'!AM39<>0,'Monthly Values'!AM39,\"\")","v":""},{"$f":"IF('Monthly Values'!AN39<>0,'Monthly Values'!AN39,\"\")","v":""},{"$f":"IF('Monthly Values'!AO39<>0,'Monthly Values'!AO39,\"\")","v":""},{"$f":"IF('Monthly Values'!AP39<>0,'Monthly Values'!AP39,\"\")","v":""},{"$f":"IF('Monthly Values'!AQ39<>0,'Monthly Values'!AQ39,\"\")","v":""},{"$f":"IF('Monthly Values'!AR39<>0,'Monthly Values'!AR39,\"\")","v":""},{"$f":"IF('Monthly Values'!AS39<>0,'Monthly Values'!AS39,\"\")","v":""},{"$f":"IF('Monthly Values'!AT39<>0,'Monthly Values'!AT39,\"\")","v":""},{"$f":"IF('Monthly Values'!AU39<>0,'Monthly Values'!AU39,\"\")","v":""},{"$f":"IF('Monthly Values'!AV39<>0,'Monthly Values'!AV39,\"\")","v":""},{"$f":"IF('Monthly Values'!AW39<>0,'Monthly Values'!AW39,\"\")","v":""},{"$f":"IF('Monthly Values'!AX39<>0,'Monthly Values'!AX39,\"\")","v":""},{"$f":"IF('Monthly Values'!AY39<>0,'Monthly Values'!AY39,\"\")","v":""},{"$f":"IF('Monthly Values'!AZ39<>0,'Monthly Values'!AZ39,\"\")","v":""},{"$f":"IF('Monthly Values'!BA39<>0,'Monthly Values'!BA39,\"\")","v":""},{"$f":"IF('Monthly Values'!BB39<>0,'Monthly Values'!BB39,\"\")","v":""},{"$f":"IF('Monthly Values'!BC39<>0,'Monthly Values'!BC39,\"\")","v":""},{"$f":"IF('Monthly Values'!BD39<>0,'Monthly Values'!BD39,\"\")","v":""},{"$f":"IF('Monthly Values'!BE39<>0,'Monthly Values'!BE39,\"\")","v":""},{"$f":"IF('Monthly Values'!BF39<>0,'Monthly Values'!BF39,\"\")","v":""},{"$f":"IF('Monthly Values'!BG39<>0,'Monthly Values'!BG39,\"\")","v":""},{"$f":"IF('Monthly Values'!BH39<>0,'Monthly Values'!BH39,\"\")","v":""},{"$f":"IF('Monthly Values'!BI39<>0,'Monthly Values'!BI39,\"\")","v":""},{"$f":"IF('Monthly Values'!BJ39<>0,'Monthly Values'!BJ39,\"\")","v":""},{"$f":"IF('Monthly Values'!BK39<>0,'Monthly Values'!BK39,\"\")","v":""},{"$f":"IF('Monthly Values'!BL39<>0,'Monthly Values'!BL39,\"\")","v":""},{"$f":"IF('Monthly Values'!BM39<>0,'Monthly Values'!BM39,\"\")","v":""},{"$f":"IF('Monthly Values'!BN39<>0,'Monthly Values'!BN39,\"\")","v":""},{"$f":"IF('Monthly Values'!BO39<>0,'Monthly Values'!BO39,\"\")","v":""},{"$f":"IF('Monthly Values'!BP39<>0,'Monthly Values'!BP39,\"\")","v":""},{"$f":"IF('Monthly Values'!BQ39<>0,'Monthly Values'!BQ39,\"\")","v":""},{"$f":"IF('Monthly Values'!BR39<>0,'Monthly Values'!BR39,\"\")","v":""},{"$f":"IF('Monthly Values'!BS39<>0,'Monthly Values'!BS39,\"\")","v":""},{"$f":"IF('Monthly Values'!BT39<>0,'Monthly Values'!BT39,\"\")","v":""},{"$f":"IF('Monthly Values'!BU39<>0,'Monthly Values'!BU39,\"\")","v":""},{"$f":"IF('Monthly Values'!BV39<>0,'Monthly Values'!BV39,\"\")","v":""},{"$f":"IF('Monthly Values'!BW39<>0,'Monthly Values'!BW39,\"\")","v":""},{"$f":"IF('Monthly Values'!BX39<>0,'Monthly Values'!BX39,\"\")","v":""},{"$f":"IF('Monthly Values'!BY39<>0,'Monthly Values'!BY39,\"\")","v":""},{"$f":"IF('Monthly Values'!BZ39<>0,'Monthly Values'!BZ39,\"\")","v":""},{"$f":"IF('Monthly Values'!CA39<>0,'Monthly Values'!CA39,\"\")","v":""},{"$f":"IF('Monthly Values'!CB39<>0,'Monthly Values'!CB39,\"\")","v":""},{"$f":"IF('Monthly Values'!CC39<>0,'Monthly Values'!CC39,\"\")","v":""},{"$f":"IF('Monthly Values'!CD39<>0,'Monthly Values'!CD39,\"\")","v":""},{"$f":"IF('Monthly Values'!CE39<>0,'Monthly Values'!CE39,\"\")","v":""},{"$f":"IF('Monthly Values'!CF39<>0,'Monthly Values'!CF39,\"\")","v":""},{"$f":"IF('Monthly Values'!CG39<>0,'Monthly Values'!CG39,\"\")","v":""},{"$f":"IF('Monthly Values'!CH39<>0,'Monthly Values'!CH39,\"\")","v":""},{"$f":"IF('Monthly Values'!CI39<>0,'Monthly Values'!CI39,\"\")","v":""},{"$f":"IF('Monthly Values'!CJ39<>0,'Monthly Values'!CJ39,\"\")","v":""},{"$f":"IF('Monthly Values'!CK39<>0,'Monthly Values'!CK39,\"\")","v":""},{"$f":"IF('Monthly Values'!CL39<>0,'Monthly Values'!CL39,\"\")","v":""},{"$f":"IF('Monthly Values'!CM39<>0,'Monthly Values'!CM39,\"\")","v":""},{"$f":"IF('Monthly Values'!CN39<>0,'Monthly Values'!CN39,\"\")","v":""},{"$f":"IF('Monthly Values'!CO39<>0,'Monthly Values'!CO39,\"\")","v":""},{"$f":"IF('Monthly Values'!CP39<>0,'Monthly Values'!CP39,\"\")","v":""},{"$f":"IF('Monthly Values'!CQ39<>0,'Monthly Values'!CQ39,\"\")","v":""},{"$f":"IF('Monthly Values'!CR39<>0,'Monthly Values'!CR39,\"\")","v":""},{"$f":"IF('Monthly Values'!CS39<>0,'Monthly Values'!CS39,\"\")","v":""},{"$f":"IF('Monthly Values'!CT39<>0,'Monthly Values'!CT39,\"\")","v":""},{"$f":"IF('Monthly Values'!CU39<>0,'Monthly Values'!CU39,\"\")","v":""},{"$f":"IF('Monthly Values'!CV39<>0,'Monthly Values'!CV39,\"\")","v":""},{"$f":"IF('Monthly Values'!CW39<>0,'Monthly Values'!CW39,\"\")","v":""},{"$f":"IF('Monthly Values'!CX39<>0,'Monthly Values'!CX39,\"\")","v":""},{"$f":"IF('Monthly Values'!CY39<>0,'Monthly Values'!CY39,\"\")","v":""},{"$f":"IF('Monthly Values'!CZ39<>0,'Monthly Values'!CZ39,\"\")","v":""},{"$f":"IF('Monthly Values'!DA39<>0,'Monthly Values'!DA39,\"\")","v":""},{"$f":"IF('Monthly Values'!DB39<>0,'Monthly Values'!DB39,\"\")","v":""},{"$f":"IF('Monthly Values'!DC39<>0,'Monthly Values'!DC39,\"\")","v":""},{"$f":"IF('Monthly Values'!DD39<>0,'Monthly Values'!DD39,\"\")","v":""},{"$f":"IF('Monthly Values'!DE39<>0,'Monthly Values'!DE39,\"\")","v":""},{"$f":"IF('Monthly Values'!DF39<>0,'Monthly Values'!DF39,\"\")","v":""},{"$f":"IF('Monthly Values'!DG39<>0,'Monthly Values'!DG39,\"\")","v":""},{"$f":"IF('Monthly Values'!DH39<>0,'Monthly Values'!DH39,\"\")","v":""},{"$f":"IF('Monthly Values'!DI39<>0,'Monthly Values'!DI39,\"\")","v":""},{"$f":"IF('Monthly Values'!DJ39<>0,'Monthly Values'!DJ39,\"\")","v":""},{"$f":"IF('Monthly Values'!DK39<>0,'Monthly Values'!DK39,\"\")","v":""},{"$f":"IF('Monthly Values'!DL39<>0,'Monthly Values'!DL39,\"\")","v":""},{"$f":"IF('Monthly Values'!DM39<>0,'Monthly Values'!DM39,\"\")","v":""},{"$f":"IF('Monthly Values'!DN39<>0,'Monthly Values'!DN39,\"\")","v":""},{"$f":"IF('Monthly Values'!DO39<>0,'Monthly Values'!DO39,\"\")","v":""},{"$f":"IF('Monthly Values'!DP39<>0,'Monthly Values'!DP39,\"\")","v":""},{"$f":"IF('Monthly Values'!DQ39<>0,'Monthly Values'!DQ39,\"\")","v":""},{"$f":"IF('Monthly Values'!DR39<>0,'Monthly Values'!DR39,\"\")","v":""},{"$f":"IF('Monthly Values'!DS39<>0,'Monthly Values'!DS39,\"\")","v":""},""]
[null,null,null,null,null,null,null,"Holdings",null,null,null,null,null,8,{"$f":"IF('Account Setup'!B15<>\"Select From Dropdown\",'Account Setup'!B15,\"\")","v":""},{"$f":"IF('Account Setup'!C15<>0,'Account Setup'!C15,\"\")","v":""},"",null,null,2,{"$f":"IF('Monthly Values'!D40<>0,'Monthly Values'!D40,\"\")","v":""},{"$f":"IF('Monthly Values'!E40<>0,'Monthly Values'!E40,\"\")","v":""},{"$f":"IF('Monthly Values'!F40<>0,'Monthly Values'!F40,\"\")","v":""},{"$f":"IF('Monthly Values'!G40<>0,'Monthly Values'!G40,\"\")","v":""},{"$f":"IF('Monthly Values'!H40<>0,'Monthly Values'!H40,\"\")","v":""},{"$f":"IF('Monthly Values'!I40<>0,'Monthly Values'!I40,\"\")","v":""},{"$f":"IF('Monthly Values'!J40<>0,'Monthly Values'!J40,\"\")","v":""},{"$f":"IF('Monthly Values'!K40<>0,'Monthly Values'!K40,\"\")","v":""},{"$f":"IF('Monthly Values'!L40<>0,'Monthly Values'!L40,\"\")","v":""},{"$f":"IF('Monthly Values'!M40<>0,'Monthly Values'!M40,\"\")","v":""},{"$f":"IF('Monthly Values'!N40<>0,'Monthly Values'!N40,\"\")","v":""},{"$f":"IF('Monthly Values'!O40<>0,'Monthly Values'!O40,\"\")","v":""},{"$f":"IF('Monthly Values'!P40<>0,'Monthly Values'!P40,\"\")","v":""},{"$f":"IF('Monthly Values'!Q40<>0,'Monthly Values'!Q40,\"\")","v":""},{"$f":"IF('Monthly Values'!R40<>0,'Monthly Values'!R40,\"\")","v":""},{"$f":"IF('Monthly Values'!S40<>0,'Monthly Values'!S40,\"\")","v":""},{"$f":"IF('Monthly Values'!T40<>0,'Monthly Values'!T40,\"\")","v":""},{"$f":"IF('Monthly Values'!U40<>0,'Monthly Values'!U40,\"\")","v":""},{"$f":"IF('Monthly Values'!V40<>0,'Monthly Values'!V40,\"\")","v":""},{"$f":"IF('Monthly Values'!W40<>0,'Monthly Values'!W40,\"\")","v":""},{"$f":"IF('Monthly Values'!X40<>0,'Monthly Values'!X40,\"\")","v":""},{"$f":"IF('Monthly Values'!Y40<>0,'Monthly Values'!Y40,\"\")","v":""},{"$f":"IF('Monthly Values'!Z40<>0,'Monthly Values'!Z40,\"\")","v":""},{"$f":"IF('Monthly Values'!AA40<>0,'Monthly Values'!AA40,\"\")","v":""},{"$f":"IF('Monthly Values'!AB40<>0,'Monthly Values'!AB40,\"\")","v":""},{"$f":"IF('Monthly Values'!AC40<>0,'Monthly Values'!AC40,\"\")","v":""},{"$f":"IF('Monthly Values'!AD40<>0,'Monthly Values'!AD40,\"\")","v":""},{"$f":"IF('Monthly Values'!AE40<>0,'Monthly Values'!AE40,\"\")","v":""},{"$f":"IF('Monthly Values'!AF40<>0,'Monthly Values'!AF40,\"\")","v":""},{"$f":"IF('Monthly Values'!AG40<>0,'Monthly Values'!AG40,\"\")","v":""},{"$f":"IF('Monthly Values'!AH40<>0,'Monthly Values'!AH40,\"\")","v":""},{"$f":"IF('Monthly Values'!AI40<>0,'Monthly Values'!AI40,\"\")","v":""},{"$f":"IF('Monthly Values'!AJ40<>0,'Monthly Values'!AJ40,\"\")","v":""},{"$f":"IF('Monthly Values'!AK40<>0,'Monthly Values'!AK40,\"\")","v":""},{"$f":"IF('Monthly Values'!AL40<>0,'Monthly Values'!AL40,\"\")","v":""},{"$f":"IF('Monthly Values'!AM40<>0,'Monthly Values'!AM40,\"\")","v":""},{"$f":"IF('Monthly Values'!AN40<>0,'Monthly Values'!AN40,\"\")","v":""},{"$f":"IF('Monthly Values'!AO40<>0,'Monthly Values'!AO40,\"\")","v":""},{"$f":"IF('Monthly Values'!AP40<>0,'Monthly Values'!AP40,\"\")","v":""},{"$f":"IF('Monthly Values'!AQ40<>0,'Monthly Values'!AQ40,\"\")","v":""},{"$f":"IF('Monthly Values'!AR40<>0,'Monthly Values'!AR40,\"\")","v":""},{"$f":"IF('Monthly Values'!AS40<>0,'Monthly Values'!AS40,\"\")","v":""},{"$f":"IF('Monthly Values'!AT40<>0,'Monthly Values'!AT40,\"\")","v":""},{"$f":"IF('Monthly Values'!AU40<>0,'Monthly Values'!AU40,\"\")","v":""},{"$f":"IF('Monthly Values'!AV40<>0,'Monthly Values'!AV40,\"\")","v":""},{"$f":"IF('Monthly Values'!AW40<>0,'Monthly Values'!AW40,\"\")","v":""},{"$f":"IF('Monthly Values'!AX40<>0,'Monthly Values'!AX40,\"\")","v":""},{"$f":"IF('Monthly Values'!AY40<>0,'Monthly Values'!AY40,\"\")","v":""},{"$f":"IF('Monthly Values'!AZ40<>0,'Monthly Values'!AZ40,\"\")","v":""},{"$f":"IF('Monthly Values'!BA40<>0,'Monthly Values'!BA40,\"\")","v":""},{"$f":"IF('Monthly Values'!BB40<>0,'Monthly Values'!BB40,\"\")","v":""},{"$f":"IF('Monthly Values'!BC40<>0,'Monthly Values'!BC40,\"\")","v":""},{"$f":"IF('Monthly Values'!BD40<>0,'Monthly Values'!BD40,\"\")","v":""},{"$f":"IF('Monthly Values'!BE40<>0,'Monthly Values'!BE40,\"\")","v":""},{"$f":"IF('Monthly Values'!BF40<>0,'Monthly Values'!BF40,\"\")","v":""},{"$f":"IF('Monthly Values'!BG40<>0,'Monthly Values'!BG40,\"\")","v":""},{"$f":"IF('Monthly Values'!BH40<>0,'Monthly Values'!BH40,\"\")","v":""},{"$f":"IF('Monthly Values'!BI40<>0,'Monthly Values'!BI40,\"\")","v":""},{"$f":"IF('Monthly Values'!BJ40<>0,'Monthly Values'!BJ40,\"\")","v":""},{"$f":"IF('Monthly Values'!BK40<>0,'Monthly Values'!BK40,\"\")","v":""},{"$f":"IF('Monthly Values'!BL40<>0,'Monthly Values'!BL40,\"\")","v":""},{"$f":"IF('Monthly Values'!BM40<>0,'Monthly Values'!BM40,\"\")","v":""},{"$f":"IF('Monthly Values'!BN40<>0,'Monthly Values'!BN40,\"\")","v":""},{"$f":"IF('Monthly Values'!BO40<>0,'Monthly Values'!BO40,\"\")","v":""},{"$f":"IF('Monthly Values'!BP40<>0,'Monthly Values'!BP40,\"\")","v":""},{"$f":"IF('Monthly Values'!BQ40<>0,'Monthly Values'!BQ40,\"\")","v":""},{"$f":"IF('Monthly Values'!BR40<>0,'Monthly Values'!BR40,\"\")","v":""},{"$f":"IF('Monthly Values'!BS40<>0,'Monthly Values'!BS40,\"\")","v":""},{"$f":"IF('Monthly Values'!BT40<>0,'Monthly Values'!BT40,\"\")","v":""},{"$f":"IF('Monthly Values'!BU40<>0,'Monthly Values'!BU40,\"\")","v":""},{"$f":"IF('Monthly Values'!BV40<>0,'Monthly Values'!BV40,\"\")","v":""},{"$f":"IF('Monthly Values'!BW40<>0,'Monthly Values'!BW40,\"\")","v":""},{"$f":"IF('Monthly Values'!BX40<>0,'Monthly Values'!BX40,\"\")","v":""},{"$f":"IF('Monthly Values'!BY40<>0,'Monthly Values'!BY40,\"\")","v":""},{"$f":"IF('Monthly Values'!BZ40<>0,'Monthly Values'!BZ40,\"\")","v":""},{"$f":"IF('Monthly Values'!CA40<>0,'Monthly Values'!CA40,\"\")","v":""},{"$f":"IF('Monthly Values'!CB40<>0,'Monthly Values'!CB40,\"\")","v":""},{"$f":"IF('Monthly Values'!CC40<>0,'Monthly Values'!CC40,\"\")","v":""},{"$f":"IF('Monthly Values'!CD40<>0,'Monthly Values'!CD40,\"\")","v":""},{"$f":"IF('Monthly Values'!CE40<>0,'Monthly Values'!CE40,\"\")","v":""},{"$f":"IF('Monthly Values'!CF40<>0,'Monthly Values'!CF40,\"\")","v":""},{"$f":"IF('Monthly Values'!CG40<>0,'Monthly Values'!CG40,\"\")","v":""},{"$f":"IF('Monthly Values'!CH40<>0,'Monthly Values'!CH40,\"\")","v":""},{"$f":"IF('Monthly Values'!CI40<>0,'Monthly Values'!CI40,\"\")","v":""},{"$f":"IF('Monthly Values'!CJ40<>0,'Monthly Values'!CJ40,\"\")","v":""},{"$f":"IF('Monthly Values'!CK40<>0,'Monthly Values'!CK40,\"\")","v":""},{"$f":"IF('Monthly Values'!CL40<>0,'Monthly Values'!CL40,\"\")","v":""},{"$f":"IF('Monthly Values'!CM40<>0,'Monthly Values'!CM40,\"\")","v":""},{"$f":"IF('Monthly Values'!CN40<>0,'Monthly Values'!CN40,\"\")","v":""},{"$f":"IF('Monthly Values'!CO40<>0,'Monthly Values'!CO40,\"\")","v":""},{"$f":"IF('Monthly Values'!CP40<>0,'Monthly Values'!CP40,\"\")","v":""},{"$f":"IF('Monthly Values'!CQ40<>0,'Monthly Values'!CQ40,\"\")","v":""},{"$f":"IF('Monthly Values'!CR40<>0,'Monthly Values'!CR40,\"\")","v":""},{"$f":"IF('Monthly Values'!CS40<>0,'Monthly Values'!CS40,\"\")","v":""},{"$f":"IF('Monthly Values'!CT40<>0,'Monthly Values'!CT40,\"\")","v":""},{"$f":"IF('Monthly Values'!CU40<>0,'Monthly Values'!CU40,\"\")","v":""},{"$f":"IF('Monthly Values'!CV40<>0,'Monthly Values'!CV40,\"\")","v":""},{"$f":"IF('Monthly Values'!CW40<>0,'Monthly Values'!CW40,\"\")","v":""},{"$f":"IF('Monthly Values'!CX40<>0,'Monthly Values'!CX40,\"\")","v":""},{"$f":"IF('Monthly Values'!CY40<>0,'Monthly Values'!CY40,\"\")","v":""},{"$f":"IF('Monthly Values'!CZ40<>0,'Monthly Values'!CZ40,\"\")","v":""},{"$f":"IF('Monthly Values'!DA40<>0,'Monthly Values'!DA40,\"\")","v":""},{"$f":"IF('Monthly Values'!DB40<>0,'Monthly Values'!DB40,\"\")","v":""},{"$f":"IF('Monthly Values'!DC40<>0,'Monthly Values'!DC40,\"\")","v":""},{"$f":"IF('Monthly Values'!DD40<>0,'Monthly Values'!DD40,\"\")","v":""},{"$f":"IF('Monthly Values'!DE40<>0,'Monthly Values'!DE40,\"\")","v":""},{"$f":"IF('Monthly Values'!DF40<>0,'Monthly Values'!DF40,\"\")","v":""},{"$f":"IF('Monthly Values'!DG40<>0,'Monthly Values'!DG40,\"\")","v":""},{"$f":"IF('Monthly Values'!DH40<>0,'Monthly Values'!DH40,\"\")","v":""},{"$f":"IF('Monthly Values'!DI40<>0,'Monthly Values'!DI40,\"\")","v":""},{"$f":"IF('Monthly Values'!DJ40<>0,'Monthly Values'!DJ40,\"\")","v":""},{"$f":"IF('Monthly Values'!DK40<>0,'Monthly Values'!DK40,\"\")","v":""},{"$f":"IF('Monthly Values'!DL40<>0,'Monthly Values'!DL40,\"\")","v":""},{"$f":"IF('Monthly Values'!DM40<>0,'Monthly Values'!DM40,\"\")","v":""},{"$f":"IF('Monthly Values'!DN40<>0,'Monthly Values'!DN40,\"\")","v":""},{"$f":"IF('Monthly Values'!DO40<>0,'Monthly Values'!DO40,\"\")","v":""},{"$f":"IF('Monthly Values'!DP40<>0,'Monthly Values'!DP40,\"\")","v":""},{"$f":"IF('Monthly Values'!DQ40<>0,'Monthly Values'!DQ40,\"\")","v":""},{"$f":"IF('Monthly Values'!DR40<>0,'Monthly Values'!DR40,\"\")","v":""},{"$f":"IF('Monthly Values'!DS40<>0,'Monthly Values'!DS40,\"\")","v":""},""]
[null,null,null,null,null,null,null,"Other",null,null,null,null,null,"Investments",null,null,null,null,null,3,{"$f":"IF('Monthly Values'!D41<>0,'Monthly Values'!D41,\"\")","v":""},{"$f":"IF('Monthly Values'!E41<>0,'Monthly Values'!E41,\"\")","v":""},{"$f":"IF('Monthly Values'!F41<>0,'Monthly Values'!F41,\"\")","v":""},{"$f":"IF('Monthly Values'!G41<>0,'Monthly Values'!G41,\"\")","v":""},{"$f":"IF('Monthly Values'!H41<>0,'Monthly Values'!H41,\"\")","v":""},{"$f":"IF('Monthly Values'!I41<>0,'Monthly Values'!I41,\"\")","v":""},{"$f":"IF('Monthly Values'!J41<>0,'Monthly Values'!J41,\"\")","v":""},{"$f":"IF('Monthly Values'!K41<>0,'Monthly Values'!K41,\"\")","v":""},{"$f":"IF('Monthly Values'!L41<>0,'Monthly Values'!L41,\"\")","v":""},{"$f":"IF('Monthly Values'!M41<>0,'Monthly Values'!M41,\"\")","v":""},{"$f":"IF('Monthly Values'!N41<>0,'Monthly Values'!N41,\"\")","v":""},{"$f":"IF('Monthly Values'!O41<>0,'Monthly Values'!O41,\"\")","v":""},{"$f":"IF('Monthly Values'!P41<>0,'Monthly Values'!P41,\"\")","v":""},{"$f":"IF('Monthly Values'!Q41<>0,'Monthly Values'!Q41,\"\")","v":""},{"$f":"IF('Monthly Values'!R41<>0,'Monthly Values'!R41,\"\")","v":""},{"$f":"IF('Monthly Values'!S41<>0,'Monthly Values'!S41,\"\")","v":""},{"$f":"IF('Monthly Values'!T41<>0,'Monthly Values'!T41,\"\")","v":""},{"$f":"IF('Monthly Values'!U41<>0,'Monthly Values'!U41,\"\")","v":""},{"$f":"IF('Monthly Values'!V41<>0,'Monthly Values'!V41,\"\")","v":""},{"$f":"IF('Monthly Values'!W41<>0,'Monthly Values'!W41,\"\")","v":""},{"$f":"IF('Monthly Values'!X41<>0,'Monthly Values'!X41,\"\")","v":""},{"$f":"IF('Monthly Values'!Y41<>0,'Monthly Values'!Y41,\"\")","v":""},{"$f":"IF('Monthly Values'!Z41<>0,'Monthly Values'!Z41,\"\")","v":""},{"$f":"IF('Monthly Values'!AA41<>0,'Monthly Values'!AA41,\"\")","v":""},{"$f":"IF('Monthly Values'!AB41<>0,'Monthly Values'!AB41,\"\")","v":""},{"$f":"IF('Monthly Values'!AC41<>0,'Monthly Values'!AC41,\"\")","v":""},{"$f":"IF('Monthly Values'!AD41<>0,'Monthly Values'!AD41,\"\")","v":""},{"$f":"IF('Monthly Values'!AE41<>0,'Monthly Values'!AE41,\"\")","v":""},{"$f":"IF('Monthly Values'!AF41<>0,'Monthly Values'!AF41,\"\")","v":""},{"$f":"IF('Monthly Values'!AG41<>0,'Monthly Values'!AG41,\"\")","v":""},{"$f":"IF('Monthly Values'!AH41<>0,'Monthly Values'!AH41,\"\")","v":""},{"$f":"IF('Monthly Values'!AI41<>0,'Monthly Values'!AI41,\"\")","v":""},{"$f":"IF('Monthly Values'!AJ41<>0,'Monthly Values'!AJ41,\"\")","v":""},{"$f":"IF('Monthly Values'!AK41<>0,'Monthly Values'!AK41,\"\")","v":""},{"$f":"IF('Monthly Values'!AL41<>0,'Monthly Values'!AL41,\"\")","v":""},{"$f":"IF('Monthly Values'!AM41<>0,'Monthly Values'!AM41,\"\")","v":""},{"$f":"IF('Monthly Values'!AN41<>0,'Monthly Values'!AN41,\"\")","v":""},{"$f":"IF('Monthly Values'!AO41<>0,'Monthly Values'!AO41,\"\")","v":""},{"$f":"IF('Monthly Values'!AP41<>0,'Monthly Values'!AP41,\"\")","v":""},{"$f":"IF('Monthly Values'!AQ41<>0,'Monthly Values'!AQ41,\"\")","v":""},{"$f":"IF('Monthly Values'!AR41<>0,'Monthly Values'!AR41,\"\")","v":""},{"$f":"IF('Monthly Values'!AS41<>0,'Monthly Values'!AS41,\"\")","v":""},{"$f":"IF('Monthly Values'!AT41<>0,'Monthly Values'!AT41,\"\")","v":""},{"$f":"IF('Monthly Values'!AU41<>0,'Monthly Values'!AU41,\"\")","v":""},{"$f":"IF('Monthly Values'!AV41<>0,'Monthly Values'!AV41,\"\")","v":""},{"$f":"IF('Monthly Values'!AW41<>0,'Monthly Values'!AW41,\"\")","v":""},{"$f":"IF('Monthly Values'!AX41<>0,'Monthly Values'!AX41,\"\")","v":""},{"$f":"IF('Monthly Values'!AY41<>0,'Monthly Values'!AY41,\"\")","v":""},{"$f":"IF('Monthly Values'!AZ41<>0,'Monthly Values'!AZ41,\"\")","v":""},{"$f":"IF('Monthly Values'!BA41<>0,'Monthly Values'!BA41,\"\")","v":""},{"$f":"IF('Monthly Values'!BB41<>0,'Monthly Values'!BB41,\"\")","v":""},{"$f":"IF('Monthly Values'!BC41<>0,'Monthly Values'!BC41,\"\")","v":""},{"$f":"IF('Monthly Values'!BD41<>0,'Monthly Values'!BD41,\"\")","v":""},{"$f":"IF('Monthly Values'!BE41<>0,'Monthly Values'!BE41,\"\")","v":""},{"$f":"IF('Monthly Values'!BF41<>0,'Monthly Values'!BF41,\"\")","v":""},{"$f":"IF('Monthly Values'!BG41<>0,'Monthly Values'!BG41,\"\")","v":""},{"$f":"IF('Monthly Values'!BH41<>0,'Monthly Values'!BH41,\"\")","v":""},{"$f":"IF('Monthly Values'!BI41<>0,'Monthly Values'!BI41,\"\")","v":""},{"$f":"IF('Monthly Values'!BJ41<>0,'Monthly Values'!BJ41,\"\")","v":""},{"$f":"IF('Monthly Values'!BK41<>0,'Monthly Values'!BK41,\"\")","v":""},{"$f":"IF('Monthly Values'!BL41<>0,'Monthly Values'!BL41,\"\")","v":""},{"$f":"IF('Monthly Values'!BM41<>0,'Monthly Values'!BM41,\"\")","v":""},{"$f":"IF('Monthly Values'!BN41<>0,'Monthly Values'!BN41,\"\")","v":""},{"$f":"IF('Monthly Values'!BO41<>0,'Monthly Values'!BO41,\"\")","v":""},{"$f":"IF('Monthly Values'!BP41<>0,'Monthly Values'!BP41,\"\")","v":""},{"$f":"IF('Monthly Values'!BQ41<>0,'Monthly Values'!BQ41,\"\")","v":""},{"$f":"IF('Monthly Values'!BR41<>0,'Monthly Values'!BR41,\"\")","v":""},{"$f":"IF('Monthly Values'!BS41<>0,'Monthly Values'!BS41,\"\")","v":""},{"$f":"IF('Monthly Values'!BT41<>0,'Monthly Values'!BT41,\"\")","v":""},{"$f":"IF('Monthly Values'!BU41<>0,'Monthly Values'!BU41,\"\")","v":""},{"$f":"IF('Monthly Values'!BV41<>0,'Monthly Values'!BV41,\"\")","v":""},{"$f":"IF('Monthly Values'!BW41<>0,'Monthly Values'!BW41,\"\")","v":""},{"$f":"IF('Monthly Values'!BX41<>0,'Monthly Values'!BX41,\"\")","v":""},{"$f":"IF('Monthly Values'!BY41<>0,'Monthly Values'!BY41,\"\")","v":""},{"$f":"IF('Monthly Values'!BZ41<>0,'Monthly Values'!BZ41,\"\")","v":""},{"$f":"IF('Monthly Values'!CA41<>0,'Monthly Values'!CA41,\"\")","v":""},{"$f":"IF('Monthly Values'!CB41<>0,'Monthly Values'!CB41,\"\")","v":""},{"$f":"IF('Monthly Values'!CC41<>0,'Monthly Values'!CC41,\"\")","v":""},{"$f":"IF('Monthly Values'!CD41<>0,'Monthly Values'!CD41,\"\")","v":""},{"$f":"IF('Monthly Values'!CE41<>0,'Monthly Values'!CE41,\"\")","v":""},{"$f":"IF('Monthly Values'!CF41<>0,'Monthly Values'!CF41,\"\")","v":""},{"$f":"IF('Monthly Values'!CG41<>0,'Monthly Values'!CG41,\"\")","v":""},{"$f":"IF('Monthly Values'!CH41<>0,'Monthly Values'!CH41,\"\")","v":""},{"$f":"IF('Monthly Values'!CI41<>0,'Monthly Values'!CI41,\"\")","v":""},{"$f":"IF('Monthly Values'!CJ41<>0,'Monthly Values'!CJ41,\"\")","v":""},{"$f":"IF('Monthly Values'!CK41<>0,'Monthly Values'!CK41,\"\")","v":""},{"$f":"IF('Monthly Values'!CL41<>0,'Monthly Values'!CL41,\"\")","v":""},{"$f":"IF('Monthly Values'!CM41<>0,'Monthly Values'!CM41,\"\")","v":""},{"$f":"IF('Monthly Values'!CN41<>0,'Monthly Values'!CN41,\"\")","v":""},{"$f":"IF('Monthly Values'!CO41<>0,'Monthly Values'!CO41,\"\")","v":""},{"$f":"IF('Monthly Values'!CP41<>0,'Monthly Values'!CP41,\"\")","v":""},{"$f":"IF('Monthly Values'!CQ41<>0,'Monthly Values'!CQ41,\"\")","v":""},{"$f":"IF('Monthly Values'!CR41<>0,'Monthly Values'!CR41,\"\")","v":""},{"$f":"IF('Monthly Values'!CS41<>0,'Monthly Values'!CS41,\"\")","v":""},{"$f":"IF('Monthly Values'!CT41<>0,'Monthly Values'!CT41,\"\")","v":""},{"$f":"IF('Monthly Values'!CU41<>0,'Monthly Values'!CU41,\"\")","v":""},{"$f":"IF('Monthly Values'!CV41<>0,'Monthly Values'!CV41,\"\")","v":""},{"$f":"IF('Monthly Values'!CW41<>0,'Monthly Values'!CW41,\"\")","v":""},{"$f":"IF('Monthly Values'!CX41<>0,'Monthly Values'!CX41,\"\")","v":""},{"$f":"IF('Monthly Values'!CY41<>0,'Monthly Values'!CY41,\"\")","v":""},{"$f":"IF('Monthly Values'!CZ41<>0,'Monthly Values'!CZ41,\"\")","v":""},{"$f":"IF('Monthly Values'!DA41<>0,'Monthly Values'!DA41,\"\")","v":""},{"$f":"IF('Monthly Values'!DB41<>0,'Monthly Values'!DB41,\"\")","v":""},{"$f":"IF('Monthly Values'!DC41<>0,'Monthly Values'!DC41,\"\")","v":""},{"$f":"IF('Monthly Values'!DD41<>0,'Monthly Values'!DD41,\"\")","v":""},{"$f":"IF('Monthly Values'!DE41<>0,'Monthly Values'!DE41,\"\")","v":""},{"$f":"IF('Monthly Values'!DF41<>0,'Monthly Values'!DF41,\"\")","v":""},{"$f":"IF('Monthly Values'!DG41<>0,'Monthly Values'!DG41,\"\")","v":""},{"$f":"IF('Monthly Values'!DH41<>0,'Monthly Values'!DH41,\"\")","v":""},{"$f":"IF('Monthly Values'!DI41<>0,'Monthly Values'!DI41,\"\")","v":""},{"$f":"IF('Monthly Values'!DJ41<>0,'Monthly Values'!DJ41,\"\")","v":""},{"$f":"IF('Monthly Values'!DK41<>0,'Monthly Values'!DK41,\"\")","v":""},{"$f":"IF('Monthly Values'!DL41<>0,'Monthly Values'!DL41,\"\")","v":""},{"$f":"IF('Monthly Values'!DM41<>0,'Monthly Values'!DM41,\"\")","v":""},{"$f":"IF('Monthly Values'!DN41<>0,'Monthly Values'!DN41,\"\")","v":""},{"$f":"IF('Monthly Values'!DO41<>0,'Monthly Values'!DO41,\"\")","v":""},{"$f":"IF('Monthly Values'!DP41<>0,'Monthly Values'!DP41,\"\")","v":""},{"$f":"IF('Monthly Values'!DQ41<>0,'Monthly Values'!DQ41,\"\")","v":""},{"$f":"IF('Monthly Values'!DR41<>0,'Monthly Values'!DR41,\"\")","v":""},{"$f":"IF('Monthly Values'!DS41<>0,'Monthly Values'!DS41,\"\")","v":""},""]
[null,null,null,null,null,null,null,null,null,null,null,null,null,1,{"$f":"IF('Account Setup'!B19<>\"Select From Dropdown\",'Account Setup'!B19,\"\")","v":""},{"$f":"IF('Account Setup'!C19<>0,'Account Setup'!C19,\"\")","v":""},{"$f":"IF(AND(O27<>\"\",P27<>\"\"),O27&\" - \"&P27,\"\")","v":""},null,null,4,{"$f":"IF('Monthly Values'!D42<>0,'Monthly Values'!D42,\"\")","v":""},{"$f":"IF('Monthly Values'!E42<>0,'Monthly Values'!E42,\"\")","v":""},{"$f":"IF('Monthly Values'!F42<>0,'Monthly Values'!F42,\"\")","v":""},{"$f":"IF('Monthly Values'!G42<>0,'Monthly Values'!G42,\"\")","v":""},{"$f":"IF('Monthly Values'!H42<>0,'Monthly Values'!H42,\"\")","v":""},{"$f":"IF('Monthly Values'!I42<>0,'Monthly Values'!I42,\"\")","v":""},{"$f":"IF('Monthly Values'!J42<>0,'Monthly Values'!J42,\"\")","v":""},{"$f":"IF('Monthly Values'!K42<>0,'Monthly Values'!K42,\"\")","v":""},{"$f":"IF('Monthly Values'!L42<>0,'Monthly Values'!L42,\"\")","v":""},{"$f":"IF('Monthly Values'!M42<>0,'Monthly Values'!M42,\"\")","v":""},{"$f":"IF('Monthly Values'!N42<>0,'Monthly Values'!N42,\"\")","v":""},{"$f":"IF('Monthly Values'!O42<>0,'Monthly Values'!O42,\"\")","v":""},{"$f":"IF('Monthly Values'!P42<>0,'Monthly Values'!P42,\"\")","v":""},{"$f":"IF('Monthly Values'!Q42<>0,'Monthly Values'!Q42,\"\")","v":""},{"$f":"IF('Monthly Values'!R42<>0,'Monthly Values'!R42,\"\")","v":""},{"$f":"IF('Monthly Values'!S42<>0,'Monthly Values'!S42,\"\")","v":""},{"$f":"IF('Monthly Values'!T42<>0,'Monthly Values'!T42,\"\")","v":""},{"$f":"IF('Monthly Values'!U42<>0,'Monthly Values'!U42,\"\")","v":""},{"$f":"IF('Monthly Values'!V42<>0,'Monthly Values'!V42,\"\")","v":""},{"$f":"IF('Monthly Values'!W42<>0,'Monthly Values'!W42,\"\")","v":""},{"$f":"IF('Monthly Values'!X42<>0,'Monthly Values'!X42,\"\")","v":""},{"$f":"IF('Monthly Values'!Y42<>0,'Monthly Values'!Y42,\"\")","v":""},{"$f":"IF('Monthly Values'!Z42<>0,'Monthly Values'!Z42,\"\")","v":""},{"$f":"IF('Monthly Values'!AA42<>0,'Monthly Values'!AA42,\"\")","v":""},{"$f":"IF('Monthly Values'!AB42<>0,'Monthly Values'!AB42,\"\")","v":""},{"$f":"IF('Monthly Values'!AC42<>0,'Monthly Values'!AC42,\"\")","v":""},{"$f":"IF('Monthly Values'!AD42<>0,'Monthly Values'!AD42,\"\")","v":""},{"$f":"IF('Monthly Values'!AE42<>0,'Monthly Values'!AE42,\"\")","v":""},{"$f":"IF('Monthly Values'!AF42<>0,'Monthly Values'!AF42,\"\")","v":""},{"$f":"IF('Monthly Values'!AG42<>0,'Monthly Values'!AG42,\"\")","v":""},{"$f":"IF('Monthly Values'!AH42<>0,'Monthly Values'!AH42,\"\")","v":""},{"$f":"IF('Monthly Values'!AI42<>0,'Monthly Values'!AI42,\"\")","v":""},{"$f":"IF('Monthly Values'!AJ42<>0,'Monthly Values'!AJ42,\"\")","v":""},{"$f":"IF('Monthly Values'!AK42<>0,'Monthly Values'!AK42,\"\")","v":""},{"$f":"IF('Monthly Values'!AL42<>0,'Monthly Values'!AL42,\"\")","v":""},{"$f":"IF('Monthly Values'!AM42<>0,'Monthly Values'!AM42,\"\")","v":""},{"$f":"IF('Monthly Values'!AN42<>0,'Monthly Values'!AN42,\"\")","v":""},{"$f":"IF('Monthly Values'!AO42<>0,'Monthly Values'!AO42,\"\")","v":""},{"$f":"IF('Monthly Values'!AP42<>0,'Monthly Values'!AP42,\"\")","v":""},{"$f":"IF('Monthly Values'!AQ42<>0,'Monthly Values'!AQ42,\"\")","v":""},{"$f":"IF('Monthly Values'!AR42<>0,'Monthly Values'!AR42,\"\")","v":""},{"$f":"IF('Monthly Values'!AS42<>0,'Monthly Values'!AS42,\"\")","v":""},{"$f":"IF('Monthly Values'!AT42<>0,'Monthly Values'!AT42,\"\")","v":""},{"$f":"IF('Monthly Values'!AU42<>0,'Monthly Values'!AU42,\"\")","v":""},{"$f":"IF('Monthly Values'!AV42<>0,'Monthly Values'!AV42,\"\")","v":""},{"$f":"IF('Monthly Values'!AW42<>0,'Monthly Values'!AW42,\"\")","v":""},{"$f":"IF('Monthly Values'!AX42<>0,'Monthly Values'!AX42,\"\")","v":""},{"$f":"IF('Monthly Values'!AY42<>0,'Monthly Values'!AY42,\"\")","v":""},{"$f":"IF('Monthly Values'!AZ42<>0,'Monthly Values'!AZ42,\"\")","v":""},{"$f":"IF('Monthly Values'!BA42<>0,'Monthly Values'!BA42,\"\")","v":""},{"$f":"IF('Monthly Values'!BB42<>0,'Monthly Values'!BB42,\"\")","v":""},{"$f":"IF('Monthly Values'!BC42<>0,'Monthly Values'!BC42,\"\")","v":""},{"$f":"IF('Monthly Values'!BD42<>0,'Monthly Values'!BD42,\"\")","v":""},{"$f":"IF('Monthly Values'!BE42<>0,'Monthly Values'!BE42,\"\")","v":""},{"$f":"IF('Monthly Values'!BF42<>0,'Monthly Values'!BF42,\"\")","v":""},{"$f":"IF('Monthly Values'!BG42<>0,'Monthly Values'!BG42,\"\")","v":""},{"$f":"IF('Monthly Values'!BH42<>0,'Monthly Values'!BH42,\"\")","v":""},{"$f":"IF('Monthly Values'!BI42<>0,'Monthly Values'!BI42,\"\")","v":""},{"$f":"IF('Monthly Values'!BJ42<>0,'Monthly Values'!BJ42,\"\")","v":""},{"$f":"IF('Monthly Values'!BK42<>0,'Monthly Values'!BK42,\"\")","v":""},{"$f":"IF('Monthly Values'!BL42<>0,'Monthly Values'!BL42,\"\")","v":""},{"$f":"IF('Monthly Values'!BM42<>0,'Monthly Values'!BM42,\"\")","v":""},{"$f":"IF('Monthly Values'!BN42<>0,'Monthly Values'!BN42,\"\")","v":""},{"$f":"IF('Monthly Values'!BO42<>0,'Monthly Values'!BO42,\"\")","v":""},{"$f":"IF('Monthly Values'!BP42<>0,'Monthly Values'!BP42,\"\")","v":""},{"$f":"IF('Monthly Values'!BQ42<>0,'Monthly Values'!BQ42,\"\")","v":""},{"$f":"IF('Monthly Values'!BR42<>0,'Monthly Values'!BR42,\"\")","v":""},{"$f":"IF('Monthly Values'!BS42<>0,'Monthly Values'!BS42,\"\")","v":""},{"$f":"IF('Monthly Values'!BT42<>0,'Monthly Values'!BT42,\"\")","v":""},{"$f":"IF('Monthly Values'!BU42<>0,'Monthly Values'!BU42,\"\")","v":""},{"$f":"IF('Monthly Values'!BV42<>0,'Monthly Values'!BV42,\"\")","v":""},{"$f":"IF('Monthly Values'!BW42<>0,'Monthly Values'!BW42,\"\")","v":""},{"$f":"IF('Monthly Values'!BX42<>0,'Monthly Values'!BX42,\"\")","v":""},{"$f":"IF('Monthly Values'!BY42<>0,'Monthly Values'!BY42,\"\")","v":""},{"$f":"IF('Monthly Values'!BZ42<>0,'Monthly Values'!BZ42,\"\")","v":""},{"$f":"IF('Monthly Values'!CA42<>0,'Monthly Values'!CA42,\"\")","v":""},{"$f":"IF('Monthly Values'!CB42<>0,'Monthly Values'!CB42,\"\")","v":""},{"$f":"IF('Monthly Values'!CC42<>0,'Monthly Values'!CC42,\"\")","v":""},{"$f":"IF('Monthly Values'!CD42<>0,'Monthly Values'!CD42,\"\")","v":""},{"$f":"IF('Monthly Values'!CE42<>0,'Monthly Values'!CE42,\"\")","v":""},{"$f":"IF('Monthly Values'!CF42<>0,'Monthly Values'!CF42,\"\")","v":""},{"$f":"IF('Monthly Values'!CG42<>0,'Monthly Values'!CG42,\"\")","v":""},{"$f":"IF('Monthly Values'!CH42<>0,'Monthly Values'!CH42,\"\")","v":""},{"$f":"IF('Monthly Values'!CI42<>0,'Monthly Values'!CI42,\"\")","v":""},{"$f":"IF('Monthly Values'!CJ42<>0,'Monthly Values'!CJ42,\"\")","v":""},{"$f":"IF('Monthly Values'!CK42<>0,'Monthly Values'!CK42,\"\")","v":""},{"$f":"IF('Monthly Values'!CL42<>0,'Monthly Values'!CL42,\"\")","v":""},{"$f":"IF('Monthly Values'!CM42<>0,'Monthly Values'!CM42,\"\")","v":""},{"$f":"IF('Monthly Values'!CN42<>0,'Monthly Values'!CN42,\"\")","v":""},{"$f":"IF('Monthly Values'!CO42<>0,'Monthly Values'!CO42,\"\")","v":""},{"$f":"IF('Monthly Values'!CP42<>0,'Monthly Values'!CP42,\"\")","v":""},{"$f":"IF('Monthly Values'!CQ42<>0,'Monthly Values'!CQ42,\"\")","v":""},{"$f":"IF('Monthly Values'!CR42<>0,'Monthly Values'!CR42,\"\")","v":""},{"$f":"IF('Monthly Values'!CS42<>0,'Monthly Values'!CS42,\"\")","v":""},{"$f":"IF('Monthly Values'!CT42<>0,'Monthly Values'!CT42,\"\")","v":""},{"$f":"IF('Monthly Values'!CU42<>0,'Monthly Values'!CU42,\"\")","v":""},{"$f":"IF('Monthly Values'!CV42<>0,'Monthly Values'!CV42,\"\")","v":""},{"$f":"IF('Monthly Values'!CW42<>0,'Monthly Values'!CW42,\"\")","v":""},{"$f":"IF('Monthly Values'!CX42<>0,'Monthly Values'!CX42,\"\")","v":""},{"$f":"IF('Monthly Values'!CY42<>0,'Monthly Values'!CY42,\"\")","v":""},{"$f":"IF('Monthly Values'!CZ42<>0,'Monthly Values'!CZ42,\"\")","v":""},{"$f":"IF('Monthly Values'!DA42<>0,'Monthly Values'!DA42,\"\")","v":""},{"$f":"IF('Monthly Values'!DB42<>0,'Monthly Values'!DB42,\"\")","v":""},{"$f":"IF('Monthly Values'!DC42<>0,'Monthly Values'!DC42,\"\")","v":""},{"$f":"IF('Monthly Values'!DD42<>0,'Monthly Values'!DD42,\"\")","v":""},{"$f":"IF('Monthly Values'!DE42<>0,'Monthly Values'!DE42,\"\")","v":""},{"$f":"IF('Monthly Values'!DF42<>0,'Monthly Values'!DF42,\"\")","v":""},{"$f":"IF('Monthly Values'!DG42<>0,'Monthly Values'!DG42,\"\")","v":""},{"$f":"IF('Monthly Values'!DH42<>0,'Monthly Values'!DH42,\"\")","v":""},{"$f":"IF('Monthly Values'!DI42<>0,'Monthly Values'!DI42,\"\")","v":""},{"$f":"IF('Monthly Values'!DJ42<>0,'Monthly Values'!DJ42,\"\")","v":""},{"$f":"IF('Monthly Values'!DK42<>0,'Monthly Values'!DK42,\"\")","v":""},{"$f":"IF('Monthly Values'!DL42<>0,'Monthly Values'!DL42,\"\")","v":""},{"$f":"IF('Monthly Values'!DM42<>0,'Monthly Values'!DM42,\"\")","v":""},{"$f":"IF('Monthly Values'!DN42<>0,'Monthly Values'!DN42,\"\")","v":""},{"$f":"IF('Monthly Values'!DO42<>0,'Monthly Values'!DO42,\"\")","v":""},{"$f":"IF('Monthly Values'!DP42<>0,'Monthly Values'!DP42,\"\")","v":""},{"$f":"IF('Monthly Values'!DQ42<>0,'Monthly Values'!DQ42,\"\")","v":""},{"$f":"IF('Monthly Values'!DR42<>0,'Monthly Values'!DR42,\"\")","v":""},{"$f":"IF('Monthly Values'!DS42<>0,'Monthly Values'!DS42,\"\")","v":""},""]
[null,null,null,null,null,null,null,null,null,null,null,null,null,2,{"$f":"IF('Account Setup'!B20<>\"Select From Dropdown\",'Account Setup'!B20,\"\")","v":""},{"$f":"IF('Account Setup'!C20<>0,'Account Setup'!C20,\"\")","v":""},{"$f":"IF(AND(O28<>\"\",P28<>\"\"),O28&\" - \"&P28,\"\")","v":""},null,null,5,{"$f":"IF('Monthly Values'!D43<>0,'Monthly Values'!D43,\"\")","v":""},{"$f":"IF('Monthly Values'!E43<>0,'Monthly Values'!E43,\"\")","v":""},{"$f":"IF('Monthly Values'!F43<>0,'Monthly Values'!F43,\"\")","v":""},{"$f":"IF('Monthly Values'!G43<>0,'Monthly Values'!G43,\"\")","v":""},{"$f":"IF('Monthly Values'!H43<>0,'Monthly Values'!H43,\"\")","v":""},{"$f":"IF('Monthly Values'!I43<>0,'Monthly Values'!I43,\"\")","v":""},{"$f":"IF('Monthly Values'!J43<>0,'Monthly Values'!J43,\"\")","v":""},{"$f":"IF('Monthly Values'!K43<>0,'Monthly Values'!K43,\"\")","v":""},{"$f":"IF('Monthly Values'!L43<>0,'Monthly Values'!L43,\"\")","v":""},{"$f":"IF('Monthly Values'!M43<>0,'Monthly Values'!M43,\"\")","v":""},{"$f":"IF('Monthly Values'!N43<>0,'Monthly Values'!N43,\"\")","v":""},{"$f":"IF('Monthly Values'!O43<>0,'Monthly Values'!O43,\"\")","v":""},{"$f":"IF('Monthly Values'!P43<>0,'Monthly Values'!P43,\"\")","v":""},{"$f":"IF('Monthly Values'!Q43<>0,'Monthly Values'!Q43,\"\")","v":""},{"$f":"IF('Monthly Values'!R43<>0,'Monthly Values'!R43,\"\")","v":""},{"$f":"IF('Monthly Values'!S43<>0,'Monthly Values'!S43,\"\")","v":""},{"$f":"IF('Monthly Values'!T43<>0,'Monthly Values'!T43,\"\")","v":""},{"$f":"IF('Monthly Values'!U43<>0,'Monthly Values'!U43,\"\")","v":""},{"$f":"IF('Monthly Values'!V43<>0,'Monthly Values'!V43,\"\")","v":""},{"$f":"IF('Monthly Values'!W43<>0,'Monthly Values'!W43,\"\")","v":""},{"$f":"IF('Monthly Values'!X43<>0,'Monthly Values'!X43,\"\")","v":""},{"$f":"IF('Monthly Values'!Y43<>0,'Monthly Values'!Y43,\"\")","v":""},{"$f":"IF('Monthly Values'!Z43<>0,'Monthly Values'!Z43,\"\")","v":""},{"$f":"IF('Monthly Values'!AA43<>0,'Monthly Values'!AA43,\"\")","v":""},{"$f":"IF('Monthly Values'!AB43<>0,'Monthly Values'!AB43,\"\")","v":""},{"$f":"IF('Monthly Values'!AC43<>0,'Monthly Values'!AC43,\"\")","v":""},{"$f":"IF('Monthly Values'!AD43<>0,'Monthly Values'!AD43,\"\")","v":""},{"$f":"IF('Monthly Values'!AE43<>0,'Monthly Values'!AE43,\"\")","v":""},{"$f":"IF('Monthly Values'!AF43<>0,'Monthly Values'!AF43,\"\")","v":""},{"$f":"IF('Monthly Values'!AG43<>0,'Monthly Values'!AG43,\"\")","v":""},{"$f":"IF('Monthly Values'!AH43<>0,'Monthly Values'!AH43,\"\")","v":""},{"$f":"IF('Monthly Values'!AI43<>0,'Monthly Values'!AI43,\"\")","v":""},{"$f":"IF('Monthly Values'!AJ43<>0,'Monthly Values'!AJ43,\"\")","v":""},{"$f":"IF('Monthly Values'!AK43<>0,'Monthly Values'!AK43,\"\")","v":""},{"$f":"IF('Monthly Values'!AL43<>0,'Monthly Values'!AL43,\"\")","v":""},{"$f":"IF('Monthly Values'!AM43<>0,'Monthly Values'!AM43,\"\")","v":""},{"$f":"IF('Monthly Values'!AN43<>0,'Monthly Values'!AN43,\"\")","v":""},{"$f":"IF('Monthly Values'!AO43<>0,'Monthly Values'!AO43,\"\")","v":""},{"$f":"IF('Monthly Values'!AP43<>0,'Monthly Values'!AP43,\"\")","v":""},{"$f":"IF('Monthly Values'!AQ43<>0,'Monthly Values'!AQ43,\"\")","v":""},{"$f":"IF('Monthly Values'!AR43<>0,'Monthly Values'!AR43,\"\")","v":""},{"$f":"IF('Monthly Values'!AS43<>0,'Monthly Values'!AS43,\"\")","v":""},{"$f":"IF('Monthly Values'!AT43<>0,'Monthly Values'!AT43,\"\")","v":""},{"$f":"IF('Monthly Values'!AU43<>0,'Monthly Values'!AU43,\"\")","v":""},{"$f":"IF('Monthly Values'!AV43<>0,'Monthly Values'!AV43,\"\")","v":""},{"$f":"IF('Monthly Values'!AW43<>0,'Monthly Values'!AW43,\"\")","v":""},{"$f":"IF('Monthly Values'!AX43<>0,'Monthly Values'!AX43,\"\")","v":""},{"$f":"IF('Monthly Values'!AY43<>0,'Monthly Values'!AY43,\"\")","v":""},{"$f":"IF('Monthly Values'!AZ43<>0,'Monthly Values'!AZ43,\"\")","v":""},{"$f":"IF('Monthly Values'!BA43<>0,'Monthly Values'!BA43,\"\")","v":""},{"$f":"IF('Monthly Values'!BB43<>0,'Monthly Values'!BB43,\"\")","v":""},{"$f":"IF('Monthly Values'!BC43<>0,'Monthly Values'!BC43,\"\")","v":""},{"$f":"IF('Monthly Values'!BD43<>0,'Monthly Values'!BD43,\"\")","v":""},{"$f":"IF('Monthly Values'!BE43<>0,'Monthly Values'!BE43,\"\")","v":""},{"$f":"IF('Monthly Values'!BF43<>0,'Monthly Values'!BF43,\"\")","v":""},{"$f":"IF('Monthly Values'!BG43<>0,'Monthly Values'!BG43,\"\")","v":""},{"$f":"IF('Monthly Values'!BH43<>0,'Monthly Values'!BH43,\"\")","v":""},{"$f":"IF('Monthly Values'!BI43<>0,'Monthly Values'!BI43,\"\")","v":""},{"$f":"IF('Monthly Values'!BJ43<>0,'Monthly Values'!BJ43,\"\")","v":""},{"$f":"IF('Monthly Values'!BK43<>0,'Monthly Values'!BK43,\"\")","v":""},{"$f":"IF('Monthly Values'!BL43<>0,'Monthly Values'!BL43,\"\")","v":""},{"$f":"IF('Monthly Values'!BM43<>0,'Monthly Values'!BM43,\"\")","v":""},{"$f":"IF('Monthly Values'!BN43<>0,'Monthly Values'!BN43,\"\")","v":""},{"$f":"IF('Monthly Values'!BO43<>0,'Monthly Values'!BO43,\"\")","v":""},{"$f":"IF('Monthly Values'!BP43<>0,'Monthly Values'!BP43,\"\")","v":""},{"$f":"IF('Monthly Values'!BQ43<>0,'Monthly Values'!BQ43,\"\")","v":""},{"$f":"IF('Monthly Values'!BR43<>0,'Monthly Values'!BR43,\"\")","v":""},{"$f":"IF('Monthly Values'!BS43<>0,'Monthly Values'!BS43,\"\")","v":""},{"$f":"IF('Monthly Values'!BT43<>0,'Monthly Values'!BT43,\"\")","v":""},{"$f":"IF('Monthly Values'!BU43<>0,'Monthly Values'!BU43,\"\")","v":""},{"$f":"IF('Monthly Values'!BV43<>0,'Monthly Values'!BV43,\"\")","v":""},{"$f":"IF('Monthly Values'!BW43<>0,'Monthly Values'!BW43,\"\")","v":""},{"$f":"IF('Monthly Values'!BX43<>0,'Monthly Values'!BX43,\"\")","v":""},{"$f":"IF('Monthly Values'!BY43<>0,'Monthly Values'!BY43,\"\")","v":""},{"$f":"IF('Monthly Values'!BZ43<>0,'Monthly Values'!BZ43,\"\")","v":""},{"$f":"IF('Monthly Values'!CA43<>0,'Monthly Values'!CA43,\"\")","v":""},{"$f":"IF('Monthly Values'!CB43<>0,'Monthly Values'!CB43,\"\")","v":""},{"$f":"IF('Monthly Values'!CC43<>0,'Monthly Values'!CC43,\"\")","v":""},{"$f":"IF('Monthly Values'!CD43<>0,'Monthly Values'!CD43,\"\")","v":""},{"$f":"IF('Monthly Values'!CE43<>0,'Monthly Values'!CE43,\"\")","v":""},{"$f":"IF('Monthly Values'!CF43<>0,'Monthly Values'!CF43,\"\")","v":""},{"$f":"IF('Monthly Values'!CG43<>0,'Monthly Values'!CG43,\"\")","v":""},{"$f":"IF('Monthly Values'!CH43<>0,'Monthly Values'!CH43,\"\")","v":""},{"$f":"IF('Monthly Values'!CI43<>0,'Monthly Values'!CI43,\"\")","v":""},{"$f":"IF('Monthly Values'!CJ43<>0,'Monthly Values'!CJ43,\"\")","v":""},{"$f":"IF('Monthly Values'!CK43<>0,'Monthly Values'!CK43,\"\")","v":""},{"$f":"IF('Monthly Values'!CL43<>0,'Monthly Values'!CL43,\"\")","v":""},{"$f":"IF('Monthly Values'!CM43<>0,'Monthly Values'!CM43,\"\")","v":""},{"$f":"IF('Monthly Values'!CN43<>0,'Monthly Values'!CN43,\"\")","v":""},{"$f":"IF('Monthly Values'!CO43<>0,'Monthly Values'!CO43,\"\")","v":""},{"$f":"IF('Monthly Values'!CP43<>0,'Monthly Values'!CP43,\"\")","v":""},{"$f":"IF('Monthly Values'!CQ43<>0,'Monthly Values'!CQ43,\"\")","v":""},{"$f":"IF('Monthly Values'!CR43<>0,'Monthly Values'!CR43,\"\")","v":""},{"$f":"IF('Monthly Values'!CS43<>0,'Monthly Values'!CS43,\"\")","v":""},{"$f":"IF('Monthly Values'!CT43<>0,'Monthly Values'!CT43,\"\")","v":""},{"$f":"IF('Monthly Values'!CU43<>0,'Monthly Values'!CU43,\"\")","v":""},{"$f":"IF('Monthly Values'!CV43<>0,'Monthly Values'!CV43,\"\")","v":""},{"$f":"IF('Monthly Values'!CW43<>0,'Monthly Values'!CW43,\"\")","v":""},{"$f":"IF('Monthly Values'!CX43<>0,'Monthly Values'!CX43,\"\")","v":""},{"$f":"IF('Monthly Values'!CY43<>0,'Monthly Values'!CY43,\"\")","v":""},{"$f":"IF('Monthly Values'!CZ43<>0,'Monthly Values'!CZ43,\"\")","v":""},{"$f":"IF('Monthly Values'!DA43<>0,'Monthly Values'!DA43,\"\")","v":""},{"$f":"IF('Monthly Values'!DB43<>0,'Monthly Values'!DB43,\"\")","v":""},{"$f":"IF('Monthly Values'!DC43<>0,'Monthly Values'!DC43,\"\")","v":""},{"$f":"IF('Monthly Values'!DD43<>0,'Monthly Values'!DD43,\"\")","v":""},{"$f":"IF('Monthly Values'!DE43<>0,'Monthly Values'!DE43,\"\")","v":""},{"$f":"IF('Monthly Values'!DF43<>0,'Monthly Values'!DF43,\"\")","v":""},{"$f":"IF('Monthly Values'!DG43<>0,'Monthly Values'!DG43,\"\")","v":""},{"$f":"IF('Monthly Values'!DH43<>0,'Monthly Values'!DH43,\"\")","v":""},{"$f":"IF('Monthly Values'!DI43<>0,'Monthly Values'!DI43,\"\")","v":""},{"$f":"IF('Monthly Values'!DJ43<>0,'Monthly Values'!DJ43,\"\")","v":""},{"$f":"IF('Monthly Values'!DK43<>0,'Monthly Values'!DK43,\"\")","v":""},{"$f":"IF('Monthly Values'!DL43<>0,'Monthly Values'!DL43,\"\")","v":""},{"$f":"IF('Monthly Values'!DM43<>0,'Monthly Values'!DM43,\"\")","v":""},{"$f":"IF('Monthly Values'!DN43<>0,'Monthly Values'!DN43,\"\")","v":""},{"$f":"IF('Monthly Values'!DO43<>0,'Monthly Values'!DO43,\"\")","v":""},{"$f":"IF('Monthly Values'!DP43<>0,'Monthly Values'!DP43,\"\")","v":""},{"$f":"IF('Monthly Values'!DQ43<>0,'Monthly Values'!DQ43,\"\")","v":""},{"$f":"IF('Monthly Values'!DR43<>0,'Monthly Values'!DR43,\"\")","v":""},{"$f":"IF('Monthly Values'!DS43<>0,'Monthly Values'!DS43,\"\")","v":""},""]
[null,"Data Validation for Date Drop Downs",null,null,null,null,null,null,null,null,null,null,null,3,{"$f":"IF('Account Setup'!B21<>\"Select From Dropdown\",'Account Setup'!B21,\"\")","v":""},{"$f":"IF('Account Setup'!C21<>0,'Account Setup'!C21,\"\")","v":""},"",null,"Corporate Assets",1,{"$f":"IF('Monthly Values'!D50<>0,'Monthly Values'!D50,\"\")","v":""},{"$f":"IF('Monthly Values'!E50<>0,'Monthly Values'!E50,\"\")","v":""},{"$f":"IF('Monthly Values'!F50<>0,'Monthly Values'!F50,\"\")","v":""},{"$f":"IF('Monthly Values'!G50<>0,'Monthly Values'!G50,\"\")","v":""},{"$f":"IF('Monthly Values'!H50<>0,'Monthly Values'!H50,\"\")","v":""},{"$f":"IF('Monthly Values'!I50<>0,'Monthly Values'!I50,\"\")","v":""},{"$f":"IF('Monthly Values'!J50<>0,'Monthly Values'!J50,\"\")","v":""},{"$f":"IF('Monthly Values'!K50<>0,'Monthly Values'!K50,\"\")","v":""},{"$f":"IF('Monthly Values'!L50<>0,'Monthly Values'!L50,\"\")","v":""},{"$f":"IF('Monthly Values'!M50<>0,'Monthly Values'!M50,\"\")","v":""},{"$f":"IF('Monthly Values'!N50<>0,'Monthly Values'!N50,\"\")","v":""},{"$f":"IF('Monthly Values'!O50<>0,'Monthly Values'!O50,\"\")","v":""},{"$f":"IF('Monthly Values'!P50<>0,'Monthly Values'!P50,\"\")","v":""},{"$f":"IF('Monthly Values'!Q50<>0,'Monthly Values'!Q50,\"\")","v":""},{"$f":"IF('Monthly Values'!R50<>0,'Monthly Values'!R50,\"\")","v":""},{"$f":"IF('Monthly Values'!S50<>0,'Monthly Values'!S50,\"\")","v":""},{"$f":"IF('Monthly Values'!T50<>0,'Monthly Values'!T50,\"\")","v":""},{"$f":"IF('Monthly Values'!U50<>0,'Monthly Values'!U50,\"\")","v":""},{"$f":"IF('Monthly Values'!V50<>0,'Monthly Values'!V50,\"\")","v":""},{"$f":"IF('Monthly Values'!W50<>0,'Monthly Values'!W50,\"\")","v":""},{"$f":"IF('Monthly Values'!X50<>0,'Monthly Values'!X50,\"\")","v":""},{"$f":"IF('Monthly Values'!Y50<>0,'Monthly Values'!Y50,\"\")","v":""},{"$f":"IF('Monthly Values'!Z50<>0,'Monthly Values'!Z50,\"\")","v":""},{"$f":"IF('Monthly Values'!AA50<>0,'Monthly Values'!AA50,\"\")","v":""},{"$f":"IF('Monthly Values'!AB50<>0,'Monthly Values'!AB50,\"\")","v":""},{"$f":"IF('Monthly Values'!AC50<>0,'Monthly Values'!AC50,\"\")","v":""},{"$f":"IF('Monthly Values'!AD50<>0,'Monthly Values'!AD50,\"\")","v":""},{"$f":"IF('Monthly Values'!AE50<>0,'Monthly Values'!AE50,\"\")","v":""},{"$f":"IF('Monthly Values'!AF50<>0,'Monthly Values'!AF50,\"\")","v":""},{"$f":"IF('Monthly Values'!AG50<>0,'Monthly Values'!AG50,\"\")","v":""},{"$f":"IF('Monthly Values'!AH50<>0,'Monthly Values'!AH50,\"\")","v":""},{"$f":"IF('Monthly Values'!AI50<>0,'Monthly Values'!AI50,\"\")","v":""},{"$f":"IF('Monthly Values'!AJ50<>0,'Monthly Values'!AJ50,\"\")","v":""},{"$f":"IF('Monthly Values'!AK50<>0,'Monthly Values'!AK50,\"\")","v":""},{"$f":"IF('Monthly Values'!AL50<>0,'Monthly Values'!AL50,\"\")","v":""},{"$f":"IF('Monthly Values'!AM50<>0,'Monthly Values'!AM50,\"\")","v":""},{"$f":"IF('Monthly Values'!AN50<>0,'Monthly Values'!AN50,\"\")","v":""},{"$f":"IF('Monthly Values'!AO50<>0,'Monthly Values'!AO50,\"\")","v":""},{"$f":"IF('Monthly Values'!AP50<>0,'Monthly Values'!AP50,\"\")","v":""},{"$f":"IF('Monthly Values'!AQ50<>0,'Monthly Values'!AQ50,\"\")","v":""},{"$f":"IF('Monthly Values'!AR50<>0,'Monthly Values'!AR50,\"\")","v":""},{"$f":"IF('Monthly Values'!AS50<>0,'Monthly Values'!AS50,\"\")","v":""},{"$f":"IF('Monthly Values'!AT50<>0,'Monthly Values'!AT50,\"\")","v":""},{"$f":"IF('Monthly Values'!AU50<>0,'Monthly Values'!AU50,\"\")","v":""},{"$f":"IF('Monthly Values'!AV50<>0,'Monthly Values'!AV50,\"\")","v":""},{"$f":"IF('Monthly Values'!AW50<>0,'Monthly Values'!AW50,\"\")","v":""},{"$f":"IF('Monthly Values'!AX50<>0,'Monthly Values'!AX50,\"\")","v":""},{"$f":"IF('Monthly Values'!AY50<>0,'Monthly Values'!AY50,\"\")","v":""},{"$f":"IF('Monthly Values'!AZ50<>0,'Monthly Values'!AZ50,\"\")","v":""},{"$f":"IF('Monthly Values'!BA50<>0,'Monthly Values'!BA50,\"\")","v":""},{"$f":"IF('Monthly Values'!BB50<>0,'Monthly Values'!BB50,\"\")","v":""},{"$f":"IF('Monthly Values'!BC50<>0,'Monthly Values'!BC50,\"\")","v":""},{"$f":"IF('Monthly Values'!BD50<>0,'Monthly Values'!BD50,\"\")","v":""},{"$f":"IF('Monthly Values'!BE50<>0,'Monthly Values'!BE50,\"\")","v":""},{"$f":"IF('Monthly Values'!BF50<>0,'Monthly Values'!BF50,\"\")","v":""},{"$f":"IF('Monthly Values'!BG50<>0,'Monthly Values'!BG50,\"\")","v":""},{"$f":"IF('Monthly Values'!BH50<>0,'Monthly Values'!BH50,\"\")","v":""},{"$f":"IF('Monthly Values'!BI50<>0,'Monthly Values'!BI50,\"\")","v":""},{"$f":"IF('Monthly Values'!BJ50<>0,'Monthly Values'!BJ50,\"\")","v":""},{"$f":"IF('Monthly Values'!BK50<>0,'Monthly Values'!BK50,\"\")","v":""},{"$f":"IF('Monthly Values'!BL50<>0,'Monthly Values'!BL50,\"\")","v":""},{"$f":"IF('Monthly Values'!BM50<>0,'Monthly Values'!BM50,\"\")","v":""},{"$f":"IF('Monthly Values'!BN50<>0,'Monthly Values'!BN50,\"\")","v":""},{"$f":"IF('Monthly Values'!BO50<>0,'Monthly Values'!BO50,\"\")","v":""},{"$f":"IF('Monthly Values'!BP50<>0,'Monthly Values'!BP50,\"\")","v":""},{"$f":"IF('Monthly Values'!BQ50<>0,'Monthly Values'!BQ50,\"\")","v":""},{"$f":"IF('Monthly Values'!BR50<>0,'Monthly Values'!BR50,\"\")","v":""},{"$f":"IF('Monthly Values'!BS50<>0,'Monthly Values'!BS50,\"\")","v":""},{"$f":"IF('Monthly Values'!BT50<>0,'Monthly Values'!BT50,\"\")","v":""},{"$f":"IF('Monthly Values'!BU50<>0,'Monthly Values'!BU50,\"\")","v":""},{"$f":"IF('Monthly Values'!BV50<>0,'Monthly Values'!BV50,\"\")","v":""},{"$f":"IF('Monthly Values'!BW50<>0,'Monthly Values'!BW50,\"\")","v":""},{"$f":"IF('Monthly Values'!BX50<>0,'Monthly Values'!BX50,\"\")","v":""},{"$f":"IF('Monthly Values'!BY50<>0,'Monthly Values'!BY50,\"\")","v":""},{"$f":"IF('Monthly Values'!BZ50<>0,'Monthly Values'!BZ50,\"\")","v":""},{"$f":"IF('Monthly Values'!CA50<>0,'Monthly Values'!CA50,\"\")","v":""},{"$f":"IF('Monthly Values'!CB50<>0,'Monthly Values'!CB50,\"\")","v":""},{"$f":"IF('Monthly Values'!CC50<>0,'Monthly Values'!CC50,\"\")","v":""},{"$f":"IF('Monthly Values'!CD50<>0,'Monthly Values'!CD50,\"\")","v":""},{"$f":"IF('Monthly Values'!CE50<>0,'Monthly Values'!CE50,\"\")","v":""},{"$f":"IF('Monthly Values'!CF50<>0,'Monthly Values'!CF50,\"\")","v":""},{"$f":"IF('Monthly Values'!CG50<>0,'Monthly Values'!CG50,\"\")","v":""},{"$f":"IF('Monthly Values'!CH50<>0,'Monthly Values'!CH50,\"\")","v":""},{"$f":"IF('Monthly Values'!CI50<>0,'Monthly Values'!CI50,\"\")","v":""},{"$f":"IF('Monthly Values'!CJ50<>0,'Monthly Values'!CJ50,\"\")","v":""},{"$f":"IF('Monthly Values'!CK50<>0,'Monthly Values'!CK50,\"\")","v":""},{"$f":"IF('Monthly Values'!CL50<>0,'Monthly Values'!CL50,\"\")","v":""},{"$f":"IF('Monthly Values'!CM50<>0,'Monthly Values'!CM50,\"\")","v":""},{"$f":"IF('Monthly Values'!CN50<>0,'Monthly Values'!CN50,\"\")","v":""},{"$f":"IF('Monthly Values'!CO50<>0,'Monthly Values'!CO50,\"\")","v":""},{"$f":"IF('Monthly Values'!CP50<>0,'Monthly Values'!CP50,\"\")","v":""},{"$f":"IF('Monthly Values'!CQ50<>0,'Monthly Values'!CQ50,\"\")","v":""},{"$f":"IF('Monthly Values'!CR50<>0,'Monthly Values'!CR50,\"\")","v":""},{"$f":"IF('Monthly Values'!CS50<>0,'Monthly Values'!CS50,\"\")","v":""},{"$f":"IF('Monthly Values'!CT50<>0,'Monthly Values'!CT50,\"\")","v":""},{"$f":"IF('Monthly Values'!CU50<>0,'Monthly Values'!CU50,\"\")","v":""},{"$f":"IF('Monthly Values'!CV50<>0,'Monthly Values'!CV50,\"\")","v":""},{"$f":"IF('Monthly Values'!CW50<>0,'Monthly Values'!CW50,\"\")","v":""},{"$f":"IF('Monthly Values'!CX50<>0,'Monthly Values'!CX50,\"\")","v":""},{"$f":"IF('Monthly Values'!CY50<>0,'Monthly Values'!CY50,\"\")","v":""},{"$f":"IF('Monthly Values'!CZ50<>0,'Monthly Values'!CZ50,\"\")","v":""},{"$f":"IF('Monthly Values'!DA50<>0,'Monthly Values'!DA50,\"\")","v":""},{"$f":"IF('Monthly Values'!DB50<>0,'Monthly Values'!DB50,\"\")","v":""},{"$f":"IF('Monthly Values'!DC50<>0,'Monthly Values'!DC50,\"\")","v":""},{"$f":"IF('Monthly Values'!DD50<>0,'Monthly Values'!DD50,\"\")","v":""},{"$f":"IF('Monthly Values'!DE50<>0,'Monthly Values'!DE50,\"\")","v":""},{"$f":"IF('Monthly Values'!DF50<>0,'Monthly Values'!DF50,\"\")","v":""},{"$f":"IF('Monthly Values'!DG50<>0,'Monthly Values'!DG50,\"\")","v":""},{"$f":"IF('Monthly Values'!DH50<>0,'Monthly Values'!DH50,\"\")","v":""},{"$f":"IF('Monthly Values'!DI50<>0,'Monthly Values'!DI50,\"\")","v":""},{"$f":"IF('Monthly Values'!DJ50<>0,'Monthly Values'!DJ50,\"\")","v":""},{"$f":"IF('Monthly Values'!DK50<>0,'Monthly Values'!DK50,\"\")","v":""},{"$f":"IF('Monthly Values'!DL50<>0,'Monthly Values'!DL50,\"\")","v":""},{"$f":"IF('Monthly Values'!DM50<>0,'Monthly Values'!DM50,\"\")","v":""},{"$f":"IF('Monthly Values'!DN50<>0,'Monthly Values'!DN50,\"\")","v":""},{"$f":"IF('Monthly Values'!DO50<>0,'Monthly Values'!DO50,\"\")","v":""},{"$f":"IF('Monthly Values'!DP50<>0,'Monthly Values'!DP50,\"\")","v":""},{"$f":"IF('Monthly Values'!DQ50<>0,'Monthly Values'!DQ50,\"\")","v":""},{"$f":"IF('Monthly Values'!DR50<>0,'Monthly Values'!DR50,\"\")","v":""},{"$f":"IF('Monthly Values'!DS50<>0,'Monthly Values'!DS50,\"\")","v":""},""]
[null,"Select From Dropdown",null,null,null,null,null,"LGK Gold used through out spreadsheet",null,null,null,null,null,4,{"$f":"IF('Account Setup'!B22<>\"Select From Dropdown\",'Account Setup'!B22,\"\")","v":""},{"$f":"IF('Account Setup'!C22<>0,'Account Setup'!C22,\"\")","v":""},"",null,null,2,{"$f":"IF('Monthly Values'!D51<>0,'Monthly Values'!D51,\"\")","v":""},{"$f":"IF('Monthly Values'!E51<>0,'Monthly Values'!E51,\"\")","v":""},{"$f":"IF('Monthly Values'!F51<>0,'Monthly Values'!F51,\"\")","v":""},{"$f":"IF('Monthly Values'!G51<>0,'Monthly Values'!G51,\"\")","v":""},{"$f":"IF('Monthly Values'!H51<>0,'Monthly Values'!H51,\"\")","v":""},{"$f":"IF('Monthly Values'!I51<>0,'Monthly Values'!I51,\"\")","v":""},{"$f":"IF('Monthly Values'!J51<>0,'Monthly Values'!J51,\"\")","v":""},{"$f":"IF('Monthly Values'!K51<>0,'Monthly Values'!K51,\"\")","v":""},{"$f":"IF('Monthly Values'!L51<>0,'Monthly Values'!L51,\"\")","v":""},{"$f":"IF('Monthly Values'!M51<>0,'Monthly Values'!M51,\"\")","v":""},{"$f":"IF('Monthly Values'!N51<>0,'Monthly Values'!N51,\"\")","v":""},{"$f":"IF('Monthly Values'!O51<>0,'Monthly Values'!O51,\"\")","v":""},{"$f":"IF('Monthly Values'!P51<>0,'Monthly Values'!P51,\"\")","v":""},{"$f":"IF('Monthly Values'!Q51<>0,'Monthly Values'!Q51,\"\")","v":""},{"$f":"IF('Monthly Values'!R51<>0,'Monthly Values'!R51,\"\")","v":""},{"$f":"IF('Monthly Values'!S51<>0,'Monthly Values'!S51,\"\")","v":""},{"$f":"IF('Monthly Values'!T51<>0,'Monthly Values'!T51,\"\")","v":""},{"$f":"IF('Monthly Values'!U51<>0,'Monthly Values'!U51,\"\")","v":""},{"$f":"IF('Monthly Values'!V51<>0,'Monthly Values'!V51,\"\")","v":""},{"$f":"IF('Monthly Values'!W51<>0,'Monthly Values'!W51,\"\")","v":""},{"$f":"IF('Monthly Values'!X51<>0,'Monthly Values'!X51,\"\")","v":""},{"$f":"IF('Monthly Values'!Y51<>0,'Monthly Values'!Y51,\"\")","v":""},{"$f":"IF('Monthly Values'!Z51<>0,'Monthly Values'!Z51,\"\")","v":""},{"$f":"IF('Monthly Values'!AA51<>0,'Monthly Values'!AA51,\"\")","v":""},{"$f":"IF('Monthly Values'!AB51<>0,'Monthly Values'!AB51,\"\")","v":""},{"$f":"IF('Monthly Values'!AC51<>0,'Monthly Values'!AC51,\"\")","v":""},{"$f":"IF('Monthly Values'!AD51<>0,'Monthly Values'!AD51,\"\")","v":""},{"$f":"IF('Monthly Values'!AE51<>0,'Monthly Values'!AE51,\"\")","v":""},{"$f":"IF('Monthly Values'!AF51<>0,'Monthly Values'!AF51,\"\")","v":""},{"$f":"IF('Monthly Values'!AG51<>0,'Monthly Values'!AG51,\"\")","v":""},{"$f":"IF('Monthly Values'!AH51<>0,'Monthly Values'!AH51,\"\")","v":""},{"$f":"IF('Monthly Values'!AI51<>0,'Monthly Values'!AI51,\"\")","v":""},{"$f":"IF('Monthly Values'!AJ51<>0,'Monthly Values'!AJ51,\"\")","v":""},{"$f":"IF('Monthly Values'!AK51<>0,'Monthly Values'!AK51,\"\")","v":""},{"$f":"IF('Monthly Values'!AL51<>0,'Monthly Values'!AL51,\"\")","v":""},{"$f":"IF('Monthly Values'!AM51<>0,'Monthly Values'!AM51,\"\")","v":""},{"$f":"IF('Monthly Values'!AN51<>0,'Monthly Values'!AN51,\"\")","v":""},{"$f":"IF('Monthly Values'!AO51<>0,'Monthly Values'!AO51,\"\")","v":""},{"$f":"IF('Monthly Values'!AP51<>0,'Monthly Values'!AP51,\"\")","v":""},{"$f":"IF('Monthly Values'!AQ51<>0,'Monthly Values'!AQ51,\"\")","v":""},{"$f":"IF('Monthly Values'!AR51<>0,'Monthly Values'!AR51,\"\")","v":""},{"$f":"IF('Monthly Values'!AS51<>0,'Monthly Values'!AS51,\"\")","v":""},{"$f":"IF('Monthly Values'!AT51<>0,'Monthly Values'!AT51,\"\")","v":""},{"$f":"IF('Monthly Values'!AU51<>0,'Monthly Values'!AU51,\"\")","v":""},{"$f":"IF('Monthly Values'!AV51<>0,'Monthly Values'!AV51,\"\")","v":""},{"$f":"IF('Monthly Values'!AW51<>0,'Monthly Values'!AW51,\"\")","v":""},{"$f":"IF('Monthly Values'!AX51<>0,'Monthly Values'!AX51,\"\")","v":""},{"$f":"IF('Monthly Values'!AY51<>0,'Monthly Values'!AY51,\"\")","v":""},{"$f":"IF('Monthly Values'!AZ51<>0,'Monthly Values'!AZ51,\"\")","v":""},{"$f":"IF('Monthly Values'!BA51<>0,'Monthly Values'!BA51,\"\")","v":""},{"$f":"IF('Monthly Values'!BB51<>0,'Monthly Values'!BB51,\"\")","v":""},{"$f":"IF('Monthly Values'!BC51<>0,'Monthly Values'!BC51,\"\")","v":""},{"$f":"IF('Monthly Values'!BD51<>0,'Monthly Values'!BD51,\"\")","v":""},{"$f":"IF('Monthly Values'!BE51<>0,'Monthly Values'!BE51,\"\")","v":""},{"$f":"IF('Monthly Values'!BF51<>0,'Monthly Values'!BF51,\"\")","v":""},{"$f":"IF('Monthly Values'!BG51<>0,'Monthly Values'!BG51,\"\")","v":""},{"$f":"IF('Monthly Values'!BH51<>0,'Monthly Values'!BH51,\"\")","v":""},{"$f":"IF('Monthly Values'!BI51<>0,'Monthly Values'!BI51,\"\")","v":""},{"$f":"IF('Monthly Values'!BJ51<>0,'Monthly Values'!BJ51,\"\")","v":""},{"$f":"IF('Monthly Values'!BK51<>0,'Monthly Values'!BK51,\"\")","v":""},{"$f":"IF('Monthly Values'!BL51<>0,'Monthly Values'!BL51,\"\")","v":""},{"$f":"IF('Monthly Values'!BM51<>0,'Monthly Values'!BM51,\"\")","v":""},{"$f":"IF('Monthly Values'!BN51<>0,'Monthly Values'!BN51,\"\")","v":""},{"$f":"IF('Monthly Values'!BO51<>0,'Monthly Values'!BO51,\"\")","v":""},{"$f":"IF('Monthly Values'!BP51<>0,'Monthly Values'!BP51,\"\")","v":""},{"$f":"IF('Monthly Values'!BQ51<>0,'Monthly Values'!BQ51,\"\")","v":""},{"$f":"IF('Monthly Values'!BR51<>0,'Monthly Values'!BR51,\"\")","v":""},{"$f":"IF('Monthly Values'!BS51<>0,'Monthly Values'!BS51,\"\")","v":""},{"$f":"IF('Monthly Values'!BT51<>0,'Monthly Values'!BT51,\"\")","v":""},{"$f":"IF('Monthly Values'!BU51<>0,'Monthly Values'!BU51,\"\")","v":""},{"$f":"IF('Monthly Values'!BV51<>0,'Monthly Values'!BV51,\"\")","v":""},{"$f":"IF('Monthly Values'!BW51<>0,'Monthly Values'!BW51,\"\")","v":""},{"$f":"IF('Monthly Values'!BX51<>0,'Monthly Values'!BX51,\"\")","v":""},{"$f":"IF('Monthly Values'!BY51<>0,'Monthly Values'!BY51,\"\")","v":""},{"$f":"IF('Monthly Values'!BZ51<>0,'Monthly Values'!BZ51,\"\")","v":""},{"$f":"IF('Monthly Values'!CA51<>0,'Monthly Values'!CA51,\"\")","v":""},{"$f":"IF('Monthly Values'!CB51<>0,'Monthly Values'!CB51,\"\")","v":""},{"$f":"IF('Monthly Values'!CC51<>0,'Monthly Values'!CC51,\"\")","v":""},{"$f":"IF('Monthly Values'!CD51<>0,'Monthly Values'!CD51,\"\")","v":""},{"$f":"IF('Monthly Values'!CE51<>0,'Monthly Values'!CE51,\"\")","v":""},{"$f":"IF('Monthly Values'!CF51<>0,'Monthly Values'!CF51,\"\")","v":""},{"$f":"IF('Monthly Values'!CG51<>0,'Monthly Values'!CG51,\"\")","v":""},{"$f":"IF('Monthly Values'!CH51<>0,'Monthly Values'!CH51,\"\")","v":""},{"$f":"IF('Monthly Values'!CI51<>0,'Monthly Values'!CI51,\"\")","v":""},{"$f":"IF('Monthly Values'!CJ51<>0,'Monthly Values'!CJ51,\"\")","v":""},{"$f":"IF('Monthly Values'!CK51<>0,'Monthly Values'!CK51,\"\")","v":""},{"$f":"IF('Monthly Values'!CL51<>0,'Monthly Values'!CL51,\"\")","v":""},{"$f":"IF('Monthly Values'!CM51<>0,'Monthly Values'!CM51,\"\")","v":""},{"$f":"IF('Monthly Values'!CN51<>0,'Monthly Values'!CN51,\"\")","v":""},{"$f":"IF('Monthly Values'!CO51<>0,'Monthly Values'!CO51,\"\")","v":""},{"$f":"IF('Monthly Values'!CP51<>0,'Monthly Values'!CP51,\"\")","v":""},{"$f":"IF('Monthly Values'!CQ51<>0,'Monthly Values'!CQ51,\"\")","v":""},{"$f":"IF('Monthly Values'!CR51<>0,'Monthly Values'!CR51,\"\")","v":""},{"$f":"IF('Monthly Values'!CS51<>0,'Monthly Values'!CS51,\"\")","v":""},{"$f":"IF('Monthly Values'!CT51<>0,'Monthly Values'!CT51,\"\")","v":""},{"$f":"IF('Monthly Values'!CU51<>0,'Monthly Values'!CU51,\"\")","v":""},{"$f":"IF('Monthly Values'!CV51<>0,'Monthly Values'!CV51,\"\")","v":""},{"$f":"IF('Monthly Values'!CW51<>0,'Monthly Values'!CW51,\"\")","v":""},{"$f":"IF('Monthly Values'!CX51<>0,'Monthly Values'!CX51,\"\")","v":""},{"$f":"IF('Monthly Values'!CY51<>0,'Monthly Values'!CY51,\"\")","v":""},{"$f":"IF('Monthly Values'!CZ51<>0,'Monthly Values'!CZ51,\"\")","v":""},{"$f":"IF('Monthly Values'!DA51<>0,'Monthly Values'!DA51,\"\")","v":""},{"$f":"IF('Monthly Values'!DB51<>0,'Monthly Values'!DB51,\"\")","v":""},{"$f":"IF('Monthly Values'!DC51<>0,'Monthly Values'!DC51,\"\")","v":""},{"$f":"IF('Monthly Values'!DD51<>0,'Monthly Values'!DD51,\"\")","v":""},{"$f":"IF('Monthly Values'!DE51<>0,'Monthly Values'!DE51,\"\")","v":""},{"$f":"IF('Monthly Values'!DF51<>0,'Monthly Values'!DF51,\"\")","v":""},{"$f":"IF('Monthly Values'!DG51<>0,'Monthly Values'!DG51,\"\")","v":""},{"$f":"IF('Monthly Values'!DH51<>0,'Monthly Values'!DH51,\"\")","v":""},{"$f":"IF('Monthly Values'!DI51<>0,'Monthly Values'!DI51,\"\")","v":""},{"$f":"IF('Monthly Values'!DJ51<>0,'Monthly Values'!DJ51,\"\")","v":""},{"$f":"IF('Monthly Values'!DK51<>0,'Monthly Values'!DK51,\"\")","v":""},{"$f":"IF('Monthly Values'!DL51<>0,'Monthly Values'!DL51,\"\")","v":""},{"$f":"IF('Monthly Values'!DM51<>0,'Monthly Values'!DM51,\"\")","v":""},{"$f":"IF('Monthly Values'!DN51<>0,'Monthly Values'!DN51,\"\")","v":""},{"$f":"IF('Monthly Values'!DO51<>0,'Monthly Values'!DO51,\"\")","v":""},{"$f":"IF('Monthly Values'!DP51<>0,'Monthly Values'!DP51,\"\")","v":""},{"$f":"IF('Monthly Values'!DQ51<>0,'Monthly Values'!DQ51,\"\")","v":""},{"$f":"IF('Monthly Values'!DR51<>0,'Monthly Values'!DR51,\"\")","v":""},{"$f":"IF('Monthly Values'!DS51<>0,'Monthly Values'!DS51,\"\")","v":""},""]
[null,null,null,null,null,null,null,null,null,null,null,null,null,5,{"$f":"IF('Account Setup'!B23<>\"Select From Dropdown\",'Account Setup'!B23,\"\")","v":""},{"$f":"IF('Account Setup'!C23<>0,'Account Setup'!C23,\"\")","v":""},"",null,"Liabilities",1,{"$f":"IF('Monthly Values'!D61<>0,'Monthly Values'!D61,\"\")","v":""},{"$f":"IF('Monthly Values'!E61<>0,'Monthly Values'!E61,\"\")","v":""},{"$f":"IF('Monthly Values'!F61<>0,'Monthly Values'!F61,\"\")","v":""},{"$f":"IF('Monthly Values'!G61<>0,'Monthly Values'!G61,\"\")","v":""},{"$f":"IF('Monthly Values'!H61<>0,'Monthly Values'!H61,\"\")","v":""},{"$f":"IF('Monthly Values'!I61<>0,'Monthly Values'!I61,\"\")","v":""},{"$f":"IF('Monthly Values'!J61<>0,'Monthly Values'!J61,\"\")","v":""},{"$f":"IF('Monthly Values'!K61<>0,'Monthly Values'!K61,\"\")","v":""},{"$f":"IF('Monthly Values'!L61<>0,'Monthly Values'!L61,\"\")","v":""},{"$f":"IF('Monthly Values'!M61<>0,'Monthly Values'!M61,\"\")","v":""},{"$f":"IF('Monthly Values'!N61<>0,'Monthly Values'!N61,\"\")","v":""},{"$f":"IF('Monthly Values'!O61<>0,'Monthly Values'!O61,\"\")","v":""},{"$f":"IF('Monthly Values'!P61<>0,'Monthly Values'!P61,\"\")","v":""},{"$f":"IF('Monthly Values'!Q61<>0,'Monthly Values'!Q61,\"\")","v":""},{"$f":"IF('Monthly Values'!R61<>0,'Monthly Values'!R61,\"\")","v":""},{"$f":"IF('Monthly Values'!S61<>0,'Monthly Values'!S61,\"\")","v":""},{"$f":"IF('Monthly Values'!T61<>0,'Monthly Values'!T61,\"\")","v":""},{"$f":"IF('Monthly Values'!U61<>0,'Monthly Values'!U61,\"\")","v":""},{"$f":"IF('Monthly Values'!V61<>0,'Monthly Values'!V61,\"\")","v":""},{"$f":"IF('Monthly Values'!W61<>0,'Monthly Values'!W61,\"\")","v":""},{"$f":"IF('Monthly Values'!X61<>0,'Monthly Values'!X61,\"\")","v":""},{"$f":"IF('Monthly Values'!Y61<>0,'Monthly Values'!Y61,\"\")","v":""},{"$f":"IF('Monthly Values'!Z61<>0,'Monthly Values'!Z61,\"\")","v":""},{"$f":"IF('Monthly Values'!AA61<>0,'Monthly Values'!AA61,\"\")","v":""},{"$f":"IF('Monthly Values'!AB61<>0,'Monthly Values'!AB61,\"\")","v":""},{"$f":"IF('Monthly Values'!AC61<>0,'Monthly Values'!AC61,\"\")","v":""},{"$f":"IF('Monthly Values'!AD61<>0,'Monthly Values'!AD61,\"\")","v":""},{"$f":"IF('Monthly Values'!AE61<>0,'Monthly Values'!AE61,\"\")","v":""},{"$f":"IF('Monthly Values'!AF61<>0,'Monthly Values'!AF61,\"\")","v":""},{"$f":"IF('Monthly Values'!AG61<>0,'Monthly Values'!AG61,\"\")","v":""},{"$f":"IF('Monthly Values'!AH61<>0,'Monthly Values'!AH61,\"\")","v":""},{"$f":"IF('Monthly Values'!AI61<>0,'Monthly Values'!AI61,\"\")","v":""},{"$f":"IF('Monthly Values'!AJ61<>0,'Monthly Values'!AJ61,\"\")","v":""},{"$f":"IF('Monthly Values'!AK61<>0,'Monthly Values'!AK61,\"\")","v":""},{"$f":"IF('Monthly Values'!AL61<>0,'Monthly Values'!AL61,\"\")","v":""},{"$f":"IF('Monthly Values'!AM61<>0,'Monthly Values'!AM61,\"\")","v":""},{"$f":"IF('Monthly Values'!AN61<>0,'Monthly Values'!AN61,\"\")","v":""},{"$f":"IF('Monthly Values'!AO61<>0,'Monthly Values'!AO61,\"\")","v":""},{"$f":"IF('Monthly Values'!AP61<>0,'Monthly Values'!AP61,\"\")","v":""},{"$f":"IF('Monthly Values'!AQ61<>0,'Monthly Values'!AQ61,\"\")","v":""},{"$f":"IF('Monthly Values'!AR61<>0,'Monthly Values'!AR61,\"\")","v":""},{"$f":"IF('Monthly Values'!AS61<>0,'Monthly Values'!AS61,\"\")","v":""},{"$f":"IF('Monthly Values'!AT61<>0,'Monthly Values'!AT61,\"\")","v":""},{"$f":"IF('Monthly Values'!AU61<>0,'Monthly Values'!AU61,\"\")","v":""},{"$f":"IF('Monthly Values'!AV61<>0,'Monthly Values'!AV61,\"\")","v":""},{"$f":"IF('Monthly Values'!AW61<>0,'Monthly Values'!AW61,\"\")","v":""},{"$f":"IF('Monthly Values'!AX61<>0,'Monthly Values'!AX61,\"\")","v":""},{"$f":"IF('Monthly Values'!AY61<>0,'Monthly Values'!AY61,\"\")","v":""},{"$f":"IF('Monthly Values'!AZ61<>0,'Monthly Values'!AZ61,\"\")","v":""},{"$f":"IF('Monthly Values'!BA61<>0,'Monthly Values'!BA61,\"\")","v":""},{"$f":"IF('Monthly Values'!BB61<>0,'Monthly Values'!BB61,\"\")","v":""},{"$f":"IF('Monthly Values'!BC61<>0,'Monthly Values'!BC61,\"\")","v":""},{"$f":"IF('Monthly Values'!BD61<>0,'Monthly Values'!BD61,\"\")","v":""},{"$f":"IF('Monthly Values'!BE61<>0,'Monthly Values'!BE61,\"\")","v":""},{"$f":"IF('Monthly Values'!BF61<>0,'Monthly Values'!BF61,\"\")","v":""},{"$f":"IF('Monthly Values'!BG61<>0,'Monthly Values'!BG61,\"\")","v":""},{"$f":"IF('Monthly Values'!BH61<>0,'Monthly Values'!BH61,\"\")","v":""},{"$f":"IF('Monthly Values'!BI61<>0,'Monthly Values'!BI61,\"\")","v":""},{"$f":"IF('Monthly Values'!BJ61<>0,'Monthly Values'!BJ61,\"\")","v":""},{"$f":"IF('Monthly Values'!BK61<>0,'Monthly Values'!BK61,\"\")","v":""},{"$f":"IF('Monthly Values'!BL61<>0,'Monthly Values'!BL61,\"\")","v":""},{"$f":"IF('Monthly Values'!BM61<>0,'Monthly Values'!BM61,\"\")","v":""},{"$f":"IF('Monthly Values'!BN61<>0,'Monthly Values'!BN61,\"\")","v":""},{"$f":"IF('Monthly Values'!BO61<>0,'Monthly Values'!BO61,\"\")","v":""},{"$f":"IF('Monthly Values'!BP61<>0,'Monthly Values'!BP61,\"\")","v":""},{"$f":"IF('Monthly Values'!BQ61<>0,'Monthly Values'!BQ61,\"\")","v":""},{"$f":"IF('Monthly Values'!BR61<>0,'Monthly Values'!BR61,\"\")","v":""},{"$f":"IF('Monthly Values'!BS61<>0,'Monthly Values'!BS61,\"\")","v":""},{"$f":"IF('Monthly Values'!BT61<>0,'Monthly Values'!BT61,\"\")","v":""},{"$f":"IF('Monthly Values'!BU61<>0,'Monthly Values'!BU61,\"\")","v":""},{"$f":"IF('Monthly Values'!BV61<>0,'Monthly Values'!BV61,\"\")","v":""},{"$f":"IF('Monthly Values'!BW61<>0,'Monthly Values'!BW61,\"\")","v":""},{"$f":"IF('Monthly Values'!BX61<>0,'Monthly Values'!BX61,\"\")","v":""},{"$f":"IF('Monthly Values'!BY61<>0,'Monthly Values'!BY61,\"\")","v":""},{"$f":"IF('Monthly Values'!BZ61<>0,'Monthly Values'!BZ61,\"\")","v":""},{"$f":"IF('Monthly Values'!CA61<>0,'Monthly Values'!CA61,\"\")","v":""},{"$f":"IF('Monthly Values'!CB61<>0,'Monthly Values'!CB61,\"\")","v":""},{"$f":"IF('Monthly Values'!CC61<>0,'Monthly Values'!CC61,\"\")","v":""},{"$f":"IF('Monthly Values'!CD61<>0,'Monthly Values'!CD61,\"\")","v":""},{"$f":"IF('Monthly Values'!CE61<>0,'Monthly Values'!CE61,\"\")","v":""},{"$f":"IF('Monthly Values'!CF61<>0,'Monthly Values'!CF61,\"\")","v":""},{"$f":"IF('Monthly Values'!CG61<>0,'Monthly Values'!CG61,\"\")","v":""},{"$f":"IF('Monthly Values'!CH61<>0,'Monthly Values'!CH61,\"\")","v":""},{"$f":"IF('Monthly Values'!CI61<>0,'Monthly Values'!CI61,\"\")","v":""},{"$f":"IF('Monthly Values'!CJ61<>0,'Monthly Values'!CJ61,\"\")","v":""},{"$f":"IF('Monthly Values'!CK61<>0,'Monthly Values'!CK61,\"\")","v":""},{"$f":"IF('Monthly Values'!CL61<>0,'Monthly Values'!CL61,\"\")","v":""},{"$f":"IF('Monthly Values'!CM61<>0,'Monthly Values'!CM61,\"\")","v":""},{"$f":"IF('Monthly Values'!CN61<>0,'Monthly Values'!CN61,\"\")","v":""},{"$f":"IF('Monthly Values'!CO61<>0,'Monthly Values'!CO61,\"\")","v":""},{"$f":"IF('Monthly Values'!CP61<>0,'Monthly Values'!CP61,\"\")","v":""},{"$f":"IF('Monthly Values'!CQ61<>0,'Monthly Values'!CQ61,\"\")","v":""},{"$f":"IF('Monthly Values'!CR61<>0,'Monthly Values'!CR61,\"\")","v":""},{"$f":"IF('Monthly Values'!CS61<>0,'Monthly Values'!CS61,\"\")","v":""},{"$f":"IF('Monthly Values'!CT61<>0,'Monthly Values'!CT61,\"\")","v":""},{"$f":"IF('Monthly Values'!CU61<>0,'Monthly Values'!CU61,\"\")","v":""},{"$f":"IF('Monthly Values'!CV61<>0,'Monthly Values'!CV61,\"\")","v":""},{"$f":"IF('Monthly Values'!CW61<>0,'Monthly Values'!CW61,\"\")","v":""},{"$f":"IF('Monthly Values'!CX61<>0,'Monthly Values'!CX61,\"\")","v":""},{"$f":"IF('Monthly Values'!CY61<>0,'Monthly Values'!CY61,\"\")","v":""},{"$f":"IF('Monthly Values'!CZ61<>0,'Monthly Values'!CZ61,\"\")","v":""},{"$f":"IF('Monthly Values'!DA61<>0,'Monthly Values'!DA61,\"\")","v":""},{"$f":"IF('Monthly Values'!DB61<>0,'Monthly Values'!DB61,\"\")","v":""},{"$f":"IF('Monthly Values'!DC61<>0,'Monthly Values'!DC61,\"\")","v":""},{"$f":"IF('Monthly Values'!DD61<>0,'Monthly Values'!DD61,\"\")","v":""},{"$f":"IF('Monthly Values'!DE61<>0,'Monthly Values'!DE61,\"\")","v":""},{"$f":"IF('Monthly Values'!DF61<>0,'Monthly Values'!DF61,\"\")","v":""},{"$f":"IF('Monthly Values'!DG61<>0,'Monthly Values'!DG61,\"\")","v":""},{"$f":"IF('Monthly Values'!DH61<>0,'Monthly Values'!DH61,\"\")","v":""},{"$f":"IF('Monthly Values'!DI61<>0,'Monthly Values'!DI61,\"\")","v":""},{"$f":"IF('Monthly Values'!DJ61<>0,'Monthly Values'!DJ61,\"\")","v":""},{"$f":"IF('Monthly Values'!DK61<>0,'Monthly Values'!DK61,\"\")","v":""},{"$f":"IF('Monthly Values'!DL61<>0,'Monthly Values'!DL61,\"\")","v":""},{"$f":"IF('Monthly Values'!DM61<>0,'Monthly Values'!DM61,\"\")","v":""},{"$f":"IF('Monthly Values'!DN61<>0,'Monthly Values'!DN61,\"\")","v":""},{"$f":"IF('Monthly Values'!DO61<>0,'Monthly Values'!DO61,\"\")","v":""},{"$f":"IF('Monthly Values'!DP61<>0,'Monthly Values'!DP61,\"\")","v":""},{"$f":"IF('Monthly Values'!DQ61<>0,'Monthly Values'!DQ61,\"\")","v":""},{"$f":"IF('Monthly Values'!DR61<>0,'Monthly Values'!DR61,\"\")","v":""},{"$f":"IF('Monthly Values'!DS61<>0,'Monthly Values'!DS61,\"\")","v":""},""]
[null,"2020-01-01",null,null,null,null,null,null,null,null,null,null,null,6,{"$f":"IF('Account Setup'!B24<>\"Select From Dropdown\",'Account Setup'!B24,\"\")","v":""},{"$f":"IF('Account Setup'!C24<>0,'Account Setup'!C24,\"\")","v":""},"",null,null,2,{"$f":"IF('Monthly Values'!D62<>0,'Monthly Values'!D62,\"\")","v":""},{"$f":"IF('Monthly Values'!E62<>0,'Monthly Values'!E62,\"\")","v":""},{"$f":"IF('Monthly Values'!F62<>0,'Monthly Values'!F62,\"\")","v":""},{"$f":"IF('Monthly Values'!G62<>0,'Monthly Values'!G62,\"\")","v":""},{"$f":"IF('Monthly Values'!H62<>0,'Monthly Values'!H62,\"\")","v":""},{"$f":"IF('Monthly Values'!I62<>0,'Monthly Values'!I62,\"\")","v":""},{"$f":"IF('Monthly Values'!J62<>0,'Monthly Values'!J62,\"\")","v":""},{"$f":"IF('Monthly Values'!K62<>0,'Monthly Values'!K62,\"\")","v":""},{"$f":"IF('Monthly Values'!L62<>0,'Monthly Values'!L62,\"\")","v":""},{"$f":"IF('Monthly Values'!M62<>0,'Monthly Values'!M62,\"\")","v":""},{"$f":"IF('Monthly Values'!N62<>0,'Monthly Values'!N62,\"\")","v":""},{"$f":"IF('Monthly Values'!O62<>0,'Monthly Values'!O62,\"\")","v":""},{"$f":"IF('Monthly Values'!P62<>0,'Monthly Values'!P62,\"\")","v":""},{"$f":"IF('Monthly Values'!Q62<>0,'Monthly Values'!Q62,\"\")","v":""},{"$f":"IF('Monthly Values'!R62<>0,'Monthly Values'!R62,\"\")","v":""},{"$f":"IF('Monthly Values'!S62<>0,'Monthly Values'!S62,\"\")","v":""},{"$f":"IF('Monthly Values'!T62<>0,'Monthly Values'!T62,\"\")","v":""},{"$f":"IF('Monthly Values'!U62<>0,'Monthly Values'!U62,\"\")","v":""},{"$f":"IF('Monthly Values'!V62<>0,'Monthly Values'!V62,\"\")","v":""},{"$f":"IF('Monthly Values'!W62<>0,'Monthly Values'!W62,\"\")","v":""},{"$f":"IF('Monthly Values'!X62<>0,'Monthly Values'!X62,\"\")","v":""},{"$f":"IF('Monthly Values'!Y62<>0,'Monthly Values'!Y62,\"\")","v":""},{"$f":"IF('Monthly Values'!Z62<>0,'Monthly Values'!Z62,\"\")","v":""},{"$f":"IF('Monthly Values'!AA62<>0,'Monthly Values'!AA62,\"\")","v":""},{"$f":"IF('Monthly Values'!AB62<>0,'Monthly Values'!AB62,\"\")","v":""},{"$f":"IF('Monthly Values'!AC62<>0,'Monthly Values'!AC62,\"\")","v":""},{"$f":"IF('Monthly Values'!AD62<>0,'Monthly Values'!AD62,\"\")","v":""},{"$f":"IF('Monthly Values'!AE62<>0,'Monthly Values'!AE62,\"\")","v":""},{"$f":"IF('Monthly Values'!AF62<>0,'Monthly Values'!AF62,\"\")","v":""},{"$f":"IF('Monthly Values'!AG62<>0,'Monthly Values'!AG62,\"\")","v":""},{"$f":"IF('Monthly Values'!AH62<>0,'Monthly Values'!AH62,\"\")","v":""},{"$f":"IF('Monthly Values'!AI62<>0,'Monthly Values'!AI62,\"\")","v":""},{"$f":"IF('Monthly Values'!AJ62<>0,'Monthly Values'!AJ62,\"\")","v":""},{"$f":"IF('Monthly Values'!AK62<>0,'Monthly Values'!AK62,\"\")","v":""},{"$f":"IF('Monthly Values'!AL62<>0,'Monthly Values'!AL62,\"\")","v":""},{"$f":"IF('Monthly Values'!AM62<>0,'Monthly Values'!AM62,\"\")","v":""},{"$f":"IF('Monthly Values'!AN62<>0,'Monthly Values'!AN62,\"\")","v":""},{"$f":"IF('Monthly Values'!AO62<>0,'Monthly Values'!AO62,\"\")","v":""},{"$f":"IF('Monthly Values'!AP62<>0,'Monthly Values'!AP62,\"\")","v":""},{"$f":"IF('Monthly Values'!AQ62<>0,'Monthly Values'!AQ62,\"\")","v":""},{"$f":"IF('Monthly Values'!AR62<>0,'Monthly Values'!AR62,\"\")","v":""},{"$f":"IF('Monthly Values'!AS62<>0,'Monthly Values'!AS62,\"\")","v":""},{"$f":"IF('Monthly Values'!AT62<>0,'Monthly Values'!AT62,\"\")","v":""},{"$f":"IF('Monthly Values'!AU62<>0,'Monthly Values'!AU62,\"\")","v":""},{"$f":"IF('Monthly Values'!AV62<>0,'Monthly Values'!AV62,\"\")","v":""},{"$f":"IF('Monthly Values'!AW62<>0,'Monthly Values'!AW62,\"\")","v":""},{"$f":"IF('Monthly Values'!AX62<>0,'Monthly Values'!AX62,\"\")","v":""},{"$f":"IF('Monthly Values'!AY62<>0,'Monthly Values'!AY62,\"\")","v":""},{"$f":"IF('Monthly Values'!AZ62<>0,'Monthly Values'!AZ62,\"\")","v":""},{"$f":"IF('Monthly Values'!BA62<>0,'Monthly Values'!BA62,\"\")","v":""},{"$f":"IF('Monthly Values'!BB62<>0,'Monthly Values'!BB62,\"\")","v":""},{"$f":"IF('Monthly Values'!BC62<>0,'Monthly Values'!BC62,\"\")","v":""},{"$f":"IF('Monthly Values'!BD62<>0,'Monthly Values'!BD62,\"\")","v":""},{"$f":"IF('Monthly Values'!BE62<>0,'Monthly Values'!BE62,\"\")","v":""},{"$f":"IF('Monthly Values'!BF62<>0,'Monthly Values'!BF62,\"\")","v":""},{"$f":"IF('Monthly Values'!BG62<>0,'Monthly Values'!BG62,\"\")","v":""},{"$f":"IF('Monthly Values'!BH62<>0,'Monthly Values'!BH62,\"\")","v":""},{"$f":"IF('Monthly Values'!BI62<>0,'Monthly Values'!BI62,\"\")","v":""},{"$f":"IF('Monthly Values'!BJ62<>0,'Monthly Values'!BJ62,\"\")","v":""},{"$f":"IF('Monthly Values'!BK62<>0,'Monthly Values'!BK62,\"\")","v":""},{"$f":"IF('Monthly Values'!BL62<>0,'Monthly Values'!BL62,\"\")","v":""},{"$f":"IF('Monthly Values'!BM62<>0,'Monthly Values'!BM62,\"\")","v":""},{"$f":"IF('Monthly Values'!BN62<>0,'Monthly Values'!BN62,\"\")","v":""},{"$f":"IF('Monthly Values'!BO62<>0,'Monthly Values'!BO62,\"\")","v":""},{"$f":"IF('Monthly Values'!BP62<>0,'Monthly Values'!BP62,\"\")","v":""},{"$f":"IF('Monthly Values'!BQ62<>0,'Monthly Values'!BQ62,\"\")","v":""},{"$f":"IF('Monthly Values'!BR62<>0,'Monthly Values'!BR62,\"\")","v":""},{"$f":"IF('Monthly Values'!BS62<>0,'Monthly Values'!BS62,\"\")","v":""},{"$f":"IF('Monthly Values'!BT62<>0,'Monthly Values'!BT62,\"\")","v":""},{"$f":"IF('Monthly Values'!BU62<>0,'Monthly Values'!BU62,\"\")","v":""},{"$f":"IF('Monthly Values'!BV62<>0,'Monthly Values'!BV62,\"\")","v":""},{"$f":"IF('Monthly Values'!BW62<>0,'Monthly Values'!BW62,\"\")","v":""},{"$f":"IF('Monthly Values'!BX62<>0,'Monthly Values'!BX62,\"\")","v":""},{"$f":"IF('Monthly Values'!BY62<>0,'Monthly Values'!BY62,\"\")","v":""},{"$f":"IF('Monthly Values'!BZ62<>0,'Monthly Values'!BZ62,\"\")","v":""},{"$f":"IF('Monthly Values'!CA62<>0,'Monthly Values'!CA62,\"\")","v":""},{"$f":"IF('Monthly Values'!CB62<>0,'Monthly Values'!CB62,\"\")","v":""},{"$f":"IF('Monthly Values'!CC62<>0,'Monthly Values'!CC62,\"\")","v":""},{"$f":"IF('Monthly Values'!CD62<>0,'Monthly Values'!CD62,\"\")","v":""},{"$f":"IF('Monthly Values'!CE62<>0,'Monthly Values'!CE62,\"\")","v":""},{"$f":"IF('Monthly Values'!CF62<>0,'Monthly Values'!CF62,\"\")","v":""},{"$f":"IF('Monthly Values'!CG62<>0,'Monthly Values'!CG62,\"\")","v":""},{"$f":"IF('Monthly Values'!CH62<>0,'Monthly Values'!CH62,\"\")","v":""},{"$f":"IF('Monthly Values'!CI62<>0,'Monthly Values'!CI62,\"\")","v":""},{"$f":"IF('Monthly Values'!CJ62<>0,'Monthly Values'!CJ62,\"\")","v":""},{"$f":"IF('Monthly Values'!CK62<>0,'Monthly Values'!CK62,\"\")","v":""},{"$f":"IF('Monthly Values'!CL62<>0,'Monthly Values'!CL62,\"\")","v":""},{"$f":"IF('Monthly Values'!CM62<>0,'Monthly Values'!CM62,\"\")","v":""},{"$f":"IF('Monthly Values'!CN62<>0,'Monthly Values'!CN62,\"\")","v":""},{"$f":"IF('Monthly Values'!CO62<>0,'Monthly Values'!CO62,\"\")","v":""},{"$f":"IF('Monthly Values'!CP62<>0,'Monthly Values'!CP62,\"\")","v":""},{"$f":"IF('Monthly Values'!CQ62<>0,'Monthly Values'!CQ62,\"\")","v":""},{"$f":"IF('Monthly Values'!CR62<>0,'Monthly Values'!CR62,\"\")","v":""},{"$f":"IF('Monthly Values'!CS62<>0,'Monthly Values'!CS62,\"\")","v":""},{"$f":"IF('Monthly Values'!CT62<>0,'Monthly Values'!CT62,\"\")","v":""},{"$f":"IF('Monthly Values'!CU62<>0,'Monthly Values'!CU62,\"\")","v":""},{"$f":"IF('Monthly Values'!CV62<>0,'Monthly Values'!CV62,\"\")","v":""},{"$f":"IF('Monthly Values'!CW62<>0,'Monthly Values'!CW62,\"\")","v":""},{"$f":"IF('Monthly Values'!CX62<>0,'Monthly Values'!CX62,\"\")","v":""},{"$f":"IF('Monthly Values'!CY62<>0,'Monthly Values'!CY62,\"\")","v":""},{"$f":"IF('Monthly Values'!CZ62<>0,'Monthly Values'!CZ62,\"\")","v":""},{"$f":"IF('Monthly Values'!DA62<>0,'Monthly Values'!DA62,\"\")","v":""},{"$f":"IF('Monthly Values'!DB62<>0,'Monthly Values'!DB62,\"\")","v":""},{"$f":"IF('Monthly Values'!DC62<>0,'Monthly Values'!DC62,\"\")","v":""},{"$f":"IF('Monthly Values'!DD62<>0,'Monthly Values'!DD62,\"\")","v":""},{"$f":"IF('Monthly Values'!DE62<>0,'Monthly Values'!DE62,\"\")","v":""},{"$f":"IF('Monthly Values'!DF62<>0,'Monthly Values'!DF62,\"\")","v":""},{"$f":"IF('Monthly Values'!DG62<>0,'Monthly Values'!DG62,\"\")","v":""},{"$f":"IF('Monthly Values'!DH62<>0,'Monthly Values'!DH62,\"\")","v":""},{"$f":"IF('Monthly Values'!DI62<>0,'Monthly Values'!DI62,\"\")","v":""},{"$f":"IF('Monthly Values'!DJ62<>0,'Monthly Values'!DJ62,\"\")","v":""},{"$f":"IF('Monthly Values'!DK62<>0,'Monthly Values'!DK62,\"\")","v":""},{"$f":"IF('Monthly Values'!DL62<>0,'Monthly Values'!DL62,\"\")","v":""},{"$f":"IF('Monthly Values'!DM62<>0,'Monthly Values'!DM62,\"\")","v":""},{"$f":"IF('Monthly Values'!DN62<>0,'Monthly Values'!DN62,\"\")","v":""},{"$f":"IF('Monthly Values'!DO62<>0,'Monthly Values'!DO62,\"\")","v":""},{"$f":"IF('Monthly Values'!DP62<>0,'Monthly Values'!DP62,\"\")","v":""},{"$f":"IF('Monthly Values'!DQ62<>0,'Monthly Values'!DQ62,\"\")","v":""},{"$f":"IF('Monthly Values'!DR62<>0,'Monthly Values'!DR62,\"\")","v":""},{"$f":"IF('Monthly Values'!DS62<>0,'Monthly Values'!DS62,\"\")","v":""},""]
[null,"2020-02-01",null,null,null,null,null,null,null,null,null,null,null,7,{"$f":"IF('Account Setup'!B25<>\"Select From Dropdown\",'Account Setup'!B25,\"\")","v":""},{"$f":"IF('Account Setup'!C25<>0,'Account Setup'!C25,\"\")","v":""},"",null,null,3,{"$f":"IF('Monthly Values'!D63<>0,'Monthly Values'!D63,\"\")","v":""},{"$f":"IF('Monthly Values'!E63<>0,'Monthly Values'!E63,\"\")","v":""},{"$f":"IF('Monthly Values'!F63<>0,'Monthly Values'!F63,\"\")","v":""},{"$f":"IF('Monthly Values'!G63<>0,'Monthly Values'!G63,\"\")","v":""},{"$f":"IF('Monthly Values'!H63<>0,'Monthly Values'!H63,\"\")","v":""},{"$f":"IF('Monthly Values'!I63<>0,'Monthly Values'!I63,\"\")","v":""},{"$f":"IF('Monthly Values'!J63<>0,'Monthly Values'!J63,\"\")","v":""},{"$f":"IF('Monthly Values'!K63<>0,'Monthly Values'!K63,\"\")","v":""},{"$f":"IF('Monthly Values'!L63<>0,'Monthly Values'!L63,\"\")","v":""},{"$f":"IF('Monthly Values'!M63<>0,'Monthly Values'!M63,\"\")","v":""},{"$f":"IF('Monthly Values'!N63<>0,'Monthly Values'!N63,\"\")","v":""},{"$f":"IF('Monthly Values'!O63<>0,'Monthly Values'!O63,\"\")","v":""},{"$f":"IF('Monthly Values'!P63<>0,'Monthly Values'!P63,\"\")","v":""},{"$f":"IF('Monthly Values'!Q63<>0,'Monthly Values'!Q63,\"\")","v":""},{"$f":"IF('Monthly Values'!R63<>0,'Monthly Values'!R63,\"\")","v":""},{"$f":"IF('Monthly Values'!S63<>0,'Monthly Values'!S63,\"\")","v":""},{"$f":"IF('Monthly Values'!T63<>0,'Monthly Values'!T63,\"\")","v":""},{"$f":"IF('Monthly Values'!U63<>0,'Monthly Values'!U63,\"\")","v":""},{"$f":"IF('Monthly Values'!V63<>0,'Monthly Values'!V63,\"\")","v":""},{"$f":"IF('Monthly Values'!W63<>0,'Monthly Values'!W63,\"\")","v":""},{"$f":"IF('Monthly Values'!X63<>0,'Monthly Values'!X63,\"\")","v":""},{"$f":"IF('Monthly Values'!Y63<>0,'Monthly Values'!Y63,\"\")","v":""},{"$f":"IF('Monthly Values'!Z63<>0,'Monthly Values'!Z63,\"\")","v":""},{"$f":"IF('Monthly Values'!AA63<>0,'Monthly Values'!AA63,\"\")","v":""},{"$f":"IF('Monthly Values'!AB63<>0,'Monthly Values'!AB63,\"\")","v":""},{"$f":"IF('Monthly Values'!AC63<>0,'Monthly Values'!AC63,\"\")","v":""},{"$f":"IF('Monthly Values'!AD63<>0,'Monthly Values'!AD63,\"\")","v":""},{"$f":"IF('Monthly Values'!AE63<>0,'Monthly Values'!AE63,\"\")","v":""},{"$f":"IF('Monthly Values'!AF63<>0,'Monthly Values'!AF63,\"\")","v":""},{"$f":"IF('Monthly Values'!AG63<>0,'Monthly Values'!AG63,\"\")","v":""},{"$f":"IF('Monthly Values'!AH63<>0,'Monthly Values'!AH63,\"\")","v":""},{"$f":"IF('Monthly Values'!AI63<>0,'Monthly Values'!AI63,\"\")","v":""},{"$f":"IF('Monthly Values'!AJ63<>0,'Monthly Values'!AJ63,\"\")","v":""},{"$f":"IF('Monthly Values'!AK63<>0,'Monthly Values'!AK63,\"\")","v":""},{"$f":"IF('Monthly Values'!AL63<>0,'Monthly Values'!AL63,\"\")","v":""},{"$f":"IF('Monthly Values'!AM63<>0,'Monthly Values'!AM63,\"\")","v":""},{"$f":"IF('Monthly Values'!AN63<>0,'Monthly Values'!AN63,\"\")","v":""},{"$f":"IF('Monthly Values'!AO63<>0,'Monthly Values'!AO63,\"\")","v":""},{"$f":"IF('Monthly Values'!AP63<>0,'Monthly Values'!AP63,\"\")","v":""},{"$f":"IF('Monthly Values'!AQ63<>0,'Monthly Values'!AQ63,\"\")","v":""},{"$f":"IF('Monthly Values'!AR63<>0,'Monthly Values'!AR63,\"\")","v":""},{"$f":"IF('Monthly Values'!AS63<>0,'Monthly Values'!AS63,\"\")","v":""},{"$f":"IF('Monthly Values'!AT63<>0,'Monthly Values'!AT63,\"\")","v":""},{"$f":"IF('Monthly Values'!AU63<>0,'Monthly Values'!AU63,\"\")","v":""},{"$f":"IF('Monthly Values'!AV63<>0,'Monthly Values'!AV63,\"\")","v":""},{"$f":"IF('Monthly Values'!AW63<>0,'Monthly Values'!AW63,\"\")","v":""},{"$f":"IF('Monthly Values'!AX63<>0,'Monthly Values'!AX63,\"\")","v":""},{"$f":"IF('Monthly Values'!AY63<>0,'Monthly Values'!AY63,\"\")","v":""},{"$f":"IF('Monthly Values'!AZ63<>0,'Monthly Values'!AZ63,\"\")","v":""},{"$f":"IF('Monthly Values'!BA63<>0,'Monthly Values'!BA63,\"\")","v":""},{"$f":"IF('Monthly Values'!BB63<>0,'Monthly Values'!BB63,\"\")","v":""},{"$f":"IF('Monthly Values'!BC63<>0,'Monthly Values'!BC63,\"\")","v":""},{"$f":"IF('Monthly Values'!BD63<>0,'Monthly Values'!BD63,\"\")","v":""},{"$f":"IF('Monthly Values'!BE63<>0,'Monthly Values'!BE63,\"\")","v":""},{"$f":"IF('Monthly Values'!BF63<>0,'Monthly Values'!BF63,\"\")","v":""},{"$f":"IF('Monthly Values'!BG63<>0,'Monthly Values'!BG63,\"\")","v":""},{"$f":"IF('Monthly Values'!BH63<>0,'Monthly Values'!BH63,\"\")","v":""},{"$f":"IF('Monthly Values'!BI63<>0,'Monthly Values'!BI63,\"\")","v":""},{"$f":"IF('Monthly Values'!BJ63<>0,'Monthly Values'!BJ63,\"\")","v":""},{"$f":"IF('Monthly Values'!BK63<>0,'Monthly Values'!BK63,\"\")","v":""},{"$f":"IF('Monthly Values'!BL63<>0,'Monthly Values'!BL63,\"\")","v":""},{"$f":"IF('Monthly Values'!BM63<>0,'Monthly Values'!BM63,\"\")","v":""},{"$f":"IF('Monthly Values'!BN63<>0,'Monthly Values'!BN63,\"\")","v":""},{"$f":"IF('Monthly Values'!BO63<>0,'Monthly Values'!BO63,\"\")","v":""},{"$f":"IF('Monthly Values'!BP63<>0,'Monthly Values'!BP63,\"\")","v":""},{"$f":"IF('Monthly Values'!BQ63<>0,'Monthly Values'!BQ63,\"\")","v":""},{"$f":"IF('Monthly Values'!BR63<>0,'Monthly Values'!BR63,\"\")","v":""},{"$f":"IF('Monthly Values'!BS63<>0,'Monthly Values'!BS63,\"\")","v":""},{"$f":"IF('Monthly Values'!BT63<>0,'Monthly Values'!BT63,\"\")","v":""},{"$f":"IF('Monthly Values'!BU63<>0,'Monthly Values'!BU63,\"\")","v":""},{"$f":"IF('Monthly Values'!BV63<>0,'Monthly Values'!BV63,\"\")","v":""},{"$f":"IF('Monthly Values'!BW63<>0,'Monthly Values'!BW63,\"\")","v":""},{"$f":"IF('Monthly Values'!BX63<>0,'Monthly Values'!BX63,\"\")","v":""},{"$f":"IF('Monthly Values'!BY63<>0,'Monthly Values'!BY63,\"\")","v":""},{"$f":"IF('Monthly Values'!BZ63<>0,'Monthly Values'!BZ63,\"\")","v":""},{"$f":"IF('Monthly Values'!CA63<>0,'Monthly Values'!CA63,\"\")","v":""},{"$f":"IF('Monthly Values'!CB63<>0,'Monthly Values'!CB63,\"\")","v":""},{"$f":"IF('Monthly Values'!CC63<>0,'Monthly Values'!CC63,\"\")","v":""},{"$f":"IF('Monthly Values'!CD63<>0,'Monthly Values'!CD63,\"\")","v":""},{"$f":"IF('Monthly Values'!CE63<>0,'Monthly Values'!CE63,\"\")","v":""},{"$f":"IF('Monthly Values'!CF63<>0,'Monthly Values'!CF63,\"\")","v":""},{"$f":"IF('Monthly Values'!CG63<>0,'Monthly Values'!CG63,\"\")","v":""},{"$f":"IF('Monthly Values'!CH63<>0,'Monthly Values'!CH63,\"\")","v":""},{"$f":"IF('Monthly Values'!CI63<>0,'Monthly Values'!CI63,\"\")","v":""},{"$f":"IF('Monthly Values'!CJ63<>0,'Monthly Values'!CJ63,\"\")","v":""},{"$f":"IF('Monthly Values'!CK63<>0,'Monthly Values'!CK63,\"\")","v":""},{"$f":"IF('Monthly Values'!CL63<>0,'Monthly Values'!CL63,\"\")","v":""},{"$f":"IF('Monthly Values'!CM63<>0,'Monthly Values'!CM63,\"\")","v":""},{"$f":"IF('Monthly Values'!CN63<>0,'Monthly Values'!CN63,\"\")","v":""},{"$f":"IF('Monthly Values'!CO63<>0,'Monthly Values'!CO63,\"\")","v":""},{"$f":"IF('Monthly Values'!CP63<>0,'Monthly Values'!CP63,\"\")","v":""},{"$f":"IF('Monthly Values'!CQ63<>0,'Monthly Values'!CQ63,\"\")","v":""},{"$f":"IF('Monthly Values'!CR63<>0,'Monthly Values'!CR63,\"\")","v":""},{"$f":"IF('Monthly Values'!CS63<>0,'Monthly Values'!CS63,\"\")","v":""},{"$f":"IF('Monthly Values'!CT63<>0,'Monthly Values'!CT63,\"\")","v":""},{"$f":"IF('Monthly Values'!CU63<>0,'Monthly Values'!CU63,\"\")","v":""},{"$f":"IF('Monthly Values'!CV63<>0,'Monthly Values'!CV63,\"\")","v":""},{"$f":"IF('Monthly Values'!CW63<>0,'Monthly Values'!CW63,\"\")","v":""},{"$f":"IF('Monthly Values'!CX63<>0,'Monthly Values'!CX63,\"\")","v":""},{"$f":"IF('Monthly Values'!CY63<>0,'Monthly Values'!CY63,\"\")","v":""},{"$f":"IF('Monthly Values'!CZ63<>0,'Monthly Values'!CZ63,\"\")","v":""},{"$f":"IF('Monthly Values'!DA63<>0,'Monthly Values'!DA63,\"\")","v":""},{"$f":"IF('Monthly Values'!DB63<>0,'Monthly Values'!DB63,\"\")","v":""},{"$f":"IF('Monthly Values'!DC63<>0,'Monthly Values'!DC63,\"\")","v":""},{"$f":"IF('Monthly Values'!DD63<>0,'Monthly Values'!DD63,\"\")","v":""},{"$f":"IF('Monthly Values'!DE63<>0,'Monthly Values'!DE63,\"\")","v":""},{"$f":"IF('Monthly Values'!DF63<>0,'Monthly Values'!DF63,\"\")","v":""},{"$f":"IF('Monthly Values'!DG63<>0,'Monthly Values'!DG63,\"\")","v":""},{"$f":"IF('Monthly Values'!DH63<>0,'Monthly Values'!DH63,\"\")","v":""},{"$f":"IF('Monthly Values'!DI63<>0,'Monthly Values'!DI63,\"\")","v":""},{"$f":"IF('Monthly Values'!DJ63<>0,'Monthly Values'!DJ63,\"\")","v":""},{"$f":"IF('Monthly Values'!DK63<>0,'Monthly Values'!DK63,\"\")","v":""},{"$f":"IF('Monthly Values'!DL63<>0,'Monthly Values'!DL63,\"\")","v":""},{"$f":"IF('Monthly Values'!DM63<>0,'Monthly Values'!DM63,\"\")","v":""},{"$f":"IF('Monthly Values'!DN63<>0,'Monthly Values'!DN63,\"\")","v":""},{"$f":"IF('Monthly Values'!DO63<>0,'Monthly Values'!DO63,\"\")","v":""},{"$f":"IF('Monthly Values'!DP63<>0,'Monthly Values'!DP63,\"\")","v":""},{"$f":"IF('Monthly Values'!DQ63<>0,'Monthly Values'!DQ63,\"\")","v":""},{"$f":"IF('Monthly Values'!DR63<>0,'Monthly Values'!DR63,\"\")","v":""},{"$f":"IF('Monthly Values'!DS63<>0,'Monthly Values'!DS63,\"\")","v":""},""]
[null,"2020-03-01",null,null,null,null,null,null,null,null,null,null,null,8,{"$f":"IF('Account Setup'!B26<>\"Select From Dropdown\",'Account Setup'!B26,\"\")","v":""},{"$f":"IF('Account Setup'!C26<>0,'Account Setup'!C26,\"\")","v":""},"",null,null,4,{"$f":"IF('Monthly Values'!D64<>0,'Monthly Values'!D64,\"\")","v":""},{"$f":"IF('Monthly Values'!E64<>0,'Monthly Values'!E64,\"\")","v":""},{"$f":"IF('Monthly Values'!F64<>0,'Monthly Values'!F64,\"\")","v":""},{"$f":"IF('Monthly Values'!G64<>0,'Monthly Values'!G64,\"\")","v":""},{"$f":"IF('Monthly Values'!H64<>0,'Monthly Values'!H64,\"\")","v":""},{"$f":"IF('Monthly Values'!I64<>0,'Monthly Values'!I64,\"\")","v":""},{"$f":"IF('Monthly Values'!J64<>0,'Monthly Values'!J64,\"\")","v":""},{"$f":"IF('Monthly Values'!K64<>0,'Monthly Values'!K64,\"\")","v":""},{"$f":"IF('Monthly Values'!L64<>0,'Monthly Values'!L64,\"\")","v":""},{"$f":"IF('Monthly Values'!M64<>0,'Monthly Values'!M64,\"\")","v":""},{"$f":"IF('Monthly Values'!N64<>0,'Monthly Values'!N64,\"\")","v":""},{"$f":"IF('Monthly Values'!O64<>0,'Monthly Values'!O64,\"\")","v":""},{"$f":"IF('Monthly Values'!P64<>0,'Monthly Values'!P64,\"\")","v":""},{"$f":"IF('Monthly Values'!Q64<>0,'Monthly Values'!Q64,\"\")","v":""},{"$f":"IF('Monthly Values'!R64<>0,'Monthly Values'!R64,\"\")","v":""},{"$f":"IF('Monthly Values'!S64<>0,'Monthly Values'!S64,\"\")","v":""},{"$f":"IF('Monthly Values'!T64<>0,'Monthly Values'!T64,\"\")","v":""},{"$f":"IF('Monthly Values'!U64<>0,'Monthly Values'!U64,\"\")","v":""},{"$f":"IF('Monthly Values'!V64<>0,'Monthly Values'!V64,\"\")","v":""},{"$f":"IF('Monthly Values'!W64<>0,'Monthly Values'!W64,\"\")","v":""},{"$f":"IF('Monthly Values'!X64<>0,'Monthly Values'!X64,\"\")","v":""},{"$f":"IF('Monthly Values'!Y64<>0,'Monthly Values'!Y64,\"\")","v":""},{"$f":"IF('Monthly Values'!Z64<>0,'Monthly Values'!Z64,\"\")","v":""},{"$f":"IF('Monthly Values'!AA64<>0,'Monthly Values'!AA64,\"\")","v":""},{"$f":"IF('Monthly Values'!AB64<>0,'Monthly Values'!AB64,\"\")","v":""},{"$f":"IF('Monthly Values'!AC64<>0,'Monthly Values'!AC64,\"\")","v":""},{"$f":"IF('Monthly Values'!AD64<>0,'Monthly Values'!AD64,\"\")","v":""},{"$f":"IF('Monthly Values'!AE64<>0,'Monthly Values'!AE64,\"\")","v":""},{"$f":"IF('Monthly Values'!AF64<>0,'Monthly Values'!AF64,\"\")","v":""},{"$f":"IF('Monthly Values'!AG64<>0,'Monthly Values'!AG64,\"\")","v":""},{"$f":"IF('Monthly Values'!AH64<>0,'Monthly Values'!AH64,\"\")","v":""},{"$f":"IF('Monthly Values'!AI64<>0,'Monthly Values'!AI64,\"\")","v":""},{"$f":"IF('Monthly Values'!AJ64<>0,'Monthly Values'!AJ64,\"\")","v":""},{"$f":"IF('Monthly Values'!AK64<>0,'Monthly Values'!AK64,\"\")","v":""},{"$f":"IF('Monthly Values'!AL64<>0,'Monthly Values'!AL64,\"\")","v":""},{"$f":"IF('Monthly Values'!AM64<>0,'Monthly Values'!AM64,\"\")","v":""},{"$f":"IF('Monthly Values'!AN64<>0,'Monthly Values'!AN64,\"\")","v":""},{"$f":"IF('Monthly Values'!AO64<>0,'Monthly Values'!AO64,\"\")","v":""},{"$f":"IF('Monthly Values'!AP64<>0,'Monthly Values'!AP64,\"\")","v":""},{"$f":"IF('Monthly Values'!AQ64<>0,'Monthly Values'!AQ64,\"\")","v":""},{"$f":"IF('Monthly Values'!AR64<>0,'Monthly Values'!AR64,\"\")","v":""},{"$f":"IF('Monthly Values'!AS64<>0,'Monthly Values'!AS64,\"\")","v":""},{"$f":"IF('Monthly Values'!AT64<>0,'Monthly Values'!AT64,\"\")","v":""},{"$f":"IF('Monthly Values'!AU64<>0,'Monthly Values'!AU64,\"\")","v":""},{"$f":"IF('Monthly Values'!AV64<>0,'Monthly Values'!AV64,\"\")","v":""},{"$f":"IF('Monthly Values'!AW64<>0,'Monthly Values'!AW64,\"\")","v":""},{"$f":"IF('Monthly Values'!AX64<>0,'Monthly Values'!AX64,\"\")","v":""},{"$f":"IF('Monthly Values'!AY64<>0,'Monthly Values'!AY64,\"\")","v":""},{"$f":"IF('Monthly Values'!AZ64<>0,'Monthly Values'!AZ64,\"\")","v":""},{"$f":"IF('Monthly Values'!BA64<>0,'Monthly Values'!BA64,\"\")","v":""},{"$f":"IF('Monthly Values'!BB64<>0,'Monthly Values'!BB64,\"\")","v":""},{"$f":"IF('Monthly Values'!BC64<>0,'Monthly Values'!BC64,\"\")","v":""},{"$f":"IF('Monthly Values'!BD64<>0,'Monthly Values'!BD64,\"\")","v":""},{"$f":"IF('Monthly Values'!BE64<>0,'Monthly Values'!BE64,\"\")","v":""},{"$f":"IF('Monthly Values'!BF64<>0,'Monthly Values'!BF64,\"\")","v":""},{"$f":"IF('Monthly Values'!BG64<>0,'Monthly Values'!BG64,\"\")","v":""},{"$f":"IF('Monthly Values'!BH64<>0,'Monthly Values'!BH64,\"\")","v":""},{"$f":"IF('Monthly Values'!BI64<>0,'Monthly Values'!BI64,\"\")","v":""},{"$f":"IF('Monthly Values'!BJ64<>0,'Monthly Values'!BJ64,\"\")","v":""},{"$f":"IF('Monthly Values'!BK64<>0,'Monthly Values'!BK64,\"\")","v":""},{"$f":"IF('Monthly Values'!BL64<>0,'Monthly Values'!BL64,\"\")","v":""},{"$f":"IF('Monthly Values'!BM64<>0,'Monthly Values'!BM64,\"\")","v":""},{"$f":"IF('Monthly Values'!BN64<>0,'Monthly Values'!BN64,\"\")","v":""},{"$f":"IF('Monthly Values'!BO64<>0,'Monthly Values'!BO64,\"\")","v":""},{"$f":"IF('Monthly Values'!BP64<>0,'Monthly Values'!BP64,\"\")","v":""},{"$f":"IF('Monthly Values'!BQ64<>0,'Monthly Values'!BQ64,\"\")","v":""},{"$f":"IF('Monthly Values'!BR64<>0,'Monthly Values'!BR64,\"\")","v":""},{"$f":"IF('Monthly Values'!BS64<>0,'Monthly Values'!BS64,\"\")","v":""},{"$f":"IF('Monthly Values'!BT64<>0,'Monthly Values'!BT64,\"\")","v":""},{"$f":"IF('Monthly Values'!BU64<>0,'Monthly Values'!BU64,\"\")","v":""},{"$f":"IF('Monthly Values'!BV64<>0,'Monthly Values'!BV64,\"\")","v":""},{"$f":"IF('Monthly Values'!BW64<>0,'Monthly Values'!BW64,\"\")","v":""},{"$f":"IF('Monthly Values'!BX64<>0,'Monthly Values'!BX64,\"\")","v":""},{"$f":"IF('Monthly Values'!BY64<>0,'Monthly Values'!BY64,\"\")","v":""},{"$f":"IF('Monthly Values'!BZ64<>0,'Monthly Values'!BZ64,\"\")","v":""},{"$f":"IF('Monthly Values'!CA64<>0,'Monthly Values'!CA64,\"\")","v":""},{"$f":"IF('Monthly Values'!CB64<>0,'Monthly Values'!CB64,\"\")","v":""},{"$f":"IF('Monthly Values'!CC64<>0,'Monthly Values'!CC64,\"\")","v":""},{"$f":"IF('Monthly Values'!CD64<>0,'Monthly Values'!CD64,\"\")","v":""},{"$f":"IF('Monthly Values'!CE64<>0,'Monthly Values'!CE64,\"\")","v":""},{"$f":"IF('Monthly Values'!CF64<>0,'Monthly Values'!CF64,\"\")","v":""},{"$f":"IF('Monthly Values'!CG64<>0,'Monthly Values'!CG64,\"\")","v":""},{"$f":"IF('Monthly Values'!CH64<>0,'Monthly Values'!CH64,\"\")","v":""},{"$f":"IF('Monthly Values'!CI64<>0,'Monthly Values'!CI64,\"\")","v":""},{"$f":"IF('Monthly Values'!CJ64<>0,'Monthly Values'!CJ64,\"\")","v":""},{"$f":"IF('Monthly Values'!CK64<>0,'Monthly Values'!CK64,\"\")","v":""},{"$f":"IF('Monthly Values'!CL64<>0,'Monthly Values'!CL64,\"\")","v":""},{"$f":"IF('Monthly Values'!CM64<>0,'Monthly Values'!CM64,\"\")","v":""},{"$f":"IF('Monthly Values'!CN64<>0,'Monthly Values'!CN64,\"\")","v":""},{"$f":"IF('Monthly Values'!CO64<>0,'Monthly Values'!CO64,\"\")","v":""},{"$f":"IF('Monthly Values'!CP64<>0,'Monthly Values'!CP64,\"\")","v":""},{"$f":"IF('Monthly Values'!CQ64<>0,'Monthly Values'!CQ64,\"\")","v":""},{"$f":"IF('Monthly Values'!CR64<>0,'Monthly Values'!CR64,\"\")","v":""},{"$f":"IF('Monthly Values'!CS64<>0,'Monthly Values'!CS64,\"\")","v":""},{"$f":"IF('Monthly Values'!CT64<>0,'Monthly Values'!CT64,\"\")","v":""},{"$f":"IF('Monthly Values'!CU64<>0,'Monthly Values'!CU64,\"\")","v":""},{"$f":"IF('Monthly Values'!CV64<>0,'Monthly Values'!CV64,\"\")","v":""},{"$f":"IF('Monthly Values'!CW64<>0,'Monthly Values'!CW64,\"\")","v":""},{"$f":"IF('Monthly Values'!CX64<>0,'Monthly Values'!CX64,\"\")","v":""},{"$f":"IF('Monthly Values'!CY64<>0,'Monthly Values'!CY64,\"\")","v":""},{"$f":"IF('Monthly Values'!CZ64<>0,'Monthly Values'!CZ64,\"\")","v":""},{"$f":"IF('Monthly Values'!DA64<>0,'Monthly Values'!DA64,\"\")","v":""},{"$f":"IF('Monthly Values'!DB64<>0,'Monthly Values'!DB64,\"\")","v":""},{"$f":"IF('Monthly Values'!DC64<>0,'Monthly Values'!DC64,\"\")","v":""},{"$f":"IF('Monthly Values'!DD64<>0,'Monthly Values'!DD64,\"\")","v":""},{"$f":"IF('Monthly Values'!DE64<>0,'Monthly Values'!DE64,\"\")","v":""},{"$f":"IF('Monthly Values'!DF64<>0,'Monthly Values'!DF64,\"\")","v":""},{"$f":"IF('Monthly Values'!DG64<>0,'Monthly Values'!DG64,\"\")","v":""},{"$f":"IF('Monthly Values'!DH64<>0,'Monthly Values'!DH64,\"\")","v":""},{"$f":"IF('Monthly Values'!DI64<>0,'Monthly Values'!DI64,\"\")","v":""},{"$f":"IF('Monthly Values'!DJ64<>0,'Monthly Values'!DJ64,\"\")","v":""},{"$f":"IF('Monthly Values'!DK64<>0,'Monthly Values'!DK64,\"\")","v":""},{"$f":"IF('Monthly Values'!DL64<>0,'Monthly Values'!DL64,\"\")","v":""},{"$f":"IF('Monthly Values'!DM64<>0,'Monthly Values'!DM64,\"\")","v":""},{"$f":"IF('Monthly Values'!DN64<>0,'Monthly Values'!DN64,\"\")","v":""},{"$f":"IF('Monthly Values'!DO64<>0,'Monthly Values'!DO64,\"\")","v":""},{"$f":"IF('Monthly Values'!DP64<>0,'Monthly Values'!DP64,\"\")","v":""},{"$f":"IF('Monthly Values'!DQ64<>0,'Monthly Values'!DQ64,\"\")","v":""},{"$f":"IF('Monthly Values'!DR64<>0,'Monthly Values'!DR64,\"\")","v":""},{"$f":"IF('Monthly Values'!DS64<>0,'Monthly Values'!DS64,\"\")","v":""},""]
[null,"2020-04-01",null,null,null,null,null,null,null,null,null,null,null,9,{"$f":"IF('Account Setup'!B27<>\"Select From Dropdown\",'Account Setup'!B27,\"\")","v":""},{"$f":"IF('Account Setup'!C27<>0,'Account Setup'!C27,\"\")","v":""},"",null,null,5,{"$f":"IF('Monthly Values'!D65<>0,'Monthly Values'!D65,\"\")","v":""},{"$f":"IF('Monthly Values'!E65<>0,'Monthly Values'!E65,\"\")","v":""},{"$f":"IF('Monthly Values'!F65<>0,'Monthly Values'!F65,\"\")","v":""},{"$f":"IF('Monthly Values'!G65<>0,'Monthly Values'!G65,\"\")","v":""},{"$f":"IF('Monthly Values'!H65<>0,'Monthly Values'!H65,\"\")","v":""},{"$f":"IF('Monthly Values'!I65<>0,'Monthly Values'!I65,\"\")","v":""},{"$f":"IF('Monthly Values'!J65<>0,'Monthly Values'!J65,\"\")","v":""},{"$f":"IF('Monthly Values'!K65<>0,'Monthly Values'!K65,\"\")","v":""},{"$f":"IF('Monthly Values'!L65<>0,'Monthly Values'!L65,\"\")","v":""},{"$f":"IF('Monthly Values'!M65<>0,'Monthly Values'!M65,\"\")","v":""},{"$f":"IF('Monthly Values'!N65<>0,'Monthly Values'!N65,\"\")","v":""},{"$f":"IF('Monthly Values'!O65<>0,'Monthly Values'!O65,\"\")","v":""},{"$f":"IF('Monthly Values'!P65<>0,'Monthly Values'!P65,\"\")","v":""},{"$f":"IF('Monthly Values'!Q65<>0,'Monthly Values'!Q65,\"\")","v":""},{"$f":"IF('Monthly Values'!R65<>0,'Monthly Values'!R65,\"\")","v":""},{"$f":"IF('Monthly Values'!S65<>0,'Monthly Values'!S65,\"\")","v":""},{"$f":"IF('Monthly Values'!T65<>0,'Monthly Values'!T65,\"\")","v":""},{"$f":"IF('Monthly Values'!U65<>0,'Monthly Values'!U65,\"\")","v":""},{"$f":"IF('Monthly Values'!V65<>0,'Monthly Values'!V65,\"\")","v":""},{"$f":"IF('Monthly Values'!W65<>0,'Monthly Values'!W65,\"\")","v":""},{"$f":"IF('Monthly Values'!X65<>0,'Monthly Values'!X65,\"\")","v":""},{"$f":"IF('Monthly Values'!Y65<>0,'Monthly Values'!Y65,\"\")","v":""},{"$f":"IF('Monthly Values'!Z65<>0,'Monthly Values'!Z65,\"\")","v":""},{"$f":"IF('Monthly Values'!AA65<>0,'Monthly Values'!AA65,\"\")","v":""},{"$f":"IF('Monthly Values'!AB65<>0,'Monthly Values'!AB65,\"\")","v":""},{"$f":"IF('Monthly Values'!AC65<>0,'Monthly Values'!AC65,\"\")","v":""},{"$f":"IF('Monthly Values'!AD65<>0,'Monthly Values'!AD65,\"\")","v":""},{"$f":"IF('Monthly Values'!AE65<>0,'Monthly Values'!AE65,\"\")","v":""},{"$f":"IF('Monthly Values'!AF65<>0,'Monthly Values'!AF65,\"\")","v":""},{"$f":"IF('Monthly Values'!AG65<>0,'Monthly Values'!AG65,\"\")","v":""},{"$f":"IF('Monthly Values'!AH65<>0,'Monthly Values'!AH65,\"\")","v":""},{"$f":"IF('Monthly Values'!AI65<>0,'Monthly Values'!AI65,\"\")","v":""},{"$f":"IF('Monthly Values'!AJ65<>0,'Monthly Values'!AJ65,\"\")","v":""},{"$f":"IF('Monthly Values'!AK65<>0,'Monthly Values'!AK65,\"\")","v":""},{"$f":"IF('Monthly Values'!AL65<>0,'Monthly Values'!AL65,\"\")","v":""},{"$f":"IF('Monthly Values'!AM65<>0,'Monthly Values'!AM65,\"\")","v":""},{"$f":"IF('Monthly Values'!AN65<>0,'Monthly Values'!AN65,\"\")","v":""},{"$f":"IF('Monthly Values'!AO65<>0,'Monthly Values'!AO65,\"\")","v":""},{"$f":"IF('Monthly Values'!AP65<>0,'Monthly Values'!AP65,\"\")","v":""},{"$f":"IF('Monthly Values'!AQ65<>0,'Monthly Values'!AQ65,\"\")","v":""},{"$f":"IF('Monthly Values'!AR65<>0,'Monthly Values'!AR65,\"\")","v":""},{"$f":"IF('Monthly Values'!AS65<>0,'Monthly Values'!AS65,\"\")","v":""},{"$f":"IF('Monthly Values'!AT65<>0,'Monthly Values'!AT65,\"\")","v":""},{"$f":"IF('Monthly Values'!AU65<>0,'Monthly Values'!AU65,\"\")","v":""},{"$f":"IF('Monthly Values'!AV65<>0,'Monthly Values'!AV65,\"\")","v":""},{"$f":"IF('Monthly Values'!AW65<>0,'Monthly Values'!AW65,\"\")","v":""},{"$f":"IF('Monthly Values'!AX65<>0,'Monthly Values'!AX65,\"\")","v":""},{"$f":"IF('Monthly Values'!AY65<>0,'Monthly Values'!AY65,\"\")","v":""},{"$f":"IF('Monthly Values'!AZ65<>0,'Monthly Values'!AZ65,\"\")","v":""},{"$f":"IF('Monthly Values'!BA65<>0,'Monthly Values'!BA65,\"\")","v":""},{"$f":"IF('Monthly Values'!BB65<>0,'Monthly Values'!BB65,\"\")","v":""},{"$f":"IF('Monthly Values'!BC65<>0,'Monthly Values'!BC65,\"\")","v":""},{"$f":"IF('Monthly Values'!BD65<>0,'Monthly Values'!BD65,\"\")","v":""},{"$f":"IF('Monthly Values'!BE65<>0,'Monthly Values'!BE65,\"\")","v":""},{"$f":"IF('Monthly Values'!BF65<>0,'Monthly Values'!BF65,\"\")","v":""},{"$f":"IF('Monthly Values'!BG65<>0,'Monthly Values'!BG65,\"\")","v":""},{"$f":"IF('Monthly Values'!BH65<>0,'Monthly Values'!BH65,\"\")","v":""},{"$f":"IF('Monthly Values'!BI65<>0,'Monthly Values'!BI65,\"\")","v":""},{"$f":"IF('Monthly Values'!BJ65<>0,'Monthly Values'!BJ65,\"\")","v":""},{"$f":"IF('Monthly Values'!BK65<>0,'Monthly Values'!BK65,\"\")","v":""},{"$f":"IF('Monthly Values'!BL65<>0,'Monthly Values'!BL65,\"\")","v":""},{"$f":"IF('Monthly Values'!BM65<>0,'Monthly Values'!BM65,\"\")","v":""},{"$f":"IF('Monthly Values'!BN65<>0,'Monthly Values'!BN65,\"\")","v":""},{"$f":"IF('Monthly Values'!BO65<>0,'Monthly Values'!BO65,\"\")","v":""},{"$f":"IF('Monthly Values'!BP65<>0,'Monthly Values'!BP65,\"\")","v":""},{"$f":"IF('Monthly Values'!BQ65<>0,'Monthly Values'!BQ65,\"\")","v":""},{"$f":"IF('Monthly Values'!BR65<>0,'Monthly Values'!BR65,\"\")","v":""},{"$f":"IF('Monthly Values'!BS65<>0,'Monthly Values'!BS65,\"\")","v":""},{"$f":"IF('Monthly Values'!BT65<>0,'Monthly Values'!BT65,\"\")","v":""},{"$f":"IF('Monthly Values'!BU65<>0,'Monthly Values'!BU65,\"\")","v":""},{"$f":"IF('Monthly Values'!BV65<>0,'Monthly Values'!BV65,\"\")","v":""},{"$f":"IF('Monthly Values'!BW65<>0,'Monthly Values'!BW65,\"\")","v":""},{"$f":"IF('Monthly Values'!BX65<>0,'Monthly Values'!BX65,\"\")","v":""},{"$f":"IF('Monthly Values'!BY65<>0,'Monthly Values'!BY65,\"\")","v":""},{"$f":"IF('Monthly Values'!BZ65<>0,'Monthly Values'!BZ65,\"\")","v":""},{"$f":"IF('Monthly Values'!CA65<>0,'Monthly Values'!CA65,\"\")","v":""},{"$f":"IF('Monthly Values'!CB65<>0,'Monthly Values'!CB65,\"\")","v":""},{"$f":"IF('Monthly Values'!CC65<>0,'Monthly Values'!CC65,\"\")","v":""},{"$f":"IF('Monthly Values'!CD65<>0,'Monthly Values'!CD65,\"\")","v":""},{"$f":"IF('Monthly Values'!CE65<>0,'Monthly Values'!CE65,\"\")","v":""},{"$f":"IF('Monthly Values'!CF65<>0,'Monthly Values'!CF65,\"\")","v":""},{"$f":"IF('Monthly Values'!CG65<>0,'Monthly Values'!CG65,\"\")","v":""},{"$f":"IF('Monthly Values'!CH65<>0,'Monthly Values'!CH65,\"\")","v":""},{"$f":"IF('Monthly Values'!CI65<>0,'Monthly Values'!CI65,\"\")","v":""},{"$f":"IF('Monthly Values'!CJ65<>0,'Monthly Values'!CJ65,\"\")","v":""},{"$f":"IF('Monthly Values'!CK65<>0,'Monthly Values'!CK65,\"\")","v":""},{"$f":"IF('Monthly Values'!CL65<>0,'Monthly Values'!CL65,\"\")","v":""},{"$f":"IF('Monthly Values'!CM65<>0,'Monthly Values'!CM65,\"\")","v":""},{"$f":"IF('Monthly Values'!CN65<>0,'Monthly Values'!CN65,\"\")","v":""},{"$f":"IF('Monthly Values'!CO65<>0,'Monthly Values'!CO65,\"\")","v":""},{"$f":"IF('Monthly Values'!CP65<>0,'Monthly Values'!CP65,\"\")","v":""},{"$f":"IF('Monthly Values'!CQ65<>0,'Monthly Values'!CQ65,\"\")","v":""},{"$f":"IF('Monthly Values'!CR65<>0,'Monthly Values'!CR65,\"\")","v":""},{"$f":"IF('Monthly Values'!CS65<>0,'Monthly Values'!CS65,\"\")","v":""},{"$f":"IF('Monthly Values'!CT65<>0,'Monthly Values'!CT65,\"\")","v":""},{"$f":"IF('Monthly Values'!CU65<>0,'Monthly Values'!CU65,\"\")","v":""},{"$f":"IF('Monthly Values'!CV65<>0,'Monthly Values'!CV65,\"\")","v":""},{"$f":"IF('Monthly Values'!CW65<>0,'Monthly Values'!CW65,\"\")","v":""},{"$f":"IF('Monthly Values'!CX65<>0,'Monthly Values'!CX65,\"\")","v":""},{"$f":"IF('Monthly Values'!CY65<>0,'Monthly Values'!CY65,\"\")","v":""},{"$f":"IF('Monthly Values'!CZ65<>0,'Monthly Values'!CZ65,\"\")","v":""},{"$f":"IF('Monthly Values'!DA65<>0,'Monthly Values'!DA65,\"\")","v":""},{"$f":"IF('Monthly Values'!DB65<>0,'Monthly Values'!DB65,\"\")","v":""},{"$f":"IF('Monthly Values'!DC65<>0,'Monthly Values'!DC65,\"\")","v":""},{"$f":"IF('Monthly Values'!DD65<>0,'Monthly Values'!DD65,\"\")","v":""},{"$f":"IF('Monthly Values'!DE65<>0,'Monthly Values'!DE65,\"\")","v":""},{"$f":"IF('Monthly Values'!DF65<>0,'Monthly Values'!DF65,\"\")","v":""},{"$f":"IF('Monthly Values'!DG65<>0,'Monthly Values'!DG65,\"\")","v":""},{"$f":"IF('Monthly Values'!DH65<>0,'Monthly Values'!DH65,\"\")","v":""},{"$f":"IF('Monthly Values'!DI65<>0,'Monthly Values'!DI65,\"\")","v":""},{"$f":"IF('Monthly Values'!DJ65<>0,'Monthly Values'!DJ65,\"\")","v":""},{"$f":"IF('Monthly Values'!DK65<>0,'Monthly Values'!DK65,\"\")","v":""},{"$f":"IF('Monthly Values'!DL65<>0,'Monthly Values'!DL65,\"\")","v":""},{"$f":"IF('Monthly Values'!DM65<>0,'Monthly Values'!DM65,\"\")","v":""},{"$f":"IF('Monthly Values'!DN65<>0,'Monthly Values'!DN65,\"\")","v":""},{"$f":"IF('Monthly Values'!DO65<>0,'Monthly Values'!DO65,\"\")","v":""},{"$f":"IF('Monthly Values'!DP65<>0,'Monthly Values'!DP65,\"\")","v":""},{"$f":"IF('Monthly Values'!DQ65<>0,'Monthly Values'!DQ65,\"\")","v":""},{"$f":"IF('Monthly Values'!DR65<>0,'Monthly Values'!DR65,\"\")","v":""},{"$f":"IF('Monthly Values'!DS65<>0,'Monthly Values'!DS65,\"\")","v":""},""]
[null,"2020-05-01",null,null,null,null,null,null,null,null,null,null,null,10,{"$f":"IF('Account Setup'!B28<>\"Select From Dropdown\",'Account Setup'!B28,\"\")","v":""},{"$f":"IF('Account Setup'!C28<>0,'Account Setup'!C28,\"\")","v":""},"",null,null,6,{"$f":"IF('Monthly Values'!D66<>0,'Monthly Values'!D66,\"\")","v":""},{"$f":"IF('Monthly Values'!E66<>0,'Monthly Values'!E66,\"\")","v":""},{"$f":"IF('Monthly Values'!F66<>0,'Monthly Values'!F66,\"\")","v":""},{"$f":"IF('Monthly Values'!G66<>0,'Monthly Values'!G66,\"\")","v":""},{"$f":"IF('Monthly Values'!H66<>0,'Monthly Values'!H66,\"\")","v":""},{"$f":"IF('Monthly Values'!I66<>0,'Monthly Values'!I66,\"\")","v":""},{"$f":"IF('Monthly Values'!J66<>0,'Monthly Values'!J66,\"\")","v":""},{"$f":"IF('Monthly Values'!K66<>0,'Monthly Values'!K66,\"\")","v":""},{"$f":"IF('Monthly Values'!L66<>0,'Monthly Values'!L66,\"\")","v":""},{"$f":"IF('Monthly Values'!M66<>0,'Monthly Values'!M66,\"\")","v":""},{"$f":"IF('Monthly Values'!N66<>0,'Monthly Values'!N66,\"\")","v":""},{"$f":"IF('Monthly Values'!O66<>0,'Monthly Values'!O66,\"\")","v":""},{"$f":"IF('Monthly Values'!P66<>0,'Monthly Values'!P66,\"\")","v":""},{"$f":"IF('Monthly Values'!Q66<>0,'Monthly Values'!Q66,\"\")","v":""},{"$f":"IF('Monthly Values'!R66<>0,'Monthly Values'!R66,\"\")","v":""},{"$f":"IF('Monthly Values'!S66<>0,'Monthly Values'!S66,\"\")","v":""},{"$f":"IF('Monthly Values'!T66<>0,'Monthly Values'!T66,\"\")","v":""},{"$f":"IF('Monthly Values'!U66<>0,'Monthly Values'!U66,\"\")","v":""},{"$f":"IF('Monthly Values'!V66<>0,'Monthly Values'!V66,\"\")","v":""},{"$f":"IF('Monthly Values'!W66<>0,'Monthly Values'!W66,\"\")","v":""},{"$f":"IF('Monthly Values'!X66<>0,'Monthly Values'!X66,\"\")","v":""},{"$f":"IF('Monthly Values'!Y66<>0,'Monthly Values'!Y66,\"\")","v":""},{"$f":"IF('Monthly Values'!Z66<>0,'Monthly Values'!Z66,\"\")","v":""},{"$f":"IF('Monthly Values'!AA66<>0,'Monthly Values'!AA66,\"\")","v":""},{"$f":"IF('Monthly Values'!AB66<>0,'Monthly Values'!AB66,\"\")","v":""},{"$f":"IF('Monthly Values'!AC66<>0,'Monthly Values'!AC66,\"\")","v":""},{"$f":"IF('Monthly Values'!AD66<>0,'Monthly Values'!AD66,\"\")","v":""},{"$f":"IF('Monthly Values'!AE66<>0,'Monthly Values'!AE66,\"\")","v":""},{"$f":"IF('Monthly Values'!AF66<>0,'Monthly Values'!AF66,\"\")","v":""},{"$f":"IF('Monthly Values'!AG66<>0,'Monthly Values'!AG66,\"\")","v":""},{"$f":"IF('Monthly Values'!AH66<>0,'Monthly Values'!AH66,\"\")","v":""},{"$f":"IF('Monthly Values'!AI66<>0,'Monthly Values'!AI66,\"\")","v":""},{"$f":"IF('Monthly Values'!AJ66<>0,'Monthly Values'!AJ66,\"\")","v":""},{"$f":"IF('Monthly Values'!AK66<>0,'Monthly Values'!AK66,\"\")","v":""},{"$f":"IF('Monthly Values'!AL66<>0,'Monthly Values'!AL66,\"\")","v":""},{"$f":"IF('Monthly Values'!AM66<>0,'Monthly Values'!AM66,\"\")","v":""},{"$f":"IF('Monthly Values'!AN66<>0,'Monthly Values'!AN66,\"\")","v":""},{"$f":"IF('Monthly Values'!AO66<>0,'Monthly Values'!AO66,\"\")","v":""},{"$f":"IF('Monthly Values'!AP66<>0,'Monthly Values'!AP66,\"\")","v":""},{"$f":"IF('Monthly Values'!AQ66<>0,'Monthly Values'!AQ66,\"\")","v":""},{"$f":"IF('Monthly Values'!AR66<>0,'Monthly Values'!AR66,\"\")","v":""},{"$f":"IF('Monthly Values'!AS66<>0,'Monthly Values'!AS66,\"\")","v":""},{"$f":"IF('Monthly Values'!AT66<>0,'Monthly Values'!AT66,\"\")","v":""},{"$f":"IF('Monthly Values'!AU66<>0,'Monthly Values'!AU66,\"\")","v":""},{"$f":"IF('Monthly Values'!AV66<>0,'Monthly Values'!AV66,\"\")","v":""},{"$f":"IF('Monthly Values'!AW66<>0,'Monthly Values'!AW66,\"\")","v":""},{"$f":"IF('Monthly Values'!AX66<>0,'Monthly Values'!AX66,\"\")","v":""},{"$f":"IF('Monthly Values'!AY66<>0,'Monthly Values'!AY66,\"\")","v":""},{"$f":"IF('Monthly Values'!AZ66<>0,'Monthly Values'!AZ66,\"\")","v":""},{"$f":"IF('Monthly Values'!BA66<>0,'Monthly Values'!BA66,\"\")","v":""},{"$f":"IF('Monthly Values'!BB66<>0,'Monthly Values'!BB66,\"\")","v":""},{"$f":"IF('Monthly Values'!BC66<>0,'Monthly Values'!BC66,\"\")","v":""},{"$f":"IF('Monthly Values'!BD66<>0,'Monthly Values'!BD66,\"\")","v":""},{"$f":"IF('Monthly Values'!BE66<>0,'Monthly Values'!BE66,\"\")","v":""},{"$f":"IF('Monthly Values'!BF66<>0,'Monthly Values'!BF66,\"\")","v":""},{"$f":"IF('Monthly Values'!BG66<>0,'Monthly Values'!BG66,\"\")","v":""},{"$f":"IF('Monthly Values'!BH66<>0,'Monthly Values'!BH66,\"\")","v":""},{"$f":"IF('Monthly Values'!BI66<>0,'Monthly Values'!BI66,\"\")","v":""},{"$f":"IF('Monthly Values'!BJ66<>0,'Monthly Values'!BJ66,\"\")","v":""},{"$f":"IF('Monthly Values'!BK66<>0,'Monthly Values'!BK66,\"\")","v":""},{"$f":"IF('Monthly Values'!BL66<>0,'Monthly Values'!BL66,\"\")","v":""},{"$f":"IF('Monthly Values'!BM66<>0,'Monthly Values'!BM66,\"\")","v":""},{"$f":"IF('Monthly Values'!BN66<>0,'Monthly Values'!BN66,\"\")","v":""},{"$f":"IF('Monthly Values'!BO66<>0,'Monthly Values'!BO66,\"\")","v":""},{"$f":"IF('Monthly Values'!BP66<>0,'Monthly Values'!BP66,\"\")","v":""},{"$f":"IF('Monthly Values'!BQ66<>0,'Monthly Values'!BQ66,\"\")","v":""},{"$f":"IF('Monthly Values'!BR66<>0,'Monthly Values'!BR66,\"\")","v":""},{"$f":"IF('Monthly Values'!BS66<>0,'Monthly Values'!BS66,\"\")","v":""},{"$f":"IF('Monthly Values'!BT66<>0,'Monthly Values'!BT66,\"\")","v":""},{"$f":"IF('Monthly Values'!BU66<>0,'Monthly Values'!BU66,\"\")","v":""},{"$f":"IF('Monthly Values'!BV66<>0,'Monthly Values'!BV66,\"\")","v":""},{"$f":"IF('Monthly Values'!BW66<>0,'Monthly Values'!BW66,\"\")","v":""},{"$f":"IF('Monthly Values'!BX66<>0,'Monthly Values'!BX66,\"\")","v":""},{"$f":"IF('Monthly Values'!BY66<>0,'Monthly Values'!BY66,\"\")","v":""},{"$f":"IF('Monthly Values'!BZ66<>0,'Monthly Values'!BZ66,\"\")","v":""},{"$f":"IF('Monthly Values'!CA66<>0,'Monthly Values'!CA66,\"\")","v":""},{"$f":"IF('Monthly Values'!CB66<>0,'Monthly Values'!CB66,\"\")","v":""},{"$f":"IF('Monthly Values'!CC66<>0,'Monthly Values'!CC66,\"\")","v":""},{"$f":"IF('Monthly Values'!CD66<>0,'Monthly Values'!CD66,\"\")","v":""},{"$f":"IF('Monthly Values'!CE66<>0,'Monthly Values'!CE66,\"\")","v":""},{"$f":"IF('Monthly Values'!CF66<>0,'Monthly Values'!CF66,\"\")","v":""},{"$f":"IF('Monthly Values'!CG66<>0,'Monthly Values'!CG66,\"\")","v":""},{"$f":"IF('Monthly Values'!CH66<>0,'Monthly Values'!CH66,\"\")","v":""},{"$f":"IF('Monthly Values'!CI66<>0,'Monthly Values'!CI66,\"\")","v":""},{"$f":"IF('Monthly Values'!CJ66<>0,'Monthly Values'!CJ66,\"\")","v":""},{"$f":"IF('Monthly Values'!CK66<>0,'Monthly Values'!CK66,\"\")","v":""},{"$f":"IF('Monthly Values'!CL66<>0,'Monthly Values'!CL66,\"\")","v":""},{"$f":"IF('Monthly Values'!CM66<>0,'Monthly Values'!CM66,\"\")","v":""},{"$f":"IF('Monthly Values'!CN66<>0,'Monthly Values'!CN66,\"\")","v":""},{"$f":"IF('Monthly Values'!CO66<>0,'Monthly Values'!CO66,\"\")","v":""},{"$f":"IF('Monthly Values'!CP66<>0,'Monthly Values'!CP66,\"\")","v":""},{"$f":"IF('Monthly Values'!CQ66<>0,'Monthly Values'!CQ66,\"\")","v":""},{"$f":"IF('Monthly Values'!CR66<>0,'Monthly Values'!CR66,\"\")","v":""},{"$f":"IF('Monthly Values'!CS66<>0,'Monthly Values'!CS66,\"\")","v":""},{"$f":"IF('Monthly Values'!CT66<>0,'Monthly Values'!CT66,\"\")","v":""},{"$f":"IF('Monthly Values'!CU66<>0,'Monthly Values'!CU66,\"\")","v":""},{"$f":"IF('Monthly Values'!CV66<>0,'Monthly Values'!CV66,\"\")","v":""},{"$f":"IF('Monthly Values'!CW66<>0,'Monthly Values'!CW66,\"\")","v":""},{"$f":"IF('Monthly Values'!CX66<>0,'Monthly Values'!CX66,\"\")","v":""},{"$f":"IF('Monthly Values'!CY66<>0,'Monthly Values'!CY66,\"\")","v":""},{"$f":"IF('Monthly Values'!CZ66<>0,'Monthly Values'!CZ66,\"\")","v":""},{"$f":"IF('Monthly Values'!DA66<>0,'Monthly Values'!DA66,\"\")","v":""},{"$f":"IF('Monthly Values'!DB66<>0,'Monthly Values'!DB66,\"\")","v":""},{"$f":"IF('Monthly Values'!DC66<>0,'Monthly Values'!DC66,\"\")","v":""},{"$f":"IF('Monthly Values'!DD66<>0,'Monthly Values'!DD66,\"\")","v":""},{"$f":"IF('Monthly Values'!DE66<>0,'Monthly Values'!DE66,\"\")","v":""},{"$f":"IF('Monthly Values'!DF66<>0,'Monthly Values'!DF66,\"\")","v":""},{"$f":"IF('Monthly Values'!DG66<>0,'Monthly Values'!DG66,\"\")","v":""},{"$f":"IF('Monthly Values'!DH66<>0,'Monthly Values'!DH66,\"\")","v":""},{"$f":"IF('Monthly Values'!DI66<>0,'Monthly Values'!DI66,\"\")","v":""},{"$f":"IF('Monthly Values'!DJ66<>0,'Monthly Values'!DJ66,\"\")","v":""},{"$f":"IF('Monthly Values'!DK66<>0,'Monthly Values'!DK66,\"\")","v":""},{"$f":"IF('Monthly Values'!DL66<>0,'Monthly Values'!DL66,\"\")","v":""},{"$f":"IF('Monthly Values'!DM66<>0,'Monthly Values'!DM66,\"\")","v":""},{"$f":"IF('Monthly Values'!DN66<>0,'Monthly Values'!DN66,\"\")","v":""},{"$f":"IF('Monthly Values'!DO66<>0,'Monthly Values'!DO66,\"\")","v":""},{"$f":"IF('Monthly Values'!DP66<>0,'Monthly Values'!DP66,\"\")","v":""},{"$f":"IF('Monthly Values'!DQ66<>0,'Monthly Values'!DQ66,\"\")","v":""},{"$f":"IF('Monthly Values'!DR66<>0,'Monthly Values'!DR66,\"\")","v":""},{"$f":"IF('Monthly Values'!DS66<>0,'Monthly Values'!DS66,\"\")","v":""},""]
[null,"2020-06-01",null,null,null,null,null,"Manulife Green used through out spreadsheet",null,null,null,null,null,"Real Estate",null,null,null,null,null,7,{"$f":"IF('Monthly Values'!D67<>0,'Monthly Values'!D67,\"\")","v":""},{"$f":"IF('Monthly Values'!E67<>0,'Monthly Values'!E67,\"\")","v":""},{"$f":"IF('Monthly Values'!F67<>0,'Monthly Values'!F67,\"\")","v":""},{"$f":"IF('Monthly Values'!G67<>0,'Monthly Values'!G67,\"\")","v":""},{"$f":"IF('Monthly Values'!H67<>0,'Monthly Values'!H67,\"\")","v":""},{"$f":"IF('Monthly Values'!I67<>0,'Monthly Values'!I67,\"\")","v":""},{"$f":"IF('Monthly Values'!J67<>0,'Monthly Values'!J67,\"\")","v":""},{"$f":"IF('Monthly Values'!K67<>0,'Monthly Values'!K67,\"\")","v":""},{"$f":"IF('Monthly Values'!L67<>0,'Monthly Values'!L67,\"\")","v":""},{"$f":"IF('Monthly Values'!M67<>0,'Monthly Values'!M67,\"\")","v":""},{"$f":"IF('Monthly Values'!N67<>0,'Monthly Values'!N67,\"\")","v":""},{"$f":"IF('Monthly Values'!O67<>0,'Monthly Values'!O67,\"\")","v":""},{"$f":"IF('Monthly Values'!P67<>0,'Monthly Values'!P67,\"\")","v":""},{"$f":"IF('Monthly Values'!Q67<>0,'Monthly Values'!Q67,\"\")","v":""},{"$f":"IF('Monthly Values'!R67<>0,'Monthly Values'!R67,\"\")","v":""},{"$f":"IF('Monthly Values'!S67<>0,'Monthly Values'!S67,\"\")","v":""},{"$f":"IF('Monthly Values'!T67<>0,'Monthly Values'!T67,\"\")","v":""},{"$f":"IF('Monthly Values'!U67<>0,'Monthly Values'!U67,\"\")","v":""},{"$f":"IF('Monthly Values'!V67<>0,'Monthly Values'!V67,\"\")","v":""},{"$f":"IF('Monthly Values'!W67<>0,'Monthly Values'!W67,\"\")","v":""},{"$f":"IF('Monthly Values'!X67<>0,'Monthly Values'!X67,\"\")","v":""},{"$f":"IF('Monthly Values'!Y67<>0,'Monthly Values'!Y67,\"\")","v":""},{"$f":"IF('Monthly Values'!Z67<>0,'Monthly Values'!Z67,\"\")","v":""},{"$f":"IF('Monthly Values'!AA67<>0,'Monthly Values'!AA67,\"\")","v":""},{"$f":"IF('Monthly Values'!AB67<>0,'Monthly Values'!AB67,\"\")","v":""},{"$f":"IF('Monthly Values'!AC67<>0,'Monthly Values'!AC67,\"\")","v":""},{"$f":"IF('Monthly Values'!AD67<>0,'Monthly Values'!AD67,\"\")","v":""},{"$f":"IF('Monthly Values'!AE67<>0,'Monthly Values'!AE67,\"\")","v":""},{"$f":"IF('Monthly Values'!AF67<>0,'Monthly Values'!AF67,\"\")","v":""},{"$f":"IF('Monthly Values'!AG67<>0,'Monthly Values'!AG67,\"\")","v":""},{"$f":"IF('Monthly Values'!AH67<>0,'Monthly Values'!AH67,\"\")","v":""},{"$f":"IF('Monthly Values'!AI67<>0,'Monthly Values'!AI67,\"\")","v":""},{"$f":"IF('Monthly Values'!AJ67<>0,'Monthly Values'!AJ67,\"\")","v":""},{"$f":"IF('Monthly Values'!AK67<>0,'Monthly Values'!AK67,\"\")","v":""},{"$f":"IF('Monthly Values'!AL67<>0,'Monthly Values'!AL67,\"\")","v":""},{"$f":"IF('Monthly Values'!AM67<>0,'Monthly Values'!AM67,\"\")","v":""},{"$f":"IF('Monthly Values'!AN67<>0,'Monthly Values'!AN67,\"\")","v":""},{"$f":"IF('Monthly Values'!AO67<>0,'Monthly Values'!AO67,\"\")","v":""},{"$f":"IF('Monthly Values'!AP67<>0,'Monthly Values'!AP67,\"\")","v":""},{"$f":"IF('Monthly Values'!AQ67<>0,'Monthly Values'!AQ67,\"\")","v":""},{"$f":"IF('Monthly Values'!AR67<>0,'Monthly Values'!AR67,\"\")","v":""},{"$f":"IF('Monthly Values'!AS67<>0,'Monthly Values'!AS67,\"\")","v":""},{"$f":"IF('Monthly Values'!AT67<>0,'Monthly Values'!AT67,\"\")","v":""},{"$f":"IF('Monthly Values'!AU67<>0,'Monthly Values'!AU67,\"\")","v":""},{"$f":"IF('Monthly Values'!AV67<>0,'Monthly Values'!AV67,\"\")","v":""},{"$f":"IF('Monthly Values'!AW67<>0,'Monthly Values'!AW67,\"\")","v":""},{"$f":"IF('Monthly Values'!AX67<>0,'Monthly Values'!AX67,\"\")","v":""},{"$f":"IF('Monthly Values'!AY67<>0,'Monthly Values'!AY67,\"\")","v":""},{"$f":"IF('Monthly Values'!AZ67<>0,'Monthly Values'!AZ67,\"\")","v":""},{"$f":"IF('Monthly Values'!BA67<>0,'Monthly Values'!BA67,\"\")","v":""},{"$f":"IF('Monthly Values'!BB67<>0,'Monthly Values'!BB67,\"\")","v":""},{"$f":"IF('Monthly Values'!BC67<>0,'Monthly Values'!BC67,\"\")","v":""},{"$f":"IF('Monthly Values'!BD67<>0,'Monthly Values'!BD67,\"\")","v":""},{"$f":"IF('Monthly Values'!BE67<>0,'Monthly Values'!BE67,\"\")","v":""},{"$f":"IF('Monthly Values'!BF67<>0,'Monthly Values'!BF67,\"\")","v":""},{"$f":"IF('Monthly Values'!BG67<>0,'Monthly Values'!BG67,\"\")","v":""},{"$f":"IF('Monthly Values'!BH67<>0,'Monthly Values'!BH67,\"\")","v":""},{"$f":"IF('Monthly Values'!BI67<>0,'Monthly Values'!BI67,\"\")","v":""},{"$f":"IF('Monthly Values'!BJ67<>0,'Monthly Values'!BJ67,\"\")","v":""},{"$f":"IF('Monthly Values'!BK67<>0,'Monthly Values'!BK67,\"\")","v":""},{"$f":"IF('Monthly Values'!BL67<>0,'Monthly Values'!BL67,\"\")","v":""},{"$f":"IF('Monthly Values'!BM67<>0,'Monthly Values'!BM67,\"\")","v":""},{"$f":"IF('Monthly Values'!BN67<>0,'Monthly Values'!BN67,\"\")","v":""},{"$f":"IF('Monthly Values'!BO67<>0,'Monthly Values'!BO67,\"\")","v":""},{"$f":"IF('Monthly Values'!BP67<>0,'Monthly Values'!BP67,\"\")","v":""},{"$f":"IF('Monthly Values'!BQ67<>0,'Monthly Values'!BQ67,\"\")","v":""},{"$f":"IF('Monthly Values'!BR67<>0,'Monthly Values'!BR67,\"\")","v":""},{"$f":"IF('Monthly Values'!BS67<>0,'Monthly Values'!BS67,\"\")","v":""},{"$f":"IF('Monthly Values'!BT67<>0,'Monthly Values'!BT67,\"\")","v":""},{"$f":"IF('Monthly Values'!BU67<>0,'Monthly Values'!BU67,\"\")","v":""},{"$f":"IF('Monthly Values'!BV67<>0,'Monthly Values'!BV67,\"\")","v":""},{"$f":"IF('Monthly Values'!BW67<>0,'Monthly Values'!BW67,\"\")","v":""},{"$f":"IF('Monthly Values'!BX67<>0,'Monthly Values'!BX67,\"\")","v":""},{"$f":"IF('Monthly Values'!BY67<>0,'Monthly Values'!BY67,\"\")","v":""},{"$f":"IF('Monthly Values'!BZ67<>0,'Monthly Values'!BZ67,\"\")","v":""},{"$f":"IF('Monthly Values'!CA67<>0,'Monthly Values'!CA67,\"\")","v":""},{"$f":"IF('Monthly Values'!CB67<>0,'Monthly Values'!CB67,\"\")","v":""},{"$f":"IF('Monthly Values'!CC67<>0,'Monthly Values'!CC67,\"\")","v":""},{"$f":"IF('Monthly Values'!CD67<>0,'Monthly Values'!CD67,\"\")","v":""},{"$f":"IF('Monthly Values'!CE67<>0,'Monthly Values'!CE67,\"\")","v":""},{"$f":"IF('Monthly Values'!CF67<>0,'Monthly Values'!CF67,\"\")","v":""},{"$f":"IF('Monthly Values'!CG67<>0,'Monthly Values'!CG67,\"\")","v":""},{"$f":"IF('Monthly Values'!CH67<>0,'Monthly Values'!CH67,\"\")","v":""},{"$f":"IF('Monthly Values'!CI67<>0,'Monthly Values'!CI67,\"\")","v":""},{"$f":"IF('Monthly Values'!CJ67<>0,'Monthly Values'!CJ67,\"\")","v":""},{"$f":"IF('Monthly Values'!CK67<>0,'Monthly Values'!CK67,\"\")","v":""},{"$f":"IF('Monthly Values'!CL67<>0,'Monthly Values'!CL67,\"\")","v":""},{"$f":"IF('Monthly Values'!CM67<>0,'Monthly Values'!CM67,\"\")","v":""},{"$f":"IF('Monthly Values'!CN67<>0,'Monthly Values'!CN67,\"\")","v":""},{"$f":"IF('Monthly Values'!CO67<>0,'Monthly Values'!CO67,\"\")","v":""},{"$f":"IF('Monthly Values'!CP67<>0,'Monthly Values'!CP67,\"\")","v":""},{"$f":"IF('Monthly Values'!CQ67<>0,'Monthly Values'!CQ67,\"\")","v":""},{"$f":"IF('Monthly Values'!CR67<>0,'Monthly Values'!CR67,\"\")","v":""},{"$f":"IF('Monthly Values'!CS67<>0,'Monthly Values'!CS67,\"\")","v":""},{"$f":"IF('Monthly Values'!CT67<>0,'Monthly Values'!CT67,\"\")","v":""},{"$f":"IF('Monthly Values'!CU67<>0,'Monthly Values'!CU67,\"\")","v":""},{"$f":"IF('Monthly Values'!CV67<>0,'Monthly Values'!CV67,\"\")","v":""},{"$f":"IF('Monthly Values'!CW67<>0,'Monthly Values'!CW67,\"\")","v":""},{"$f":"IF('Monthly Values'!CX67<>0,'Monthly Values'!CX67,\"\")","v":""},{"$f":"IF('Monthly Values'!CY67<>0,'Monthly Values'!CY67,\"\")","v":""},{"$f":"IF('Monthly Values'!CZ67<>0,'Monthly Values'!CZ67,\"\")","v":""},{"$f":"IF('Monthly Values'!DA67<>0,'Monthly Values'!DA67,\"\")","v":""},{"$f":"IF('Monthly Values'!DB67<>0,'Monthly Values'!DB67,\"\")","v":""},{"$f":"IF('Monthly Values'!DC67<>0,'Monthly Values'!DC67,\"\")","v":""},{"$f":"IF('Monthly Values'!DD67<>0,'Monthly Values'!DD67,\"\")","v":""},{"$f":"IF('Monthly Values'!DE67<>0,'Monthly Values'!DE67,\"\")","v":""},{"$f":"IF('Monthly Values'!DF67<>0,'Monthly Values'!DF67,\"\")","v":""},{"$f":"IF('Monthly Values'!DG67<>0,'Monthly Values'!DG67,\"\")","v":""},{"$f":"IF('Monthly Values'!DH67<>0,'Monthly Values'!DH67,\"\")","v":""},{"$f":"IF('Monthly Values'!DI67<>0,'Monthly Values'!DI67,\"\")","v":""},{"$f":"IF('Monthly Values'!DJ67<>0,'Monthly Values'!DJ67,\"\")","v":""},{"$f":"IF('Monthly Values'!DK67<>0,'Monthly Values'!DK67,\"\")","v":""},{"$f":"IF('Monthly Values'!DL67<>0,'Monthly Values'!DL67,\"\")","v":""},{"$f":"IF('Monthly Values'!DM67<>0,'Monthly Values'!DM67,\"\")","v":""},{"$f":"IF('Monthly Values'!DN67<>0,'Monthly Values'!DN67,\"\")","v":""},{"$f":"IF('Monthly Values'!DO67<>0,'Monthly Values'!DO67,\"\")","v":""},{"$f":"IF('Monthly Values'!DP67<>0,'Monthly Values'!DP67,\"\")","v":""},{"$f":"IF('Monthly Values'!DQ67<>0,'Monthly Values'!DQ67,\"\")","v":""},{"$f":"IF('Monthly Values'!DR67<>0,'Monthly Values'!DR67,\"\")","v":""},{"$f":"IF('Monthly Values'!DS67<>0,'Monthly Values'!DS67,\"\")","v":""},""]
[null,"2020-07-01",null,null,null,null,null,null,null,null,null,null,null,1,{"$f":"IF('Account Setup'!E8<>\"Select From Dropdown\",'Account Setup'!E8,\"\")","v":""},{"$f":"IF('Account Setup'!F8<>0,'Account Setup'!F8,\"\")","v":""},"",null,null,8,{"$f":"IF('Monthly Values'!D68<>0,'Monthly Values'!D68,\"\")","v":""},{"$f":"IF('Monthly Values'!E68<>0,'Monthly Values'!E68,\"\")","v":""},{"$f":"IF('Monthly Values'!F68<>0,'Monthly Values'!F68,\"\")","v":""},{"$f":"IF('Monthly Values'!G68<>0,'Monthly Values'!G68,\"\")","v":""},{"$f":"IF('Monthly Values'!H68<>0,'Monthly Values'!H68,\"\")","v":""},{"$f":"IF('Monthly Values'!I68<>0,'Monthly Values'!I68,\"\")","v":""},{"$f":"IF('Monthly Values'!J68<>0,'Monthly Values'!J68,\"\")","v":""},{"$f":"IF('Monthly Values'!K68<>0,'Monthly Values'!K68,\"\")","v":""},{"$f":"IF('Monthly Values'!L68<>0,'Monthly Values'!L68,\"\")","v":""},{"$f":"IF('Monthly Values'!M68<>0,'Monthly Values'!M68,\"\")","v":""},{"$f":"IF('Monthly Values'!N68<>0,'Monthly Values'!N68,\"\")","v":""},{"$f":"IF('Monthly Values'!O68<>0,'Monthly Values'!O68,\"\")","v":""},{"$f":"IF('Monthly Values'!P68<>0,'Monthly Values'!P68,\"\")","v":""},{"$f":"IF('Monthly Values'!Q68<>0,'Monthly Values'!Q68,\"\")","v":""},{"$f":"IF('Monthly Values'!R68<>0,'Monthly Values'!R68,\"\")","v":""},{"$f":"IF('Monthly Values'!S68<>0,'Monthly Values'!S68,\"\")","v":""},{"$f":"IF('Monthly Values'!T68<>0,'Monthly Values'!T68,\"\")","v":""},{"$f":"IF('Monthly Values'!U68<>0,'Monthly Values'!U68,\"\")","v":""},{"$f":"IF('Monthly Values'!V68<>0,'Monthly Values'!V68,\"\")","v":""},{"$f":"IF('Monthly Values'!W68<>0,'Monthly Values'!W68,\"\")","v":""},{"$f":"IF('Monthly Values'!X68<>0,'Monthly Values'!X68,\"\")","v":""},{"$f":"IF('Monthly Values'!Y68<>0,'Monthly Values'!Y68,\"\")","v":""},{"$f":"IF('Monthly Values'!Z68<>0,'Monthly Values'!Z68,\"\")","v":""},{"$f":"IF('Monthly Values'!AA68<>0,'Monthly Values'!AA68,\"\")","v":""},{"$f":"IF('Monthly Values'!AB68<>0,'Monthly Values'!AB68,\"\")","v":""},{"$f":"IF('Monthly Values'!AC68<>0,'Monthly Values'!AC68,\"\")","v":""},{"$f":"IF('Monthly Values'!AD68<>0,'Monthly Values'!AD68,\"\")","v":""},{"$f":"IF('Monthly Values'!AE68<>0,'Monthly Values'!AE68,\"\")","v":""},{"$f":"IF('Monthly Values'!AF68<>0,'Monthly Values'!AF68,\"\")","v":""},{"$f":"IF('Monthly Values'!AG68<>0,'Monthly Values'!AG68,\"\")","v":""},{"$f":"IF('Monthly Values'!AH68<>0,'Monthly Values'!AH68,\"\")","v":""},{"$f":"IF('Monthly Values'!AI68<>0,'Monthly Values'!AI68,\"\")","v":""},{"$f":"IF('Monthly Values'!AJ68<>0,'Monthly Values'!AJ68,\"\")","v":""},{"$f":"IF('Monthly Values'!AK68<>0,'Monthly Values'!AK68,\"\")","v":""},{"$f":"IF('Monthly Values'!AL68<>0,'Monthly Values'!AL68,\"\")","v":""},{"$f":"IF('Monthly Values'!AM68<>0,'Monthly Values'!AM68,\"\")","v":""},{"$f":"IF('Monthly Values'!AN68<>0,'Monthly Values'!AN68,\"\")","v":""},{"$f":"IF('Monthly Values'!AO68<>0,'Monthly Values'!AO68,\"\")","v":""},{"$f":"IF('Monthly Values'!AP68<>0,'Monthly Values'!AP68,\"\")","v":""},{"$f":"IF('Monthly Values'!AQ68<>0,'Monthly Values'!AQ68,\"\")","v":""},{"$f":"IF('Monthly Values'!AR68<>0,'Monthly Values'!AR68,\"\")","v":""},{"$f":"IF('Monthly Values'!AS68<>0,'Monthly Values'!AS68,\"\")","v":""},{"$f":"IF('Monthly Values'!AT68<>0,'Monthly Values'!AT68,\"\")","v":""},{"$f":"IF('Monthly Values'!AU68<>0,'Monthly Values'!AU68,\"\")","v":""},{"$f":"IF('Monthly Values'!AV68<>0,'Monthly Values'!AV68,\"\")","v":""},{"$f":"IF('Monthly Values'!AW68<>0,'Monthly Values'!AW68,\"\")","v":""},{"$f":"IF('Monthly Values'!AX68<>0,'Monthly Values'!AX68,\"\")","v":""},{"$f":"IF('Monthly Values'!AY68<>0,'Monthly Values'!AY68,\"\")","v":""},{"$f":"IF('Monthly Values'!AZ68<>0,'Monthly Values'!AZ68,\"\")","v":""},{"$f":"IF('Monthly Values'!BA68<>0,'Monthly Values'!BA68,\"\")","v":""},{"$f":"IF('Monthly Values'!BB68<>0,'Monthly Values'!BB68,\"\")","v":""},{"$f":"IF('Monthly Values'!BC68<>0,'Monthly Values'!BC68,\"\")","v":""},{"$f":"IF('Monthly Values'!BD68<>0,'Monthly Values'!BD68,\"\")","v":""},{"$f":"IF('Monthly Values'!BE68<>0,'Monthly Values'!BE68,\"\")","v":""},{"$f":"IF('Monthly Values'!BF68<>0,'Monthly Values'!BF68,\"\")","v":""},{"$f":"IF('Monthly Values'!BG68<>0,'Monthly Values'!BG68,\"\")","v":""},{"$f":"IF('Monthly Values'!BH68<>0,'Monthly Values'!BH68,\"\")","v":""},{"$f":"IF('Monthly Values'!BI68<>0,'Monthly Values'!BI68,\"\")","v":""},{"$f":"IF('Monthly Values'!BJ68<>0,'Monthly Values'!BJ68,\"\")","v":""},{"$f":"IF('Monthly Values'!BK68<>0,'Monthly Values'!BK68,\"\")","v":""},{"$f":"IF('Monthly Values'!BL68<>0,'Monthly Values'!BL68,\"\")","v":""},{"$f":"IF('Monthly Values'!BM68<>0,'Monthly Values'!BM68,\"\")","v":""},{"$f":"IF('Monthly Values'!BN68<>0,'Monthly Values'!BN68,\"\")","v":""},{"$f":"IF('Monthly Values'!BO68<>0,'Monthly Values'!BO68,\"\")","v":""},{"$f":"IF('Monthly Values'!BP68<>0,'Monthly Values'!BP68,\"\")","v":""},{"$f":"IF('Monthly Values'!BQ68<>0,'Monthly Values'!BQ68,\"\")","v":""},{"$f":"IF('Monthly Values'!BR68<>0,'Monthly Values'!BR68,\"\")","v":""},{"$f":"IF('Monthly Values'!BS68<>0,'Monthly Values'!BS68,\"\")","v":""},{"$f":"IF('Monthly Values'!BT68<>0,'Monthly Values'!BT68,\"\")","v":""},{"$f":"IF('Monthly Values'!BU68<>0,'Monthly Values'!BU68,\"\")","v":""},{"$f":"IF('Monthly Values'!BV68<>0,'Monthly Values'!BV68,\"\")","v":""},{"$f":"IF('Monthly Values'!BW68<>0,'Monthly Values'!BW68,\"\")","v":""},{"$f":"IF('Monthly Values'!BX68<>0,'Monthly Values'!BX68,\"\")","v":""},{"$f":"IF('Monthly Values'!BY68<>0,'Monthly Values'!BY68,\"\")","v":""},{"$f":"IF('Monthly Values'!BZ68<>0,'Monthly Values'!BZ68,\"\")","v":""},{"$f":"IF('Monthly Values'!CA68<>0,'Monthly Values'!CA68,\"\")","v":""},{"$f":"IF('Monthly Values'!CB68<>0,'Monthly Values'!CB68,\"\")","v":""},{"$f":"IF('Monthly Values'!CC68<>0,'Monthly Values'!CC68,\"\")","v":""},{"$f":"IF('Monthly Values'!CD68<>0,'Monthly Values'!CD68,\"\")","v":""},{"$f":"IF('Monthly Values'!CE68<>0,'Monthly Values'!CE68,\"\")","v":""},{"$f":"IF('Monthly Values'!CF68<>0,'Monthly Values'!CF68,\"\")","v":""},{"$f":"IF('Monthly Values'!CG68<>0,'Monthly Values'!CG68,\"\")","v":""},{"$f":"IF('Monthly Values'!CH68<>0,'Monthly Values'!CH68,\"\")","v":""},{"$f":"IF('Monthly Values'!CI68<>0,'Monthly Values'!CI68,\"\")","v":""},{"$f":"IF('Monthly Values'!CJ68<>0,'Monthly Values'!CJ68,\"\")","v":""},{"$f":"IF('Monthly Values'!CK68<>0,'Monthly Values'!CK68,\"\")","v":""},{"$f":"IF('Monthly Values'!CL68<>0,'Monthly Values'!CL68,\"\")","v":""},{"$f":"IF('Monthly Values'!CM68<>0,'Monthly Values'!CM68,\"\")","v":""},{"$f":"IF('Monthly Values'!CN68<>0,'Monthly Values'!CN68,\"\")","v":""},{"$f":"IF('Monthly Values'!CO68<>0,'Monthly Values'!CO68,\"\")","v":""},{"$f":"IF('Monthly Values'!CP68<>0,'Monthly Values'!CP68,\"\")","v":""},{"$f":"IF('Monthly Values'!CQ68<>0,'Monthly Values'!CQ68,\"\")","v":""},{"$f":"IF('Monthly Values'!CR68<>0,'Monthly Values'!CR68,\"\")","v":""},{"$f":"IF('Monthly Values'!CS68<>0,'Monthly Values'!CS68,\"\")","v":""},{"$f":"IF('Monthly Values'!CT68<>0,'Monthly Values'!CT68,\"\")","v":""},{"$f":"IF('Monthly Values'!CU68<>0,'Monthly Values'!CU68,\"\")","v":""},{"$f":"IF('Monthly Values'!CV68<>0,'Monthly Values'!CV68,\"\")","v":""},{"$f":"IF('Monthly Values'!CW68<>0,'Monthly Values'!CW68,\"\")","v":""},{"$f":"IF('Monthly Values'!CX68<>0,'Monthly Values'!CX68,\"\")","v":""},{"$f":"IF('Monthly Values'!CY68<>0,'Monthly Values'!CY68,\"\")","v":""},{"$f":"IF('Monthly Values'!CZ68<>0,'Monthly Values'!CZ68,\"\")","v":""},{"$f":"IF('Monthly Values'!DA68<>0,'Monthly Values'!DA68,\"\")","v":""},{"$f":"IF('Monthly Values'!DB68<>0,'Monthly Values'!DB68,\"\")","v":""},{"$f":"IF('Monthly Values'!DC68<>0,'Monthly Values'!DC68,\"\")","v":""},{"$f":"IF('Monthly Values'!DD68<>0,'Monthly Values'!DD68,\"\")","v":""},{"$f":"IF('Monthly Values'!DE68<>0,'Monthly Values'!DE68,\"\")","v":""},{"$f":"IF('Monthly Values'!DF68<>0,'Monthly Values'!DF68,\"\")","v":""},{"$f":"IF('Monthly Values'!DG68<>0,'Monthly Values'!DG68,\"\")","v":""},{"$f":"IF('Monthly Values'!DH68<>0,'Monthly Values'!DH68,\"\")","v":""},{"$f":"IF('Monthly Values'!DI68<>0,'Monthly Values'!DI68,\"\")","v":""},{"$f":"IF('Monthly Values'!DJ68<>0,'Monthly Values'!DJ68,\"\")","v":""},{"$f":"IF('Monthly Values'!DK68<>0,'Monthly Values'!DK68,\"\")","v":""},{"$f":"IF('Monthly Values'!DL68<>0,'Monthly Values'!DL68,\"\")","v":""},{"$f":"IF('Monthly Values'!DM68<>0,'Monthly Values'!DM68,\"\")","v":""},{"$f":"IF('Monthly Values'!DN68<>0,'Monthly Values'!DN68,\"\")","v":""},{"$f":"IF('Monthly Values'!DO68<>0,'Monthly Values'!DO68,\"\")","v":""},{"$f":"IF('Monthly Values'!DP68<>0,'Monthly Values'!DP68,\"\")","v":""},{"$f":"IF('Monthly Values'!DQ68<>0,'Monthly Values'!DQ68,\"\")","v":""},{"$f":"IF('Monthly Values'!DR68<>0,'Monthly Values'!DR68,\"\")","v":""},{"$f":"IF('Monthly Values'!DS68<>0,'Monthly Values'!DS68,\"\")","v":""},""]
[null,"2020-08-01",null,null,null,null,null,null,null,null,null,null,null,2,{"$f":"IF('Account Setup'!E9<>\"Select From Dropdown\",'Account Setup'!E9,\"\")","v":""},{"$f":"IF('Account Setup'!F9<>0,'Account Setup'!F9,\"\")","v":""},"",null,null,9,{"$f":"IF('Monthly Values'!D69<>0,'Monthly Values'!D69,\"\")","v":""},{"$f":"IF('Monthly Values'!E69<>0,'Monthly Values'!E69,\"\")","v":""},{"$f":"IF('Monthly Values'!F69<>0,'Monthly Values'!F69,\"\")","v":""},{"$f":"IF('Monthly Values'!G69<>0,'Monthly Values'!G69,\"\")","v":""},{"$f":"IF('Monthly Values'!H69<>0,'Monthly Values'!H69,\"\")","v":""},{"$f":"IF('Monthly Values'!I69<>0,'Monthly Values'!I69,\"\")","v":""},{"$f":"IF('Monthly Values'!J69<>0,'Monthly Values'!J69,\"\")","v":""},{"$f":"IF('Monthly Values'!K69<>0,'Monthly Values'!K69,\"\")","v":""},{"$f":"IF('Monthly Values'!L69<>0,'Monthly Values'!L69,\"\")","v":""},{"$f":"IF('Monthly Values'!M69<>0,'Monthly Values'!M69,\"\")","v":""},{"$f":"IF('Monthly Values'!N69<>0,'Monthly Values'!N69,\"\")","v":""},{"$f":"IF('Monthly Values'!O69<>0,'Monthly Values'!O69,\"\")","v":""},{"$f":"IF('Monthly Values'!P69<>0,'Monthly Values'!P69,\"\")","v":""},{"$f":"IF('Monthly Values'!Q69<>0,'Monthly Values'!Q69,\"\")","v":""},{"$f":"IF('Monthly Values'!R69<>0,'Monthly Values'!R69,\"\")","v":""},{"$f":"IF('Monthly Values'!S69<>0,'Monthly Values'!S69,\"\")","v":""},{"$f":"IF('Monthly Values'!T69<>0,'Monthly Values'!T69,\"\")","v":""},{"$f":"IF('Monthly Values'!U69<>0,'Monthly Values'!U69,\"\")","v":""},{"$f":"IF('Monthly Values'!V69<>0,'Monthly Values'!V69,\"\")","v":""},{"$f":"IF('Monthly Values'!W69<>0,'Monthly Values'!W69,\"\")","v":""},{"$f":"IF('Monthly Values'!X69<>0,'Monthly Values'!X69,\"\")","v":""},{"$f":"IF('Monthly Values'!Y69<>0,'Monthly Values'!Y69,\"\")","v":""},{"$f":"IF('Monthly Values'!Z69<>0,'Monthly Values'!Z69,\"\")","v":""},{"$f":"IF('Monthly Values'!AA69<>0,'Monthly Values'!AA69,\"\")","v":""},{"$f":"IF('Monthly Values'!AB69<>0,'Monthly Values'!AB69,\"\")","v":""},{"$f":"IF('Monthly Values'!AC69<>0,'Monthly Values'!AC69,\"\")","v":""},{"$f":"IF('Monthly Values'!AD69<>0,'Monthly Values'!AD69,\"\")","v":""},{"$f":"IF('Monthly Values'!AE69<>0,'Monthly Values'!AE69,\"\")","v":""},{"$f":"IF('Monthly Values'!AF69<>0,'Monthly Values'!AF69,\"\")","v":""},{"$f":"IF('Monthly Values'!AG69<>0,'Monthly Values'!AG69,\"\")","v":""},{"$f":"IF('Monthly Values'!AH69<>0,'Monthly Values'!AH69,\"\")","v":""},{"$f":"IF('Monthly Values'!AI69<>0,'Monthly Values'!AI69,\"\")","v":""},{"$f":"IF('Monthly Values'!AJ69<>0,'Monthly Values'!AJ69,\"\")","v":""},{"$f":"IF('Monthly Values'!AK69<>0,'Monthly Values'!AK69,\"\")","v":""},{"$f":"IF('Monthly Values'!AL69<>0,'Monthly Values'!AL69,\"\")","v":""},{"$f":"IF('Monthly Values'!AM69<>0,'Monthly Values'!AM69,\"\")","v":""},{"$f":"IF('Monthly Values'!AN69<>0,'Monthly Values'!AN69,\"\")","v":""},{"$f":"IF('Monthly Values'!AO69<>0,'Monthly Values'!AO69,\"\")","v":""},{"$f":"IF('Monthly Values'!AP69<>0,'Monthly Values'!AP69,\"\")","v":""},{"$f":"IF('Monthly Values'!AQ69<>0,'Monthly Values'!AQ69,\"\")","v":""},{"$f":"IF('Monthly Values'!AR69<>0,'Monthly Values'!AR69,\"\")","v":""},{"$f":"IF('Monthly Values'!AS69<>0,'Monthly Values'!AS69,\"\")","v":""},{"$f":"IF('Monthly Values'!AT69<>0,'Monthly Values'!AT69,\"\")","v":""},{"$f":"IF('Monthly Values'!AU69<>0,'Monthly Values'!AU69,\"\")","v":""},{"$f":"IF('Monthly Values'!AV69<>0,'Monthly Values'!AV69,\"\")","v":""},{"$f":"IF('Monthly Values'!AW69<>0,'Monthly Values'!AW69,\"\")","v":""},{"$f":"IF('Monthly Values'!AX69<>0,'Monthly Values'!AX69,\"\")","v":""},{"$f":"IF('Monthly Values'!AY69<>0,'Monthly Values'!AY69,\"\")","v":""},{"$f":"IF('Monthly Values'!AZ69<>0,'Monthly Values'!AZ69,\"\")","v":""},{"$f":"IF('Monthly Values'!BA69<>0,'Monthly Values'!BA69,\"\")","v":""},{"$f":"IF('Monthly Values'!BB69<>0,'Monthly Values'!BB69,\"\")","v":""},{"$f":"IF('Monthly Values'!BC69<>0,'Monthly Values'!BC69,\"\")","v":""},{"$f":"IF('Monthly Values'!BD69<>0,'Monthly Values'!BD69,\"\")","v":""},{"$f":"IF('Monthly Values'!BE69<>0,'Monthly Values'!BE69,\"\")","v":""},{"$f":"IF('Monthly Values'!BF69<>0,'Monthly Values'!BF69,\"\")","v":""},{"$f":"IF('Monthly Values'!BG69<>0,'Monthly Values'!BG69,\"\")","v":""},{"$f":"IF('Monthly Values'!BH69<>0,'Monthly Values'!BH69,\"\")","v":""},{"$f":"IF('Monthly Values'!BI69<>0,'Monthly Values'!BI69,\"\")","v":""},{"$f":"IF('Monthly Values'!BJ69<>0,'Monthly Values'!BJ69,\"\")","v":""},{"$f":"IF('Monthly Values'!BK69<>0,'Monthly Values'!BK69,\"\")","v":""},{"$f":"IF('Monthly Values'!BL69<>0,'Monthly Values'!BL69,\"\")","v":""},{"$f":"IF('Monthly Values'!BM69<>0,'Monthly Values'!BM69,\"\")","v":""},{"$f":"IF('Monthly Values'!BN69<>0,'Monthly Values'!BN69,\"\")","v":""},{"$f":"IF('Monthly Values'!BO69<>0,'Monthly Values'!BO69,\"\")","v":""},{"$f":"IF('Monthly Values'!BP69<>0,'Monthly Values'!BP69,\"\")","v":""},{"$f":"IF('Monthly Values'!BQ69<>0,'Monthly Values'!BQ69,\"\")","v":""},{"$f":"IF('Monthly Values'!BR69<>0,'Monthly Values'!BR69,\"\")","v":""},{"$f":"IF('Monthly Values'!BS69<>0,'Monthly Values'!BS69,\"\")","v":""},{"$f":"IF('Monthly Values'!BT69<>0,'Monthly Values'!BT69,\"\")","v":""},{"$f":"IF('Monthly Values'!BU69<>0,'Monthly Values'!BU69,\"\")","v":""},{"$f":"IF('Monthly Values'!BV69<>0,'Monthly Values'!BV69,\"\")","v":""},{"$f":"IF('Monthly Values'!BW69<>0,'Monthly Values'!BW69,\"\")","v":""},{"$f":"IF('Monthly Values'!BX69<>0,'Monthly Values'!BX69,\"\")","v":""},{"$f":"IF('Monthly Values'!BY69<>0,'Monthly Values'!BY69,\"\")","v":""},{"$f":"IF('Monthly Values'!BZ69<>0,'Monthly Values'!BZ69,\"\")","v":""},{"$f":"IF('Monthly Values'!CA69<>0,'Monthly Values'!CA69,\"\")","v":""},{"$f":"IF('Monthly Values'!CB69<>0,'Monthly Values'!CB69,\"\")","v":""},{"$f":"IF('Monthly Values'!CC69<>0,'Monthly Values'!CC69,\"\")","v":""},{"$f":"IF('Monthly Values'!CD69<>0,'Monthly Values'!CD69,\"\")","v":""},{"$f":"IF('Monthly Values'!CE69<>0,'Monthly Values'!CE69,\"\")","v":""},{"$f":"IF('Monthly Values'!CF69<>0,'Monthly Values'!CF69,\"\")","v":""},{"$f":"IF('Monthly Values'!CG69<>0,'Monthly Values'!CG69,\"\")","v":""},{"$f":"IF('Monthly Values'!CH69<>0,'Monthly Values'!CH69,\"\")","v":""},{"$f":"IF('Monthly Values'!CI69<>0,'Monthly Values'!CI69,\"\")","v":""},{"$f":"IF('Monthly Values'!CJ69<>0,'Monthly Values'!CJ69,\"\")","v":""},{"$f":"IF('Monthly Values'!CK69<>0,'Monthly Values'!CK69,\"\")","v":""},{"$f":"IF('Monthly Values'!CL69<>0,'Monthly Values'!CL69,\"\")","v":""},{"$f":"IF('Monthly Values'!CM69<>0,'Monthly Values'!CM69,\"\")","v":""},{"$f":"IF('Monthly Values'!CN69<>0,'Monthly Values'!CN69,\"\")","v":""},{"$f":"IF('Monthly Values'!CO69<>0,'Monthly Values'!CO69,\"\")","v":""},{"$f":"IF('Monthly Values'!CP69<>0,'Monthly Values'!CP69,\"\")","v":""},{"$f":"IF('Monthly Values'!CQ69<>0,'Monthly Values'!CQ69,\"\")","v":""},{"$f":"IF('Monthly Values'!CR69<>0,'Monthly Values'!CR69,\"\")","v":""},{"$f":"IF('Monthly Values'!CS69<>0,'Monthly Values'!CS69,\"\")","v":""},{"$f":"IF('Monthly Values'!CT69<>0,'Monthly Values'!CT69,\"\")","v":""},{"$f":"IF('Monthly Values'!CU69<>0,'Monthly Values'!CU69,\"\")","v":""},{"$f":"IF('Monthly Values'!CV69<>0,'Monthly Values'!CV69,\"\")","v":""},{"$f":"IF('Monthly Values'!CW69<>0,'Monthly Values'!CW69,\"\")","v":""},{"$f":"IF('Monthly Values'!CX69<>0,'Monthly Values'!CX69,\"\")","v":""},{"$f":"IF('Monthly Values'!CY69<>0,'Monthly Values'!CY69,\"\")","v":""},{"$f":"IF('Monthly Values'!CZ69<>0,'Monthly Values'!CZ69,\"\")","v":""},{"$f":"IF('Monthly Values'!DA69<>0,'Monthly Values'!DA69,\"\")","v":""},{"$f":"IF('Monthly Values'!DB69<>0,'Monthly Values'!DB69,\"\")","v":""},{"$f":"IF('Monthly Values'!DC69<>0,'Monthly Values'!DC69,\"\")","v":""},{"$f":"IF('Monthly Values'!DD69<>0,'Monthly Values'!DD69,\"\")","v":""},{"$f":"IF('Monthly Values'!DE69<>0,'Monthly Values'!DE69,\"\")","v":""},{"$f":"IF('Monthly Values'!DF69<>0,'Monthly Values'!DF69,\"\")","v":""},{"$f":"IF('Monthly Values'!DG69<>0,'Monthly Values'!DG69,\"\")","v":""},{"$f":"IF('Monthly Values'!DH69<>0,'Monthly Values'!DH69,\"\")","v":""},{"$f":"IF('Monthly Values'!DI69<>0,'Monthly Values'!DI69,\"\")","v":""},{"$f":"IF('Monthly Values'!DJ69<>0,'Monthly Values'!DJ69,\"\")","v":""},{"$f":"IF('Monthly Values'!DK69<>0,'Monthly Values'!DK69,\"\")","v":""},{"$f":"IF('Monthly Values'!DL69<>0,'Monthly Values'!DL69,\"\")","v":""},{"$f":"IF('Monthly Values'!DM69<>0,'Monthly Values'!DM69,\"\")","v":""},{"$f":"IF('Monthly Values'!DN69<>0,'Monthly Values'!DN69,\"\")","v":""},{"$f":"IF('Monthly Values'!DO69<>0,'Monthly Values'!DO69,\"\")","v":""},{"$f":"IF('Monthly Values'!DP69<>0,'Monthly Values'!DP69,\"\")","v":""},{"$f":"IF('Monthly Values'!DQ69<>0,'Monthly Values'!DQ69,\"\")","v":""},{"$f":"IF('Monthly Values'!DR69<>0,'Monthly Values'!DR69,\"\")","v":""},{"$f":"IF('Monthly Values'!DS69<>0,'Monthly Values'!DS69,\"\")","v":""},""]
[null,"2020-09-01",null,null,null,null,null,null,null,null,null,null,null,3,{"$f":"IF('Account Setup'!E10<>\"Select From Dropdown\",'Account Setup'!E10,\"\")","v":""},{"$f":"IF('Account Setup'!F10<>0,'Account Setup'!F10,\"\")","v":""},"",null,null,10,{"$f":"IF('Monthly Values'!D70<>0,'Monthly Values'!D70,\"\")","v":""},{"$f":"IF('Monthly Values'!E70<>0,'Monthly Values'!E70,\"\")","v":""},{"$f":"IF('Monthly Values'!F70<>0,'Monthly Values'!F70,\"\")","v":""},{"$f":"IF('Monthly Values'!G70<>0,'Monthly Values'!G70,\"\")","v":""},{"$f":"IF('Monthly Values'!H70<>0,'Monthly Values'!H70,\"\")","v":""},{"$f":"IF('Monthly Values'!I70<>0,'Monthly Values'!I70,\"\")","v":""},{"$f":"IF('Monthly Values'!J70<>0,'Monthly Values'!J70,\"\")","v":""},{"$f":"IF('Monthly Values'!K70<>0,'Monthly Values'!K70,\"\")","v":""},{"$f":"IF('Monthly Values'!L70<>0,'Monthly Values'!L70,\"\")","v":""},{"$f":"IF('Monthly Values'!M70<>0,'Monthly Values'!M70,\"\")","v":""},{"$f":"IF('Monthly Values'!N70<>0,'Monthly Values'!N70,\"\")","v":""},{"$f":"IF('Monthly Values'!O70<>0,'Monthly Values'!O70,\"\")","v":""},{"$f":"IF('Monthly Values'!P70<>0,'Monthly Values'!P70,\"\")","v":""},{"$f":"IF('Monthly Values'!Q70<>0,'Monthly Values'!Q70,\"\")","v":""},{"$f":"IF('Monthly Values'!R70<>0,'Monthly Values'!R70,\"\")","v":""},{"$f":"IF('Monthly Values'!S70<>0,'Monthly Values'!S70,\"\")","v":""},{"$f":"IF('Monthly Values'!T70<>0,'Monthly Values'!T70,\"\")","v":""},{"$f":"IF('Monthly Values'!U70<>0,'Monthly Values'!U70,\"\")","v":""},{"$f":"IF('Monthly Values'!V70<>0,'Monthly Values'!V70,\"\")","v":""},{"$f":"IF('Monthly Values'!W70<>0,'Monthly Values'!W70,\"\")","v":""},{"$f":"IF('Monthly Values'!X70<>0,'Monthly Values'!X70,\"\")","v":""},{"$f":"IF('Monthly Values'!Y70<>0,'Monthly Values'!Y70,\"\")","v":""},{"$f":"IF('Monthly Values'!Z70<>0,'Monthly Values'!Z70,\"\")","v":""},{"$f":"IF('Monthly Values'!AA70<>0,'Monthly Values'!AA70,\"\")","v":""},{"$f":"IF('Monthly Values'!AB70<>0,'Monthly Values'!AB70,\"\")","v":""},{"$f":"IF('Monthly Values'!AC70<>0,'Monthly Values'!AC70,\"\")","v":""},{"$f":"IF('Monthly Values'!AD70<>0,'Monthly Values'!AD70,\"\")","v":""},{"$f":"IF('Monthly Values'!AE70<>0,'Monthly Values'!AE70,\"\")","v":""},{"$f":"IF('Monthly Values'!AF70<>0,'Monthly Values'!AF70,\"\")","v":""},{"$f":"IF('Monthly Values'!AG70<>0,'Monthly Values'!AG70,\"\")","v":""},{"$f":"IF('Monthly Values'!AH70<>0,'Monthly Values'!AH70,\"\")","v":""},{"$f":"IF('Monthly Values'!AI70<>0,'Monthly Values'!AI70,\"\")","v":""},{"$f":"IF('Monthly Values'!AJ70<>0,'Monthly Values'!AJ70,\"\")","v":""},{"$f":"IF('Monthly Values'!AK70<>0,'Monthly Values'!AK70,\"\")","v":""},{"$f":"IF('Monthly Values'!AL70<>0,'Monthly Values'!AL70,\"\")","v":""},{"$f":"IF('Monthly Values'!AM70<>0,'Monthly Values'!AM70,\"\")","v":""},{"$f":"IF('Monthly Values'!AN70<>0,'Monthly Values'!AN70,\"\")","v":""},{"$f":"IF('Monthly Values'!AO70<>0,'Monthly Values'!AO70,\"\")","v":""},{"$f":"IF('Monthly Values'!AP70<>0,'Monthly Values'!AP70,\"\")","v":""},{"$f":"IF('Monthly Values'!AQ70<>0,'Monthly Values'!AQ70,\"\")","v":""},{"$f":"IF('Monthly Values'!AR70<>0,'Monthly Values'!AR70,\"\")","v":""},{"$f":"IF('Monthly Values'!AS70<>0,'Monthly Values'!AS70,\"\")","v":""},{"$f":"IF('Monthly Values'!AT70<>0,'Monthly Values'!AT70,\"\")","v":""},{"$f":"IF('Monthly Values'!AU70<>0,'Monthly Values'!AU70,\"\")","v":""},{"$f":"IF('Monthly Values'!AV70<>0,'Monthly Values'!AV70,\"\")","v":""},{"$f":"IF('Monthly Values'!AW70<>0,'Monthly Values'!AW70,\"\")","v":""},{"$f":"IF('Monthly Values'!AX70<>0,'Monthly Values'!AX70,\"\")","v":""},{"$f":"IF('Monthly Values'!AY70<>0,'Monthly Values'!AY70,\"\")","v":""},{"$f":"IF('Monthly Values'!AZ70<>0,'Monthly Values'!AZ70,\"\")","v":""},{"$f":"IF('Monthly Values'!BA70<>0,'Monthly Values'!BA70,\"\")","v":""},{"$f":"IF('Monthly Values'!BB70<>0,'Monthly Values'!BB70,\"\")","v":""},{"$f":"IF('Monthly Values'!BC70<>0,'Monthly Values'!BC70,\"\")","v":""},{"$f":"IF('Monthly Values'!BD70<>0,'Monthly Values'!BD70,\"\")","v":""},{"$f":"IF('Monthly Values'!BE70<>0,'Monthly Values'!BE70,\"\")","v":""},{"$f":"IF('Monthly Values'!BF70<>0,'Monthly Values'!BF70,\"\")","v":""},{"$f":"IF('Monthly Values'!BG70<>0,'Monthly Values'!BG70,\"\")","v":""},{"$f":"IF('Monthly Values'!BH70<>0,'Monthly Values'!BH70,\"\")","v":""},{"$f":"IF('Monthly Values'!BI70<>0,'Monthly Values'!BI70,\"\")","v":""},{"$f":"IF('Monthly Values'!BJ70<>0,'Monthly Values'!BJ70,\"\")","v":""},{"$f":"IF('Monthly Values'!BK70<>0,'Monthly Values'!BK70,\"\")","v":""},{"$f":"IF('Monthly Values'!BL70<>0,'Monthly Values'!BL70,\"\")","v":""},{"$f":"IF('Monthly Values'!BM70<>0,'Monthly Values'!BM70,\"\")","v":""},{"$f":"IF('Monthly Values'!BN70<>0,'Monthly Values'!BN70,\"\")","v":""},{"$f":"IF('Monthly Values'!BO70<>0,'Monthly Values'!BO70,\"\")","v":""},{"$f":"IF('Monthly Values'!BP70<>0,'Monthly Values'!BP70,\"\")","v":""},{"$f":"IF('Monthly Values'!BQ70<>0,'Monthly Values'!BQ70,\"\")","v":""},{"$f":"IF('Monthly Values'!BR70<>0,'Monthly Values'!BR70,\"\")","v":""},{"$f":"IF('Monthly Values'!BS70<>0,'Monthly Values'!BS70,\"\")","v":""},{"$f":"IF('Monthly Values'!BT70<>0,'Monthly Values'!BT70,\"\")","v":""},{"$f":"IF('Monthly Values'!BU70<>0,'Monthly Values'!BU70,\"\")","v":""},{"$f":"IF('Monthly Values'!BV70<>0,'Monthly Values'!BV70,\"\")","v":""},{"$f":"IF('Monthly Values'!BW70<>0,'Monthly Values'!BW70,\"\")","v":""},{"$f":"IF('Monthly Values'!BX70<>0,'Monthly Values'!BX70,\"\")","v":""},{"$f":"IF('Monthly Values'!BY70<>0,'Monthly Values'!BY70,\"\")","v":""},{"$f":"IF('Monthly Values'!BZ70<>0,'Monthly Values'!BZ70,\"\")","v":""},{"$f":"IF('Monthly Values'!CA70<>0,'Monthly Values'!CA70,\"\")","v":""},{"$f":"IF('Monthly Values'!CB70<>0,'Monthly Values'!CB70,\"\")","v":""},{"$f":"IF('Monthly Values'!CC70<>0,'Monthly Values'!CC70,\"\")","v":""},{"$f":"IF('Monthly Values'!CD70<>0,'Monthly Values'!CD70,\"\")","v":""},{"$f":"IF('Monthly Values'!CE70<>0,'Monthly Values'!CE70,\"\")","v":""},{"$f":"IF('Monthly Values'!CF70<>0,'Monthly Values'!CF70,\"\")","v":""},{"$f":"IF('Monthly Values'!CG70<>0,'Monthly Values'!CG70,\"\")","v":""},{"$f":"IF('Monthly Values'!CH70<>0,'Monthly Values'!CH70,\"\")","v":""},{"$f":"IF('Monthly Values'!CI70<>0,'Monthly Values'!CI70,\"\")","v":""},{"$f":"IF('Monthly Values'!CJ70<>0,'Monthly Values'!CJ70,\"\")","v":""},{"$f":"IF('Monthly Values'!CK70<>0,'Monthly Values'!CK70,\"\")","v":""},{"$f":"IF('Monthly Values'!CL70<>0,'Monthly Values'!CL70,\"\")","v":""},{"$f":"IF('Monthly Values'!CM70<>0,'Monthly Values'!CM70,\"\")","v":""},{"$f":"IF('Monthly Values'!CN70<>0,'Monthly Values'!CN70,\"\")","v":""},{"$f":"IF('Monthly Values'!CO70<>0,'Monthly Values'!CO70,\"\")","v":""},{"$f":"IF('Monthly Values'!CP70<>0,'Monthly Values'!CP70,\"\")","v":""},{"$f":"IF('Monthly Values'!CQ70<>0,'Monthly Values'!CQ70,\"\")","v":""},{"$f":"IF('Monthly Values'!CR70<>0,'Monthly Values'!CR70,\"\")","v":""},{"$f":"IF('Monthly Values'!CS70<>0,'Monthly Values'!CS70,\"\")","v":""},{"$f":"IF('Monthly Values'!CT70<>0,'Monthly Values'!CT70,\"\")","v":""},{"$f":"IF('Monthly Values'!CU70<>0,'Monthly Values'!CU70,\"\")","v":""},{"$f":"IF('Monthly Values'!CV70<>0,'Monthly Values'!CV70,\"\")","v":""},{"$f":"IF('Monthly Values'!CW70<>0,'Monthly Values'!CW70,\"\")","v":""},{"$f":"IF('Monthly Values'!CX70<>0,'Monthly Values'!CX70,\"\")","v":""},{"$f":"IF('Monthly Values'!CY70<>0,'Monthly Values'!CY70,\"\")","v":""},{"$f":"IF('Monthly Values'!CZ70<>0,'Monthly Values'!CZ70,\"\")","v":""},{"$f":"IF('Monthly Values'!DA70<>0,'Monthly Values'!DA70,\"\")","v":""},{"$f":"IF('Monthly Values'!DB70<>0,'Monthly Values'!DB70,\"\")","v":""},{"$f":"IF('Monthly Values'!DC70<>0,'Monthly Values'!DC70,\"\")","v":""},{"$f":"IF('Monthly Values'!DD70<>0,'Monthly Values'!DD70,\"\")","v":""},{"$f":"IF('Monthly Values'!DE70<>0,'Monthly Values'!DE70,\"\")","v":""},{"$f":"IF('Monthly Values'!DF70<>0,'Monthly Values'!DF70,\"\")","v":""},{"$f":"IF('Monthly Values'!DG70<>0,'Monthly Values'!DG70,\"\")","v":""},{"$f":"IF('Monthly Values'!DH70<>0,'Monthly Values'!DH70,\"\")","v":""},{"$f":"IF('Monthly Values'!DI70<>0,'Monthly Values'!DI70,\"\")","v":""},{"$f":"IF('Monthly Values'!DJ70<>0,'Monthly Values'!DJ70,\"\")","v":""},{"$f":"IF('Monthly Values'!DK70<>0,'Monthly Values'!DK70,\"\")","v":""},{"$f":"IF('Monthly Values'!DL70<>0,'Monthly Values'!DL70,\"\")","v":""},{"$f":"IF('Monthly Values'!DM70<>0,'Monthly Values'!DM70,\"\")","v":""},{"$f":"IF('Monthly Values'!DN70<>0,'Monthly Values'!DN70,\"\")","v":""},{"$f":"IF('Monthly Values'!DO70<>0,'Monthly Values'!DO70,\"\")","v":""},{"$f":"IF('Monthly Values'!DP70<>0,'Monthly Values'!DP70,\"\")","v":""},{"$f":"IF('Monthly Values'!DQ70<>0,'Monthly Values'!DQ70,\"\")","v":""},{"$f":"IF('Monthly Values'!DR70<>0,'Monthly Values'!DR70,\"\")","v":""},{"$f":"IF('Monthly Values'!DS70<>0,'Monthly Values'!DS70,\"\")","v":""},""]
[null,"2020-10-01",null,null,null,null,null,null,null,null,null,null,null,4,{"$f":"IF('Account Setup'!E11<>\"Select From Dropdown\",'Account Setup'!E11,\"\")","v":""},{"$f":"IF('Account Setup'!F11<>0,'Account Setup'!F11,\"\")","v":""},""]
[null,"2020-11-01",null,null,null,null,null,null,null,null,null,null,null,5,{"$f":"IF('Account Setup'!E12<>\"Select From Dropdown\",'Account Setup'!E12,\"\")","v":""},{"$f":"IF('Account Setup'!F12<>0,'Account Setup'!F12,\"\")","v":""},""]
[null,"2020-12-01",null,null,null,null,null,null,null,null,null,null,null,"Corporate Assets"]
[null,"2021-01-01",null,null,null,null,null,"Instruction Header Colour used through out spreadsheet",null,null,null,null,null,1,{"$f":"IF('Account Setup'!E16<>\"Select From Dropdown\",'Account Setup'!E16,\"\")","v":""},{"$f":"IF('Account Setup'!F16<>0,'Account Setup'!F16,\"\")","v":""},"",null,null,null,"Data Validation Horizontal Lookup For Comparatives Pie Chart Table Values"]
[null,"2021-02-01",null,null,null,null,null,null,null,null,null,null,null,2,{"$f":"IF('Account Setup'!E17<>\"Select From Dropdown\",'Account Setup'!E17,\"\")","v":""},{"$f":"IF('Account Setup'!F17<>0,'Account Setup'!F17,\"\")","v":""},""]
[null,"2021-03-01",null,null,null,null,null,null,null,null,null,null,null,"Liabilities",null,null,null,null,null,"Totals","2020-01-01","2020-02-01","2020-03-01","2020-04-01","2020-05-01","2020-06-01","2020-07-01","2020-08-01","2020-09-01","2020-10-01","2020-11-01","2020-12-01","2021-01-01","2021-02-01","2021-03-01","2021-04-01","2021-05-01","2021-06-01","2021-07-01","2021-08-01","2021-09-01","2021-10-01","2021-11-01","2021-12-01","2022-01-01","2022-02-01","2022-03-01","2022-04-01","2022-05-01","2022-06-01","2022-07-01","2022-08-01","2022-09-01","2022-10-01","2022-11-01","2022-12-01","2023-01-01","2023-02-01","2023-03-01","2023-04-01","2023-05-01","2023-06-01","2023-07-01","2023-08-01","2023-09-01","2023-10-01","2023-11-01","2023-12-01","2024-01-01","2024-02-01","2024-03-01","2024-04-01","2024-05-01","2024-06-01","2024-07-01","2024-08-01","2024-09-01","2024-10-01","2024-11-01","2024-12-01","2025-01-01","2025-02-01","2025-03-01","2025-04-01","2025-05-01","2025-06-01","2025-07-01","2025-08-01","2025-09-01","2025-10-01","2025-11-01","2025-12-01","2026-01-01","2026-02-01","2026-03-01","2026-04-01","2026-05-01","2026-06-01","2026-07-01","2026-08-01","2026-09-01","2026-10-01","2026-11-01","2026-12-01","2027-01-01","2027-02-01","2027-03-01","2027-04-01","2027-05-01","2027-06-01","2027-07-01","2027-08-01","2027-09-01","2027-10-01","2027-11-01","2027-12-01","2028-01-01","2028-02-01","2028-03-01","2028-04-01","2028-05-01","2028-06-01","2028-07-01","2028-08-01","2028-09-01","2028-10-01","2028-11-01","2028-12-01","2029-01-01","2029-02-01","2029-03-01","2029-04-01","2029-05-01","2029-06-01","2029-07-01","2029-08-01","2029-09-01","2029-10-01","2029-11-01","2029-12-01"]
[null,"2021-04-01",null,null,null,null,null,null,null,null,null,null,null,1,{"$f":"IF('Account Setup'!E21<>\"Select From Dropdown\",'Account Setup'!E21,\"\")","v":""},{"$f":"IF('Account Setup'!F21<>0,'Account Setup'!F21,\"\")","v":""},"",null,null,"Banking",{"$f":"+'Monthly Values'!D17","v":0},{"$f":"+'Monthly Values'!E17","v":0},{"$f":"+'Monthly Values'!F17","v":0},{"$f":"+'Monthly Values'!G17","v":0},{"$f":"+'Monthly Values'!H17","v":0},{"$f":"+'Monthly Values'!I17","v":0},{"$f":"+'Monthly Values'!J17","v":0},{"$f":"+'Monthly Values'!K17","v":0},{"$f":"+'Monthly Values'!L17","v":0},{"$f":"+'Monthly Values'!M17","v":0},{"$f":"+'Monthly Values'!N17","v":0},{"$f":"+'Monthly Values'!O17","v":0},{"$f":"+'Monthly Values'!P17","v":0},{"$f":"+'Monthly Values'!Q17","v":0},{"$f":"+'Monthly Values'!R17","v":0},{"$f":"+'Monthly Values'!S17","v":0},{"$f":"+'Monthly Values'!T17","v":0},{"$f":"+'Monthly Values'!U17","v":0},{"$f":"+'Monthly Values'!V17","v":0},{"$f":"+'Monthly Values'!W17","v":0},{"$f":"+'Monthly Values'!X17","v":0},{"$f":"+'Monthly Values'!Y17","v":0},{"$f":"+'Monthly Values'!Z17","v":0},{"$f":"+'Monthly Values'!AA17","v":0},{"$f":"+'Monthly Values'!AB17","v":0},{"$f":"+'Monthly Values'!AC17","v":0},{"$f":"+'Monthly Values'!AD17","v":0},{"$f":"+'Monthly Values'!AE17","v":0},{"$f":"+'Monthly Values'!AF17","v":0},{"$f":"+'Monthly Values'!AG17","v":0},{"$f":"+'Monthly Values'!AH17","v":0},{"$f":"+'Monthly Values'!AI17","v":0},{"$f":"+'Monthly Values'!AJ17","v":0},{"$f":"+'Monthly Values'!AK17","v":0},{"$f":"+'Monthly Values'!AL17","v":0},{"$f":"+'Monthly Values'!AM17","v":0},{"$f":"+'Monthly Values'!AN17","v":0},{"$f":"+'Monthly Values'!AO17","v":0},{"$f":"+'Monthly Values'!AP17","v":0},{"$f":"+'Monthly Values'!AQ17","v":0},{"$f":"+'Monthly Values'!AR17","v":0},{"$f":"+'Monthly Values'!AS17","v":0},{"$f":"+'Monthly Values'!AT17","v":0},{"$f":"+'Monthly Values'!AU17","v":0},{"$f":"+'Monthly Values'!AV17","v":0},{"$f":"+'Monthly Values'!AW17","v":0},{"$f":"+'Monthly Values'!AX17","v":0},{"$f":"+'Monthly Values'!AY17","v":0},{"$f":"+'Monthly Values'!AZ17","v":0},{"$f":"+'Monthly Values'!BA17","v":0},{"$f":"+'Monthly Values'!BB17","v":0},{"$f":"+'Monthly Values'!BC17","v":0},{"$f":"+'Monthly Values'!BD17","v":0},{"$f":"+'Monthly Values'!BE17","v":0},{"$f":"+'Monthly Values'!BF17","v":0},{"$f":"+'Monthly Values'!BG17","v":0},{"$f":"+'Monthly Values'!BH17","v":0},{"$f":"+'Monthly Values'!BI17","v":0},{"$f":"+'Monthly Values'!BJ17","v":0},{"$f":"+'Monthly Values'!BK17","v":0},{"$f":"+'Monthly Values'!BL17","v":0},{"$f":"+'Monthly Values'!BM17","v":0},{"$f":"+'Monthly Values'!BN17","v":0},{"$f":"+'Monthly Values'!BO17","v":0},{"$f":"+'Monthly Values'!BP17","v":0},{"$f":"+'Monthly Values'!BQ17","v":0},{"$f":"+'Monthly Values'!BR17","v":0},{"$f":"+'Monthly Values'!BS17","v":0},{"$f":"+'Monthly Values'!BT17","v":0},{"$f":"+'Monthly Values'!BU17","v":0},{"$f":"+'Monthly Values'!BV17","v":0},{"$f":"+'Monthly Values'!BW17","v":0},{"$f":"+'Monthly Values'!BX17","v":0},{"$f":"+'Monthly Values'!BY17","v":0},{"$f":"+'Monthly Values'!BZ17","v":0},{"$f":"+'Monthly Values'!CA17","v":0},{"$f":"+'Monthly Values'!CB17","v":0},{"$f":"+'Monthly Values'!CC17","v":0},{"$f":"+'Monthly Values'!CD17","v":0},{"$f":"+'Monthly Values'!CE17","v":0},{"$f":"+'Monthly Values'!CF17","v":0},{"$f":"+'Monthly Values'!CG17","v":0},{"$f":"+'Monthly Values'!CH17","v":0},{"$f":"+'Monthly Values'!CI17","v":0},{"$f":"+'Monthly Values'!CJ17","v":0},{"$f":"+'Monthly Values'!CK17","v":0},{"$f":"+'Monthly Values'!CL17","v":0},{"$f":"+'Monthly Values'!CM17","v":0},{"$f":"+'Monthly Values'!CN17","v":0},{"$f":"+'Monthly Values'!CO17","v":0},{"$f":"+'Monthly Values'!CP17","v":0},{"$f":"+'Monthly Values'!CQ17","v":0},{"$f":"+'Monthly Values'!CR17","v":0},{"$f":"+'Monthly Values'!CS17","v":0},{"$f":"+'Monthly Values'!CT17","v":0},{"$f":"+'Monthly Values'!CU17","v":0},{"$f":"+'Monthly Values'!CV17","v":0},{"$f":"+'Monthly Values'!CW17","v":0},{"$f":"+'Monthly Values'!CX17","v":0},{"$f":"+'Monthly Values'!CY17","v":0},{"$f":"+'Monthly Values'!CZ17","v":0},{"$f":"+'Monthly Values'!DA17","v":0},{"$f":"+'Monthly Values'!DB17","v":0},{"$f":"+'Monthly Values'!DC17","v":0},{"$f":"+'Monthly Values'!DD17","v":0},{"$f":"+'Monthly Values'!DE17","v":0},{"$f":"+'Monthly Values'!DF17","v":0},{"$f":"+'Monthly Values'!DG17","v":0},{"$f":"+'Monthly Values'!DH17","v":0},{"$f":"+'Monthly Values'!DI17","v":0},{"$f":"+'Monthly Values'!DJ17","v":0},{"$f":"+'Monthly Values'!DK17","v":0},{"$f":"+'Monthly Values'!DL17","v":0},{"$f":"+'Monthly Values'!DM17","v":0},{"$f":"+'Monthly Values'!DN17","v":0},{"$f":"+'Monthly Values'!DO17","v":0},{"$f":"+'Monthly Values'!DP17","v":0},{"$f":"+'Monthly Values'!DQ17","v":0},{"$f":"+'Monthly Values'!DR17","v":0},{"$f":"+'Monthly Values'!DS17","v":0}]
[null,"2021-05-01",null,null,null,null,null,null,null,null,null,null,null,2,{"$f":"IF('Account Setup'!E22<>\"Select From Dropdown\",'Account Setup'!E22,\"\")","v":""},{"$f":"IF('Account Setup'!F22<>0,'Account Setup'!F22,\"\")","v":""},"",null,null,"Investments",{"$f":"+'Monthly Values'!D33","v":0},{"$f":"+'Monthly Values'!E33","v":0},{"$f":"+'Monthly Values'!F33","v":0},{"$f":"+'Monthly Values'!G33","v":0},{"$f":"+'Monthly Values'!H33","v":0},{"$f":"+'Monthly Values'!I33","v":0},{"$f":"+'Monthly Values'!J33","v":0},{"$f":"+'Monthly Values'!K33","v":0},{"$f":"+'Monthly Values'!L33","v":0},{"$f":"+'Monthly Values'!M33","v":0},{"$f":"+'Monthly Values'!N33","v":0},{"$f":"+'Monthly Values'!O33","v":0},{"$f":"+'Monthly Values'!P33","v":0},{"$f":"+'Monthly Values'!Q33","v":0},{"$f":"+'Monthly Values'!R33","v":0},{"$f":"+'Monthly Values'!S33","v":0},{"$f":"+'Monthly Values'!T33","v":0},{"$f":"+'Monthly Values'!U33","v":0},{"$f":"+'Monthly Values'!V33","v":0},{"$f":"+'Monthly Values'!W33","v":0},{"$f":"+'Monthly Values'!X33","v":0},{"$f":"+'Monthly Values'!Y33","v":0},{"$f":"+'Monthly Values'!Z33","v":0},{"$f":"+'Monthly Values'!AA33","v":0},{"$f":"+'Monthly Values'!AB33","v":0},{"$f":"+'Monthly Values'!AC33","v":0},{"$f":"+'Monthly Values'!AD33","v":0},{"$f":"+'Monthly Values'!AE33","v":0},{"$f":"+'Monthly Values'!AF33","v":0},{"$f":"+'Monthly Values'!AG33","v":0},{"$f":"+'Monthly Values'!AH33","v":0},{"$f":"+'Monthly Values'!AI33","v":0},{"$f":"+'Monthly Values'!AJ33","v":0},{"$f":"+'Monthly Values'!AK33","v":0},{"$f":"+'Monthly Values'!AL33","v":0},{"$f":"+'Monthly Values'!AM33","v":0},{"$f":"+'Monthly Values'!AN33","v":0},{"$f":"+'Monthly Values'!AO33","v":0},{"$f":"+'Monthly Values'!AP33","v":0},{"$f":"+'Monthly Values'!AQ33","v":0},{"$f":"+'Monthly Values'!AR33","v":0},{"$f":"+'Monthly Values'!AS33","v":0},{"$f":"+'Monthly Values'!AT33","v":0},{"$f":"+'Monthly Values'!AU33","v":0},{"$f":"+'Monthly Values'!AV33","v":0},{"$f":"+'Monthly Values'!AW33","v":0},{"$f":"+'Monthly Values'!AX33","v":0},{"$f":"+'Monthly Values'!AY33","v":0},{"$f":"+'Monthly Values'!AZ33","v":0},{"$f":"+'Monthly Values'!BA33","v":0},{"$f":"+'Monthly Values'!BB33","v":0},{"$f":"+'Monthly Values'!BC33","v":0},{"$f":"+'Monthly Values'!BD33","v":0},{"$f":"+'Monthly Values'!BE33","v":0},{"$f":"+'Monthly Values'!BF33","v":0},{"$f":"+'Monthly Values'!BG33","v":0},{"$f":"+'Monthly Values'!BH33","v":0},{"$f":"+'Monthly Values'!BI33","v":0},{"$f":"+'Monthly Values'!BJ33","v":0},{"$f":"+'Monthly Values'!BK33","v":0},{"$f":"+'Monthly Values'!BL33","v":0},{"$f":"+'Monthly Values'!BM33","v":0},{"$f":"+'Monthly Values'!BN33","v":0},{"$f":"+'Monthly Values'!BO33","v":0},{"$f":"+'Monthly Values'!BP33","v":0},{"$f":"+'Monthly Values'!BQ33","v":0},{"$f":"+'Monthly Values'!BR33","v":0},{"$f":"+'Monthly Values'!BS33","v":0},{"$f":"+'Monthly Values'!BT33","v":0},{"$f":"+'Monthly Values'!BU33","v":0},{"$f":"+'Monthly Values'!BV33","v":0},{"$f":"+'Monthly Values'!BW33","v":0},{"$f":"+'Monthly Values'!BX33","v":0},{"$f":"+'Monthly Values'!BY33","v":0},{"$f":"+'Monthly Values'!BZ33","v":0},{"$f":"+'Monthly Values'!CA33","v":0},{"$f":"+'Monthly Values'!CB33","v":0},{"$f":"+'Monthly Values'!CC33","v":0},{"$f":"+'Monthly Values'!CD33","v":0},{"$f":"+'Monthly Values'!CE33","v":0},{"$f":"+'Monthly Values'!CF33","v":0},{"$f":"+'Monthly Values'!CG33","v":0},{"$f":"+'Monthly Values'!CH33","v":0},{"$f":"+'Monthly Values'!CI33","v":0},{"$f":"+'Monthly Values'!CJ33","v":0},{"$f":"+'Monthly Values'!CK33","v":0},{"$f":"+'Monthly Values'!CL33","v":0},{"$f":"+'Monthly Values'!CM33","v":0},{"$f":"+'Monthly Values'!CN33","v":0},{"$f":"+'Monthly Values'!CO33","v":0},{"$f":"+'Monthly Values'!CP33","v":0},{"$f":"+'Monthly Values'!CQ33","v":0},{"$f":"+'Monthly Values'!CR33","v":0},{"$f":"+'Monthly Values'!CS33","v":0},{"$f":"+'Monthly Values'!CT33","v":0},{"$f":"+'Monthly Values'!CU33","v":0},{"$f":"+'Monthly Values'!CV33","v":0},{"$f":"+'Monthly Values'!CW33","v":0},{"$f":"+'Monthly Values'!CX33","v":0},{"$f":"+'Monthly Values'!CY33","v":0},{"$f":"+'Monthly Values'!CZ33","v":0},{"$f":"+'Monthly Values'!DA33","v":0},{"$f":"+'Monthly Values'!DB33","v":0},{"$f":"+'Monthly Values'!DC33","v":0},{"$f":"+'Monthly Values'!DD33","v":0},{"$f":"+'Monthly Values'!DE33","v":0},{"$f":"+'Monthly Values'!DF33","v":0},{"$f":"+'Monthly Values'!DG33","v":0},{"$f":"+'Monthly Values'!DH33","v":0},{"$f":"+'Monthly Values'!DI33","v":0},{"$f":"+'Monthly Values'!DJ33","v":0},{"$f":"+'Monthly Values'!DK33","v":0},{"$f":"+'Monthly Values'!DL33","v":0},{"$f":"+'Monthly Values'!DM33","v":0},{"$f":"+'Monthly Values'!DN33","v":0},{"$f":"+'Monthly Values'!DO33","v":0},{"$f":"+'Monthly Values'!DP33","v":0},{"$f":"+'Monthly Values'!DQ33","v":0},{"$f":"+'Monthly Values'!DR33","v":0},{"$f":"+'Monthly Values'!DS33","v":0}]
[null,"2021-06-01",null,null,null,null,null,null,null,null,null,null,null,3,{"$f":"IF('Account Setup'!E23<>\"Select From Dropdown\",'Account Setup'!E23,\"\")","v":""},{"$f":"IF('Account Setup'!F23<>0,'Account Setup'!F23,\"\")","v":""},"",null,null,"Real Estate",{"$f":"+'Monthly Values'!D44","v":0},{"$f":"+'Monthly Values'!E44","v":0},{"$f":"+'Monthly Values'!F44","v":0},{"$f":"+'Monthly Values'!G44","v":0},{"$f":"+'Monthly Values'!H44","v":0},{"$f":"+'Monthly Values'!I44","v":0},{"$f":"+'Monthly Values'!J44","v":0},{"$f":"+'Monthly Values'!K44","v":0},{"$f":"+'Monthly Values'!L44","v":0},{"$f":"+'Monthly Values'!M44","v":0},{"$f":"+'Monthly Values'!N44","v":0},{"$f":"+'Monthly Values'!O44","v":0},{"$f":"+'Monthly Values'!P44","v":0},{"$f":"+'Monthly Values'!Q44","v":0},{"$f":"+'Monthly Values'!R44","v":0},{"$f":"+'Monthly Values'!S44","v":0},{"$f":"+'Monthly Values'!T44","v":0},{"$f":"+'Monthly Values'!U44","v":0},{"$f":"+'Monthly Values'!V44","v":0},{"$f":"+'Monthly Values'!W44","v":0},{"$f":"+'Monthly Values'!X44","v":0},{"$f":"+'Monthly Values'!Y44","v":0},{"$f":"+'Monthly Values'!Z44","v":0},{"$f":"+'Monthly Values'!AA44","v":0},{"$f":"+'Monthly Values'!AB44","v":0},{"$f":"+'Monthly Values'!AC44","v":0},{"$f":"+'Monthly Values'!AD44","v":0},{"$f":"+'Monthly Values'!AE44","v":0},{"$f":"+'Monthly Values'!AF44","v":0},{"$f":"+'Monthly Values'!AG44","v":0},{"$f":"+'Monthly Values'!AH44","v":0},{"$f":"+'Monthly Values'!AI44","v":0},{"$f":"+'Monthly Values'!AJ44","v":0},{"$f":"+'Monthly Values'!AK44","v":0},{"$f":"+'Monthly Values'!AL44","v":0},{"$f":"+'Monthly Values'!AM44","v":0},{"$f":"+'Monthly Values'!AN44","v":0},{"$f":"+'Monthly Values'!AO44","v":0},{"$f":"+'Monthly Values'!AP44","v":0},{"$f":"+'Monthly Values'!AQ44","v":0},{"$f":"+'Monthly Values'!AR44","v":0},{"$f":"+'Monthly Values'!AS44","v":0},{"$f":"+'Monthly Values'!AT44","v":0},{"$f":"+'Monthly Values'!AU44","v":0},{"$f":"+'Monthly Values'!AV44","v":0},{"$f":"+'Monthly Values'!AW44","v":0},{"$f":"+'Monthly Values'!AX44","v":0},{"$f":"+'Monthly Values'!AY44","v":0},{"$f":"+'Monthly Values'!AZ44","v":0},{"$f":"+'Monthly Values'!BA44","v":0},{"$f":"+'Monthly Values'!BB44","v":0},{"$f":"+'Monthly Values'!BC44","v":0},{"$f":"+'Monthly Values'!BD44","v":0},{"$f":"+'Monthly Values'!BE44","v":0},{"$f":"+'Monthly Values'!BF44","v":0},{"$f":"+'Monthly Values'!BG44","v":0},{"$f":"+'Monthly Values'!BH44","v":0},{"$f":"+'Monthly Values'!BI44","v":0},{"$f":"+'Monthly Values'!BJ44","v":0},{"$f":"+'Monthly Values'!BK44","v":0},{"$f":"+'Monthly Values'!BL44","v":0},{"$f":"+'Monthly Values'!BM44","v":0},{"$f":"+'Monthly Values'!BN44","v":0},{"$f":"+'Monthly Values'!BO44","v":0},{"$f":"+'Monthly Values'!BP44","v":0},{"$f":"+'Monthly Values'!BQ44","v":0},{"$f":"+'Monthly Values'!BR44","v":0},{"$f":"+'Monthly Values'!BS44","v":0},{"$f":"+'Monthly Values'!BT44","v":0},{"$f":"+'Monthly Values'!BU44","v":0},{"$f":"+'Monthly Values'!BV44","v":0},{"$f":"+'Monthly Values'!BW44","v":0},{"$f":"+'Monthly Values'!BX44","v":0},{"$f":"+'Monthly Values'!BY44","v":0},{"$f":"+'Monthly Values'!BZ44","v":0},{"$f":"+'Monthly Values'!CA44","v":0},{"$f":"+'Monthly Values'!CB44","v":0},{"$f":"+'Monthly Values'!CC44","v":0},{"$f":"+'Monthly Values'!CD44","v":0},{"$f":"+'Monthly Values'!CE44","v":0},{"$f":"+'Monthly Values'!CF44","v":0},{"$f":"+'Monthly Values'!CG44","v":0},{"$f":"+'Monthly Values'!CH44","v":0},{"$f":"+'Monthly Values'!CI44","v":0},{"$f":"+'Monthly Values'!CJ44","v":0},{"$f":"+'Monthly Values'!CK44","v":0},{"$f":"+'Monthly Values'!CL44","v":0},{"$f":"+'Monthly Values'!CM44","v":0},{"$f":"+'Monthly Values'!CN44","v":0},{"$f":"+'Monthly Values'!CO44","v":0},{"$f":"+'Monthly Values'!CP44","v":0},{"$f":"+'Monthly Values'!CQ44","v":0},{"$f":"+'Monthly Values'!CR44","v":0},{"$f":"+'Monthly Values'!CS44","v":0},{"$f":"+'Monthly Values'!CT44","v":0},{"$f":"+'Monthly Values'!CU44","v":0},{"$f":"+'Monthly Values'!CV44","v":0},{"$f":"+'Monthly Values'!CW44","v":0},{"$f":"+'Monthly Values'!CX44","v":0},{"$f":"+'Monthly Values'!CY44","v":0},{"$f":"+'Monthly Values'!CZ44","v":0},{"$f":"+'Monthly Values'!DA44","v":0},{"$f":"+'Monthly Values'!DB44","v":0},{"$f":"+'Monthly Values'!DC44","v":0},{"$f":"+'Monthly Values'!DD44","v":0},{"$f":"+'Monthly Values'!DE44","v":0},{"$f":"+'Monthly Values'!DF44","v":0},{"$f":"+'Monthly Values'!DG44","v":0},{"$f":"+'Monthly Values'!DH44","v":0},{"$f":"+'Monthly Values'!DI44","v":0},{"$f":"+'Monthly Values'!DJ44","v":0},{"$f":"+'Monthly Values'!DK44","v":0},{"$f":"+'Monthly Values'!DL44","v":0},{"$f":"+'Monthly Values'!DM44","v":0},{"$f":"+'Monthly Values'!DN44","v":0},{"$f":"+'Monthly Values'!DO44","v":0},{"$f":"+'Monthly Values'!DP44","v":0},{"$f":"+'Monthly Values'!DQ44","v":0},{"$f":"+'Monthly Values'!DR44","v":0},{"$f":"+'Monthly Values'!DS44","v":0}]
[null,"2021-07-01",null,null,null,null,null,"Grey Asset/Liability Header used through out spreadsheet",null,null,null,null,null,4,{"$f":"IF('Account Setup'!E24<>\"Select From Dropdown\",'Account Setup'!E24,\"\")","v":""},{"$f":"IF('Account Setup'!F24<>0,'Account Setup'!F24,\"\")","v":""},"",null,null,"Corporate Assets",{"$f":"+'Monthly Values'!D52","v":0},{"$f":"+'Monthly Values'!E52","v":0},{"$f":"+'Monthly Values'!F52","v":0},{"$f":"+'Monthly Values'!G52","v":0},{"$f":"+'Monthly Values'!H52","v":0},{"$f":"+'Monthly Values'!I52","v":0},{"$f":"+'Monthly Values'!J52","v":0},{"$f":"+'Monthly Values'!K52","v":0},{"$f":"+'Monthly Values'!L52","v":0},{"$f":"+'Monthly Values'!M52","v":0},{"$f":"+'Monthly Values'!N52","v":0},{"$f":"+'Monthly Values'!O52","v":0},{"$f":"+'Monthly Values'!P52","v":0},{"$f":"+'Monthly Values'!Q52","v":0},{"$f":"+'Monthly Values'!R52","v":0},{"$f":"+'Monthly Values'!S52","v":0},{"$f":"+'Monthly Values'!T52","v":0},{"$f":"+'Monthly Values'!U52","v":0},{"$f":"+'Monthly Values'!V52","v":0},{"$f":"+'Monthly Values'!W52","v":0},{"$f":"+'Monthly Values'!X52","v":0},{"$f":"+'Monthly Values'!Y52","v":0},{"$f":"+'Monthly Values'!Z52","v":0},{"$f":"+'Monthly Values'!AA52","v":0},{"$f":"+'Monthly Values'!AB52","v":0},{"$f":"+'Monthly Values'!AC52","v":0},{"$f":"+'Monthly Values'!AD52","v":0},{"$f":"+'Monthly Values'!AE52","v":0},{"$f":"+'Monthly Values'!AF52","v":0},{"$f":"+'Monthly Values'!AG52","v":0},{"$f":"+'Monthly Values'!AH52","v":0},{"$f":"+'Monthly Values'!AI52","v":0},{"$f":"+'Monthly Values'!AJ52","v":0},{"$f":"+'Monthly Values'!AK52","v":0},{"$f":"+'Monthly Values'!AL52","v":0},{"$f":"+'Monthly Values'!AM52","v":0},{"$f":"+'Monthly Values'!AN52","v":0},{"$f":"+'Monthly Values'!AO52","v":0},{"$f":"+'Monthly Values'!AP52","v":0},{"$f":"+'Monthly Values'!AQ52","v":0},{"$f":"+'Monthly Values'!AR52","v":0},{"$f":"+'Monthly Values'!AS52","v":0},{"$f":"+'Monthly Values'!AT52","v":0},{"$f":"+'Monthly Values'!AU52","v":0},{"$f":"+'Monthly Values'!AV52","v":0},{"$f":"+'Monthly Values'!AW52","v":0},{"$f":"+'Monthly Values'!AX52","v":0},{"$f":"+'Monthly Values'!AY52","v":0},{"$f":"+'Monthly Values'!AZ52","v":0},{"$f":"+'Monthly Values'!BA52","v":0},{"$f":"+'Monthly Values'!BB52","v":0},{"$f":"+'Monthly Values'!BC52","v":0},{"$f":"+'Monthly Values'!BD52","v":0},{"$f":"+'Monthly Values'!BE52","v":0},{"$f":"+'Monthly Values'!BF52","v":0},{"$f":"+'Monthly Values'!BG52","v":0},{"$f":"+'Monthly Values'!BH52","v":0},{"$f":"+'Monthly Values'!BI52","v":0},{"$f":"+'Monthly Values'!BJ52","v":0},{"$f":"+'Monthly Values'!BK52","v":0},{"$f":"+'Monthly Values'!BL52","v":0},{"$f":"+'Monthly Values'!BM52","v":0},{"$f":"+'Monthly Values'!BN52","v":0},{"$f":"+'Monthly Values'!BO52","v":0},{"$f":"+'Monthly Values'!BP52","v":0},{"$f":"+'Monthly Values'!BQ52","v":0},{"$f":"+'Monthly Values'!BR52","v":0},{"$f":"+'Monthly Values'!BS52","v":0},{"$f":"+'Monthly Values'!BT52","v":0},{"$f":"+'Monthly Values'!BU52","v":0},{"$f":"+'Monthly Values'!BV52","v":0},{"$f":"+'Monthly Values'!BW52","v":0},{"$f":"+'Monthly Values'!BX52","v":0},{"$f":"+'Monthly Values'!BY52","v":0},{"$f":"+'Monthly Values'!BZ52","v":0},{"$f":"+'Monthly Values'!CA52","v":0},{"$f":"+'Monthly Values'!CB52","v":0},{"$f":"+'Monthly Values'!CC52","v":0},{"$f":"+'Monthly Values'!CD52","v":0},{"$f":"+'Monthly Values'!CE52","v":0},{"$f":"+'Monthly Values'!CF52","v":0},{"$f":"+'Monthly Values'!CG52","v":0},{"$f":"+'Monthly Values'!CH52","v":0},{"$f":"+'Monthly Values'!CI52","v":0},{"$f":"+'Monthly Values'!CJ52","v":0},{"$f":"+'Monthly Values'!CK52","v":0},{"$f":"+'Monthly Values'!CL52","v":0},{"$f":"+'Monthly Values'!CM52","v":0},{"$f":"+'Monthly Values'!CN52","v":0},{"$f":"+'Monthly Values'!CO52","v":0},{"$f":"+'Monthly Values'!CP52","v":0},{"$f":"+'Monthly Values'!CQ52","v":0},{"$f":"+'Monthly Values'!CR52","v":0},{"$f":"+'Monthly Values'!CS52","v":0},{"$f":"+'Monthly Values'!CT52","v":0},{"$f":"+'Monthly Values'!CU52","v":0},{"$f":"+'Monthly Values'!CV52","v":0},{"$f":"+'Monthly Values'!CW52","v":0},{"$f":"+'Monthly Values'!CX52","v":0},{"$f":"+'Monthly Values'!CY52","v":0},{"$f":"+'Monthly Values'!CZ52","v":0},{"$f":"+'Monthly Values'!DA52","v":0},{"$f":"+'Monthly Values'!DB52","v":0},{"$f":"+'Monthly Values'!DC52","v":0},{"$f":"+'Monthly Values'!DD52","v":0},{"$f":"+'Monthly Values'!DE52","v":0},{"$f":"+'Monthly Values'!DF52","v":0},{"$f":"+'Monthly Values'!DG52","v":0},{"$f":"+'Monthly Values'!DH52","v":0},{"$f":"+'Monthly Values'!DI52","v":0},{"$f":"+'Monthly Values'!DJ52","v":0},{"$f":"+'Monthly Values'!DK52","v":0},{"$f":"+'Monthly Values'!DL52","v":0},{"$f":"+'Monthly Values'!DM52","v":0},{"$f":"+'Monthly Values'!DN52","v":0},{"$f":"+'Monthly Values'!DO52","v":0},{"$f":"+'Monthly Values'!DP52","v":0},{"$f":"+'Monthly Values'!DQ52","v":0},{"$f":"+'Monthly Values'!DR52","v":0},{"$f":"+'Monthly Values'!DS52","v":0}]
[null,"2021-08-01",null,null,null,null,null,null,null,null,null,null,null,5,{"$f":"IF('Account Setup'!E25<>\"Select From Dropdown\",'Account Setup'!E25,\"\")","v":""},{"$f":"IF('Account Setup'!F25<>0,'Account Setup'!F25,\"\")","v":""},"",null,null,"Liabilities",{"$f":"+'Monthly Values'!D71","v":0},{"$f":"+'Monthly Values'!E71","v":0},{"$f":"+'Monthly Values'!F71","v":0},{"$f":"+'Monthly Values'!G71","v":0},{"$f":"+'Monthly Values'!H71","v":0},{"$f":"+'Monthly Values'!I71","v":0},{"$f":"+'Monthly Values'!J71","v":0},{"$f":"+'Monthly Values'!K71","v":0},{"$f":"+'Monthly Values'!L71","v":0},{"$f":"+'Monthly Values'!M71","v":0},{"$f":"+'Monthly Values'!N71","v":0},{"$f":"+'Monthly Values'!O71","v":0},{"$f":"+'Monthly Values'!P71","v":0},{"$f":"+'Monthly Values'!Q71","v":0},{"$f":"+'Monthly Values'!R71","v":0},{"$f":"+'Monthly Values'!S71","v":0},{"$f":"+'Monthly Values'!T71","v":0},{"$f":"+'Monthly Values'!U71","v":0},{"$f":"+'Monthly Values'!V71","v":0},{"$f":"+'Monthly Values'!W71","v":0},{"$f":"+'Monthly Values'!X71","v":0},{"$f":"+'Monthly Values'!Y71","v":0},{"$f":"+'Monthly Values'!Z71","v":0},{"$f":"+'Monthly Values'!AA71","v":0},{"$f":"+'Monthly Values'!AB71","v":0},{"$f":"+'Monthly Values'!AC71","v":0},{"$f":"+'Monthly Values'!AD71","v":0},{"$f":"+'Monthly Values'!AE71","v":0},{"$f":"+'Monthly Values'!AF71","v":0},{"$f":"+'Monthly Values'!AG71","v":0},{"$f":"+'Monthly Values'!AH71","v":0},{"$f":"+'Monthly Values'!AI71","v":0},{"$f":"+'Monthly Values'!AJ71","v":0},{"$f":"+'Monthly Values'!AK71","v":0},{"$f":"+'Monthly Values'!AL71","v":0},{"$f":"+'Monthly Values'!AM71","v":0},{"$f":"+'Monthly Values'!AN71","v":0},{"$f":"+'Monthly Values'!AO71","v":0},{"$f":"+'Monthly Values'!AP71","v":0},{"$f":"+'Monthly Values'!AQ71","v":0},{"$f":"+'Monthly Values'!AR71","v":0},{"$f":"+'Monthly Values'!AS71","v":0},{"$f":"+'Monthly Values'!AT71","v":0},{"$f":"+'Monthly Values'!AU71","v":0},{"$f":"+'Monthly Values'!AV71","v":0},{"$f":"+'Monthly Values'!AW71","v":0},{"$f":"+'Monthly Values'!AX71","v":0},{"$f":"+'Monthly Values'!AY71","v":0},{"$f":"+'Monthly Values'!AZ71","v":0},{"$f":"+'Monthly Values'!BA71","v":0},{"$f":"+'Monthly Values'!BB71","v":0},{"$f":"+'Monthly Values'!BC71","v":0},{"$f":"+'Monthly Values'!BD71","v":0},{"$f":"+'Monthly Values'!BE71","v":0},{"$f":"+'Monthly Values'!BF71","v":0},{"$f":"+'Monthly Values'!BG71","v":0},{"$f":"+'Monthly Values'!BH71","v":0},{"$f":"+'Monthly Values'!BI71","v":0},{"$f":"+'Monthly Values'!BJ71","v":0},{"$f":"+'Monthly Values'!BK71","v":0},{"$f":"+'Monthly Values'!BL71","v":0},{"$f":"+'Monthly Values'!BM71","v":0},{"$f":"+'Monthly Values'!BN71","v":0},{"$f":"+'Monthly Values'!BO71","v":0},{"$f":"+'Monthly Values'!BP71","v":0},{"$f":"+'Monthly Values'!BQ71","v":0},{"$f":"+'Monthly Values'!BR71","v":0},{"$f":"+'Monthly Values'!BS71","v":0},{"$f":"+'Monthly Values'!BT71","v":0},{"$f":"+'Monthly Values'!BU71","v":0},{"$f":"+'Monthly Values'!BV71","v":0},{"$f":"+'Monthly Values'!BW71","v":0},{"$f":"+'Monthly Values'!BX71","v":0},{"$f":"+'Monthly Values'!BY71","v":0},{"$f":"+'Monthly Values'!BZ71","v":0},{"$f":"+'Monthly Values'!CA71","v":0},{"$f":"+'Monthly Values'!CB71","v":0},{"$f":"+'Monthly Values'!CC71","v":0},{"$f":"+'Monthly Values'!CD71","v":0},{"$f":"+'Monthly Values'!CE71","v":0},{"$f":"+'Monthly Values'!CF71","v":0},{"$f":"+'Monthly Values'!CG71","v":0},{"$f":"+'Monthly Values'!CH71","v":0},{"$f":"+'Monthly Values'!CI71","v":0},{"$f":"+'Monthly Values'!CJ71","v":0},{"$f":"+'Monthly Values'!CK71","v":0},{"$f":"+'Monthly Values'!CL71","v":0},{"$f":"+'Monthly Values'!CM71","v":0},{"$f":"+'Monthly Values'!CN71","v":0},{"$f":"+'Monthly Values'!CO71","v":0},{"$f":"+'Monthly Values'!CP71","v":0},{"$f":"+'Monthly Values'!CQ71","v":0},{"$f":"+'Monthly Values'!CR71","v":0},{"$f":"+'Monthly Values'!CS71","v":0},{"$f":"+'Monthly Values'!CT71","v":0},{"$f":"+'Monthly Values'!CU71","v":0},{"$f":"+'Monthly Values'!CV71","v":0},{"$f":"+'Monthly Values'!CW71","v":0},{"$f":"+'Monthly Values'!CX71","v":0},{"$f":"+'Monthly Values'!CY71","v":0},{"$f":"+'Monthly Values'!CZ71","v":0},{"$f":"+'Monthly Values'!DA71","v":0},{"$f":"+'Monthly Values'!DB71","v":0},{"$f":"+'Monthly Values'!DC71","v":0},{"$f":"+'Monthly Values'!DD71","v":0},{"$f":"+'Monthly Values'!DE71","v":0},{"$f":"+'Monthly Values'!DF71","v":0},{"$f":"+'Monthly Values'!DG71","v":0},{"$f":"+'Monthly Values'!DH71","v":0},{"$f":"+'Monthly Values'!DI71","v":0},{"$f":"+'Monthly Values'!DJ71","v":0},{"$f":"+'Monthly Values'!DK71","v":0},{"$f":"+'Monthly Values'!DL71","v":0},{"$f":"+'Monthly Values'!DM71","v":0},{"$f":"+'Monthly Values'!DN71","v":0},{"$f":"+'Monthly Values'!DO71","v":0},{"$f":"+'Monthly Values'!DP71","v":0},{"$f":"+'Monthly Values'!DQ71","v":0},{"$f":"+'Monthly Values'!DR71","v":0},{"$f":"+'Monthly Values'!DS71","v":0}]
[null,"2021-09-01",null,null,null,null,null,null,null,null,null,null,null,6,{"$f":"IF('Account Setup'!E26<>\"Select From Dropdown\",'Account Setup'!E26,\"\")","v":""},{"$f":"IF('Account Setup'!F26<>0,'Account Setup'!F26,\"\")","v":""},"",null,null,"Net Worth",{"$f":"+'Monthly Values'!D78","v":""},{"$f":"+'Monthly Values'!E78","v":""},{"$f":"+'Monthly Values'!F78","v":""},{"$f":"+'Monthly Values'!G78","v":""},{"$f":"+'Monthly Values'!H78","v":""},{"$f":"+'Monthly Values'!I78","v":""},{"$f":"+'Monthly Values'!J78","v":""},{"$f":"+'Monthly Values'!K78","v":""},{"$f":"+'Monthly Values'!L78","v":""},{"$f":"+'Monthly Values'!M78","v":""},{"$f":"+'Monthly Values'!N78","v":""},{"$f":"+'Monthly Values'!O78","v":""},{"$f":"+'Monthly Values'!P78","v":""},{"$f":"+'Monthly Values'!Q78","v":""},{"$f":"+'Monthly Values'!R78","v":""},{"$f":"+'Monthly Values'!S78","v":""},{"$f":"+'Monthly Values'!T78","v":""},{"$f":"+'Monthly Values'!U78","v":""},{"$f":"+'Monthly Values'!V78","v":""},{"$f":"+'Monthly Values'!W78","v":""},{"$f":"+'Monthly Values'!X78","v":""},{"$f":"+'Monthly Values'!Y78","v":""},{"$f":"+'Monthly Values'!Z78","v":""},{"$f":"+'Monthly Values'!AA78","v":""},{"$f":"+'Monthly Values'!AB78","v":""},{"$f":"+'Monthly Values'!AC78","v":""},{"$f":"+'Monthly Values'!AD78","v":""},{"$f":"+'Monthly Values'!AE78","v":""},{"$f":"+'Monthly Values'!AF78","v":""},{"$f":"+'Monthly Values'!AG78","v":""},{"$f":"+'Monthly Values'!AH78","v":""},{"$f":"+'Monthly Values'!AI78","v":""},{"$f":"+'Monthly Values'!AJ78","v":""},{"$f":"+'Monthly Values'!AK78","v":""},{"$f":"+'Monthly Values'!AL78","v":""},{"$f":"+'Monthly Values'!AM78","v":""},{"$f":"+'Monthly Values'!AN78","v":""},{"$f":"+'Monthly Values'!AO78","v":""},{"$f":"+'Monthly Values'!AP78","v":""},{"$f":"+'Monthly Values'!AQ78","v":""},{"$f":"+'Monthly Values'!AR78","v":""},{"$f":"+'Monthly Values'!AS78","v":""},{"$f":"+'Monthly Values'!AT78","v":""},{"$f":"+'Monthly Values'!AU78","v":""},{"$f":"+'Monthly Values'!AV78","v":""},{"$f":"+'Monthly Values'!AW78","v":""},{"$f":"+'Monthly Values'!AX78","v":""},{"$f":"+'Monthly Values'!AY78","v":""},{"$f":"+'Monthly Values'!AZ78","v":""},{"$f":"+'Monthly Values'!BA78","v":""},{"$f":"+'Monthly Values'!BB78","v":""},{"$f":"+'Monthly Values'!BC78","v":""},{"$f":"+'Monthly Values'!BD78","v":""},{"$f":"+'Monthly Values'!BE78","v":""},{"$f":"+'Monthly Values'!BF78","v":""},{"$f":"+'Monthly Values'!BG78","v":""},{"$f":"+'Monthly Values'!BH78","v":""},{"$f":"+'Monthly Values'!BI78","v":""},{"$f":"+'Monthly Values'!BJ78","v":""},{"$f":"+'Monthly Values'!BK78","v":""},{"$f":"+'Monthly Values'!BL78","v":""},{"$f":"+'Monthly Values'!BM78","v":""},{"$f":"+'Monthly Values'!BN78","v":""},{"$f":"+'Monthly Values'!BO78","v":""},{"$f":"+'Monthly Values'!BP78","v":""},{"$f":"+'Monthly Values'!BQ78","v":""},{"$f":"+'Monthly Values'!BR78","v":""},{"$f":"+'Monthly Values'!BS78","v":""},{"$f":"+'Monthly Values'!BT78","v":""},{"$f":"+'Monthly Values'!BU78","v":""},{"$f":"+'Monthly Values'!BV78","v":""},{"$f":"+'Monthly Values'!BW78","v":""},{"$f":"+'Monthly Values'!BX78","v":""},{"$f":"+'Monthly Values'!BY78","v":""},{"$f":"+'Monthly Values'!BZ78","v":""},{"$f":"+'Monthly Values'!CA78","v":""},{"$f":"+'Monthly Values'!CB78","v":""},{"$f":"+'Monthly Values'!CC78","v":""},{"$f":"+'Monthly Values'!CD78","v":""},{"$f":"+'Monthly Values'!CE78","v":""},{"$f":"+'Monthly Values'!CF78","v":""},{"$f":"+'Monthly Values'!CG78","v":""},{"$f":"+'Monthly Values'!CH78","v":""},{"$f":"+'Monthly Values'!CI78","v":""},{"$f":"+'Monthly Values'!CJ78","v":""},{"$f":"+'Monthly Values'!CK78","v":""},{"$f":"+'Monthly Values'!CL78","v":""},{"$f":"+'Monthly Values'!CM78","v":""},{"$f":"+'Monthly Values'!CN78","v":""},{"$f":"+'Monthly Values'!CO78","v":""},{"$f":"+'Monthly Values'!CP78","v":""},{"$f":"+'Monthly Values'!CQ78","v":""},{"$f":"+'Monthly Values'!CR78","v":""},{"$f":"+'Monthly Values'!CS78","v":""},{"$f":"+'Monthly Values'!CT78","v":""},{"$f":"+'Monthly Values'!CU78","v":""},{"$f":"+'Monthly Values'!CV78","v":""},{"$f":"+'Monthly Values'!CW78","v":""},{"$f":"+'Monthly Values'!CX78","v":""},{"$f":"+'Monthly Values'!CY78","v":""},{"$f":"+'Monthly Values'!CZ78","v":""},{"$f":"+'Monthly Values'!DA78","v":""},{"$f":"+'Monthly Values'!DB78","v":""},{"$f":"+'Monthly Values'!DC78","v":""},{"$f":"+'Monthly Values'!DD78","v":""},{"$f":"+'Monthly Values'!DE78","v":""},{"$f":"+'Monthly Values'!DF78","v":""},{"$f":"+'Monthly Values'!DG78","v":""},{"$f":"+'Monthly Values'!DH78","v":""},{"$f":"+'Monthly Values'!DI78","v":""},{"$f":"+'Monthly Values'!DJ78","v":""},{"$f":"+'Monthly Values'!DK78","v":""},{"$f":"+'Monthly Values'!DL78","v":""},{"$f":"+'Monthly Values'!DM78","v":""},{"$f":"+'Monthly Values'!DN78","v":""},{"$f":"+'Monthly Values'!DO78","v":""},{"$f":"+'Monthly Values'!DP78","v":""},{"$f":"+'Monthly Values'!DQ78","v":""},{"$f":"+'Monthly Values'!DR78","v":""},{"$f":"+'Monthly Values'!DS78","v":""}]
[null,"2021-10-01",null,null,null,null,null,null,null,null,null,null,null,7,{"$f":"IF('Account Setup'!E27<>\"Select From Dropdown\",'Account Setup'!E27,\"\")","v":""},{"$f":"IF('Account Setup'!F27<>0,'Account Setup'!F27,\"\")","v":""},""]
[null,"2021-11-01",null,null,null,null,null,null,null,null,null,null,null,8,{"$f":"IF('Account Setup'!E28<>\"Select From Dropdown\",'Account Setup'!E28,\"\")","v":""},{"$f":"IF('Account Setup'!F28<>0,'Account Setup'!F28,\"\")","v":""},""]
[null,"2021-12-01",null,null,null,null,null,null,null,null,null,null,null,9,{"$f":"IF('Account Setup'!E29<>\"Select From Dropdown\",'Account Setup'!E29,\"\")","v":""},{"$f":"IF('Account Setup'!F29<>0,'Account Setup'!F29,\"\")","v":""},""]
[null,"2022-01-01",null,null,null,null,null,"Blue Subject header and networth value cells used throughout spreadsheet",null,null,null,null,null,10,{"$f":"IF('Account Setup'!E30<>\"Select From Dropdown\",'Account Setup'!E30,\"\")","v":""},{"$f":"IF('Account Setup'!F30<>0,'Account Setup'!F30,\"\")","v":""},""]
[null,"2022-02-01"]
[null,"2022-03-01"]
[null,"2022-04-01"]
[null,"2022-05-01"]
[null,"2022-06-01"]
[null,"2022-07-01"]
[null,"2022-08-01"]
[null,"2022-09-01"]
[null,"2022-10-01"]
[null,"2022-11-01"]
[null,"2022-12-01"]
[null,"2023-01-01"]
[null,"2023-02-01"]
[null,"2023-03-01"]
[null,"2023-04-01"]
[null,"2023-05-01"]
[null,"2023-06-01"]
[null,"2023-07-01"]
[null,"2023-08-01"]
[null,"2023-09-01"]
[null,"2023-10-01"]
[null,"2023-11-01"]
[null,"2023-12-01"]
[null,"2024-01-01"]
[null,"2024-02-01"]
[null,"2024-03-01"]
[null,"2024-04-01"]
[null,"2024-05-01"]
[null,"2024-06-01"]
[null,"2024-07-01"]
[null,"2024-08-01"]
[null,"2024-09-01"]
[null,"2024-10-01"]
[null,"2024-11-01"]
[null,"2024-12-01"]
[null,"2025-01-01"]
[null,"2025-02-01"]
[null,"2025-03-01"]
[null,"2025-04-01"]
[null,"2025-05-01"]
[null,"2025-06-01"]
[null,"2025-07-01"]
[null,"2025-08-01"]
[null,"2025-09-01"]
[null,"2025-10-01"]
[null,"2025-11-01"]
[null,"2025-12-01"]
[null,"2026-01-01"]
[null,"2026-02-01"]
[null,"2026-03-01"]
[null,"2026-04-01"]
[null,"2026-05-01"]
[null,"2026-06-01"]
[null,"2026-07-01"]
[null,"2026-08-01"]
[null,"2026-09-01"]
[null,"2026-10-01"]
[null,"2026-11-01"]
[null,"2026-12-01"]
[null,"2027-01-01"]
[null,"2027-02-01"]
[null,"2027-03-01"]
[null,"2027-04-01"]
[null,"2027-05-01"]
[null,"2027-06-01"]
[null,"2027-07-01"]
[null,"2027-08-01"]
[null,"2027-09-01"]
[null,"2027-10-01"]
[null,"2027-11-01"]
[null,"2027-12-01"]
[null,"2028-01-01"]
[null,"2028-02-01"]
[null,"2028-03-01"]
[null,"2028-04-01"]
[null,"2028-05-01"]
[null,"2028-06-01"]
[null,"2028-07-01"]
[null,"2028-08-01"]
[null,"2028-09-01"]
[null,"2028-10-01"]
[null,"2028-11-01"]
[null,"2028-12-01"]
[null,"2029-01-01"]
[null,"2029-02-01"]
[null,"2029-03-01"]
[null,"2029-04-01"]
[null,"2029-05-01"]
[null,"2029-06-01"]
[null,"2029-07-01"]
[null,"2029-08-01"]
[null,"2029-09-01"]
[null,"2029-10-01"]
[null,"2029-11-01"]
[null,"2029-12-01"]